BEGIN:VCALENDAR
VERSION:2.0
PRODID:-//City of Fort Mitchell KY - ECPv6.15.20//NONSGML v1.0//EN
CALSCALE:GREGORIAN
METHOD:PUBLISH
X-WR-CALNAME:City of Fort Mitchell KY
X-ORIGINAL-URL:https://fortmitchell.com
X-WR-CALDESC:Events for City of Fort Mitchell KY
REFRESH-INTERVAL;VALUE=DURATION:PT1H
X-Robots-Tag:noindex
X-PUBLISHED-TTL:PT1H
BEGIN:VTIMEZONE
TZID:America/New_York
BEGIN:DAYLIGHT
TZOFFSETFROM:-0500
TZOFFSETTO:-0400
TZNAME:EDT
DTSTART:20200308T070000
END:DAYLIGHT
BEGIN:STANDARD
TZOFFSETFROM:-0400
TZOFFSETTO:-0500
TZNAME:EST
DTSTART:20201101T060000
END:STANDARD
BEGIN:DAYLIGHT
TZOFFSETFROM:-0500
TZOFFSETTO:-0400
TZNAME:EDT
DTSTART:20210314T070000
END:DAYLIGHT
BEGIN:STANDARD
TZOFFSETFROM:-0400
TZOFFSETTO:-0500
TZNAME:EST
DTSTART:20211107T060000
END:STANDARD
BEGIN:DAYLIGHT
TZOFFSETFROM:-0500
TZOFFSETTO:-0400
TZNAME:EDT
DTSTART:20220313T070000
END:DAYLIGHT
BEGIN:STANDARD
TZOFFSETFROM:-0400
TZOFFSETTO:-0500
TZNAME:EST
DTSTART:20221106T060000
END:STANDARD
END:VTIMEZONE
BEGIN:VEVENT
DTSTART;VALUE=DATE:20210423
DTEND;VALUE=DATE:20210501
DTSTAMP:20260423T201543
CREATED:20210405T125847Z
LAST-MODIFIED:20210415T194621Z
UID:10000055-1619136000-1619827199@fortmitchell.com
SUMMARY:Cat's Colors Story Walk
DESCRIPTION:The City of Fort Mitchell has partnered with the Kenton County Public Library for a Story Walk. \nWalk through the picture book story “Cat’s Colors” by Airlie Anderson April 23 – April 30\, 2021 along Dixie Highway between Superior Drive and Sunnymede Drive. \nA series of signs include the simple story to read and playful directions to enhance the story while enjoying the outdoors! \n\nAn activity packet that goes along with the book will be emailed to you upon request. \nFor information\, contact jennifer.beach@kentonlibrary.org. \nDetails at kentonlibrary.org/events including how to win a prize!
URL:https://fortmitchell.com/event/cats-colors-story-walk/
LOCATION:Fort Mitchell\, KY\, United States
ATTACH;FMTTYPE=image/png:https://fortmitchell.com/wp-content/uploads/2021/04/Cats-Colors-April-23-30-2021.png
ORGANIZER;CN="Joe Christofield":MAILTO:jchristofield@fortmitchell.com
END:VEVENT
END:VCALENDAR