BEGIN:VCALENDAR
VERSION:2.0
PRODID:-//City of Fort Mitchell KY - ECPv6.15.20//NONSGML v1.0//EN
CALSCALE:GREGORIAN
METHOD:PUBLISH
X-ORIGINAL-URL:https://fortmitchell.com
X-WR-CALDESC:Events for City of Fort Mitchell KY
REFRESH-INTERVAL;VALUE=DURATION:PT1H
X-Robots-Tag:noindex
X-PUBLISHED-TTL:PT1H
BEGIN:VTIMEZONE
TZID:America/New_York
BEGIN:DAYLIGHT
TZOFFSETFROM:-0500
TZOFFSETTO:-0400
TZNAME:EDT
DTSTART:20200308T070000
END:DAYLIGHT
BEGIN:STANDARD
TZOFFSETFROM:-0400
TZOFFSETTO:-0500
TZNAME:EST
DTSTART:20201101T060000
END:STANDARD
BEGIN:DAYLIGHT
TZOFFSETFROM:-0500
TZOFFSETTO:-0400
TZNAME:EDT
DTSTART:20210314T070000
END:DAYLIGHT
BEGIN:STANDARD
TZOFFSETFROM:-0400
TZOFFSETTO:-0500
TZNAME:EST
DTSTART:20211107T060000
END:STANDARD
BEGIN:DAYLIGHT
TZOFFSETFROM:-0500
TZOFFSETTO:-0400
TZNAME:EDT
DTSTART:20220313T070000
END:DAYLIGHT
BEGIN:STANDARD
TZOFFSETFROM:-0400
TZOFFSETTO:-0500
TZNAME:EST
DTSTART:20221106T060000
END:STANDARD
END:VTIMEZONE
BEGIN:VEVENT
DTSTART;TZID=America/New_York:20210703T120000
DTEND;TZID=America/New_York:20210703T140000
DTSTAMP:20260423T173456
CREATED:20210415T142555Z
LAST-MODIFIED:20210617T181942Z
UID:10000001-1625313600-1625320800@fortmitchell.com
SUMMARY:Independence Day Parade
DESCRIPTION:Independence Day ParadeSaturday\, July 3\, 202112:00pmCity of Fort Mitchell\, KY 41017 \nRegister at Independence Day Parade | City of Fort Mitchell KY \nTo volunteer\, contact Programs & Communications Coordinator Joe Christofield at jchristofield@fortmitchell.com
URL:https://fortmitchell.com/event/independence-day-parade/
LOCATION:Fort Mitchell\, KY\, United States
ATTACH;FMTTYPE=image/png:https://fortmitchell.com/wp-content/uploads/2021/04/City-of-Fort-Mitchell-Independence-Day-Parade-Flyer-2021.png
ORGANIZER;CN="Joe Christofield":MAILTO:jchristofield@fortmitchell.com
END:VEVENT
END:VCALENDAR