BEGIN:VCALENDAR
VERSION:2.0
PRODID:-//City of Fort Mitchell KY - ECPv6.15.20//NONSGML v1.0//EN
CALSCALE:GREGORIAN
METHOD:PUBLISH
X-ORIGINAL-URL:https://fortmitchell.com
X-WR-CALDESC:Events for City of Fort Mitchell KY
REFRESH-INTERVAL;VALUE=DURATION:PT1H
X-Robots-Tag:noindex
X-PUBLISHED-TTL:PT1H
BEGIN:VTIMEZONE
TZID:America/New_York
BEGIN:DAYLIGHT
TZOFFSETFROM:-0500
TZOFFSETTO:-0400
TZNAME:EDT
DTSTART:20200308T070000
END:DAYLIGHT
BEGIN:STANDARD
TZOFFSETFROM:-0400
TZOFFSETTO:-0500
TZNAME:EST
DTSTART:20201101T060000
END:STANDARD
BEGIN:DAYLIGHT
TZOFFSETFROM:-0500
TZOFFSETTO:-0400
TZNAME:EDT
DTSTART:20210314T070000
END:DAYLIGHT
BEGIN:STANDARD
TZOFFSETFROM:-0400
TZOFFSETTO:-0500
TZNAME:EST
DTSTART:20211107T060000
END:STANDARD
BEGIN:DAYLIGHT
TZOFFSETFROM:-0500
TZOFFSETTO:-0400
TZNAME:EDT
DTSTART:20220313T070000
END:DAYLIGHT
BEGIN:STANDARD
TZOFFSETFROM:-0400
TZOFFSETTO:-0500
TZNAME:EST
DTSTART:20221106T060000
END:STANDARD
END:VTIMEZONE
BEGIN:VEVENT
DTSTART;TZID=America/New_York:20210731T193000
DTEND;TZID=America/New_York:20210731T213000
DTSTAMP:20260420T111548
CREATED:20210617T182417Z
LAST-MODIFIED:20210722T200141Z
UID:10000167-1627759800-1627767000@fortmitchell.com
SUMMARY:Fort Mitchell Night @ FC Cincinnati
DESCRIPTION:THIS EVENT IS SOLD OUT (as of Thursday\, July 22\, 2021) \nFort Mitchell Night at FC Cincinnati is Saturday\, July 31\, 2021 at 7:30pm at TQL Stadium\, 1501 Central Parkway\, Cincinnati\, OH 45214. \nA limited amount of tickets (50) are available for Fort Mitchell residents. \nCost is $15/ticket ($30 value). Registration and payment required by Friday\, July 23\, 2021 (NO EXCEPTIONS). \nPay online\, by check\, or by cash. \nPay online ($1.50 fee) at https://secure.cpteller.com/terminal/portal/?op=wQb7HmcEG66R (select recreation fees\, MUST PROVIDE EMAIL\, mark “FC Cincinnati Tickets” in the comments box). \nChecks made payable to: City of Fort Mitchell FC Cincinnati Tickets. MUST PROVIDE EMAIL & PHONE #. Drop off check at the city building during business hours (M-F\, 8:00am-4:30pm) or in the drop-box located inside the glass doors at 2355 Dixie Highway\, Fort Mitchell\, KY 41017. \nYour barcoded ticket(s) will be emailed to you once payment is received and registration has closed\, \nCall 859.331.1212 or email jchristofield@fortmitchell.com. \nThank you.
URL:https://fortmitchell.com/event/fort-mitchell-night-fc-cincinnati/
LOCATION:TQL Stadium\, 1501 Central Parkway\, Cincinnati\, OH\, 45214\, United States
ATTACH;FMTTYPE=image/png:https://fortmitchell.com/wp-content/uploads/2021/06/City-of-Fort-Mitchell-FC-Cincinnati-Night-7-31-21-Facebook-2.png
ORGANIZER;CN="Joe Christofield":MAILTO:jchristofield@fortmitchell.com
END:VEVENT
END:VCALENDAR