BEGIN:VCALENDAR
VERSION:2.0
PRODID:-//City of Fort Mitchell KY - ECPv6.15.20//NONSGML v1.0//EN
CALSCALE:GREGORIAN
METHOD:PUBLISH
X-WR-CALNAME:City of Fort Mitchell KY
X-ORIGINAL-URL:https://fortmitchell.com
X-WR-CALDESC:Events for City of Fort Mitchell KY
REFRESH-INTERVAL;VALUE=DURATION:PT1H
X-Robots-Tag:noindex
X-PUBLISHED-TTL:PT1H
BEGIN:VTIMEZONE
TZID:America/New_York
BEGIN:DAYLIGHT
TZOFFSETFROM:-0500
TZOFFSETTO:-0400
TZNAME:EDT
DTSTART:20200308T070000
END:DAYLIGHT
BEGIN:STANDARD
TZOFFSETFROM:-0400
TZOFFSETTO:-0500
TZNAME:EST
DTSTART:20201101T060000
END:STANDARD
BEGIN:DAYLIGHT
TZOFFSETFROM:-0500
TZOFFSETTO:-0400
TZNAME:EDT
DTSTART:20210314T070000
END:DAYLIGHT
BEGIN:STANDARD
TZOFFSETFROM:-0400
TZOFFSETTO:-0500
TZNAME:EST
DTSTART:20211107T060000
END:STANDARD
BEGIN:DAYLIGHT
TZOFFSETFROM:-0500
TZOFFSETTO:-0400
TZNAME:EDT
DTSTART:20220313T070000
END:DAYLIGHT
BEGIN:STANDARD
TZOFFSETFROM:-0400
TZOFFSETTO:-0500
TZNAME:EST
DTSTART:20221106T060000
END:STANDARD
END:VTIMEZONE
BEGIN:VEVENT
DTSTART;TZID=America/New_York:20210814T080000
DTEND;TZID=America/New_York:20210814T090000
DTSTAMP:20260419T230008
CREATED:20210806T184707Z
LAST-MODIFIED:20210806T184736Z
UID:10000012-1628928000-1628931600@fortmitchell.com
SUMMARY:Landscape\, Garden\, and Tree Walk & Talk
DESCRIPTION:A free Landscape\, Garden\, and Tree Walk & Talk with Craig Grabow will be held on Saturday\, August 14\, 2021 from 8:00am – 9:00am\, beginning and ending at the Fort Mitchell City Building\, 2355 Dixie Highway\, Fort Mitchell\, KY 41017.\n\n\n\nGrabow is a local horticulture business owner\, Certified Arborist\, Licensed Lawn Professional\, and is the current president of the City of Fort Mitchell Tree Board. He is also a past treasurer of the Kentucky Arborist Association and a graduate of Beechwood High School and the University of Kentucky.\n\n\n\nDuring the walk and talk session\, walkers will enjoy the great outdoors\, get answers to questions about landscaping\, gardening\, and trees\, and share their passion with others.\n\n\nRecommended items to bring on the walk & talk include questions you may have about plants\, tools\, and other gardening topics. The group will be walking outside so make sure to dress accordingly and be prepared with sunscreen and water.\n\n\n\nRegister for the walk & talk at https://bit.ly/3qYena8.
URL:https://fortmitchell.com/event/17658/
LOCATION:Fort Mitchell\, KY\, United States
ATTACH;FMTTYPE=image/png:https://fortmitchell.com/wp-content/uploads/2021/08/City-of-Fort-Mitchell-Walk-Talk-8-14-21-Facebook.png
ORGANIZER;CN="Joe Christofield":MAILTO:jchristofield@fortmitchell.com
END:VEVENT
END:VCALENDAR