BEGIN:VCALENDAR
VERSION:2.0
PRODID:-//City of Fort Mitchell KY - ECPv6.15.20//NONSGML v1.0//EN
CALSCALE:GREGORIAN
METHOD:PUBLISH
X-WR-CALNAME:City of Fort Mitchell KY
X-ORIGINAL-URL:https://fortmitchell.com
X-WR-CALDESC:Events for City of Fort Mitchell KY
REFRESH-INTERVAL;VALUE=DURATION:PT1H
X-Robots-Tag:noindex
X-PUBLISHED-TTL:PT1H
BEGIN:VTIMEZONE
TZID:America/New_York
BEGIN:DAYLIGHT
TZOFFSETFROM:-0500
TZOFFSETTO:-0400
TZNAME:EDT
DTSTART:20210314T070000
END:DAYLIGHT
BEGIN:STANDARD
TZOFFSETFROM:-0400
TZOFFSETTO:-0500
TZNAME:EST
DTSTART:20211107T060000
END:STANDARD
BEGIN:DAYLIGHT
TZOFFSETFROM:-0500
TZOFFSETTO:-0400
TZNAME:EDT
DTSTART:20220313T070000
END:DAYLIGHT
BEGIN:STANDARD
TZOFFSETFROM:-0400
TZOFFSETTO:-0500
TZNAME:EST
DTSTART:20221106T060000
END:STANDARD
BEGIN:DAYLIGHT
TZOFFSETFROM:-0500
TZOFFSETTO:-0400
TZNAME:EDT
DTSTART:20230312T070000
END:DAYLIGHT
BEGIN:STANDARD
TZOFFSETFROM:-0400
TZOFFSETTO:-0500
TZNAME:EST
DTSTART:20231105T060000
END:STANDARD
END:VTIMEZONE
BEGIN:VEVENT
DTSTART;VALUE=DATE:20220430
DTEND;VALUE=DATE:20220501
DTSTAMP:20260420T012834
CREATED:20220308T201128Z
LAST-MODIFIED:20220308T201128Z
UID:10000235-1651276800-1651363199@fortmitchell.com
SUMMARY:Best Way Large Item Pickup Day
DESCRIPTION:Best Way Large Item Pickup Day\nSaturday\, April 30\nCity of Fort Mitchell \n– This is a city-wide\, one-day collection. \n– Place items at the curb the night prior on Friday. This day is NOT to be used for regular trash disposal. All mattresses and upholstered furniture should be completely wrapped in plastic. \n– EXAMPLES OF LARGE ITEMS COLLECTED: \nFurniture\, large quantities of brush and tree trimmings bundled and cut less than 4 feet\, appliances. \n– EXAMPLES OF LARGE ITEMS NOT COLLECTED: \nBrush or tree limbs if not neatly bundled and cut less than 4 feet\, refrigerators if the Freon hasn’t already been removed\, pianos\, construction debris\, tires. \n– Every year certain items/piles are left uncollected due to various stipulations. If you have questions about particular items\, please confirm with Best Way Disposal at 859.372.4900.
URL:https://fortmitchell.com/event/best-way-large-item-pickup-day/
LOCATION:Fort Mitchell\, KY\, United States
ATTACH;FMTTYPE=image/png:https://fortmitchell.com/wp-content/uploads/2022/03/City-of-Fort-Mitchell-LARGE-Item-Pickup-Day-4-30-22-Facebook.png
ORGANIZER;CN="Joe Christofield":MAILTO:jchristofield@fortmitchell.com
END:VEVENT
BEGIN:VEVENT
DTSTART;TZID=America/New_York:20220430T080000
DTEND;TZID=America/New_York:20220430T120000
DTSTAMP:20260420T012834
CREATED:20220308T200936Z
LAST-MODIFIED:20220314T200754Z
UID:10000234-1651305600-1651320000@fortmitchell.com
SUMMARY:Arbor Day Tree Giveaway
DESCRIPTION:Arbor Day Tree Giveaway\nSaturday\, April 30\n8:00am – 12:00pm\nCity Building Parking lot (Walter Gieske Family Community Garden)\n2355 Dixie Highway\, Fort Mitchell\, KY 41017 \n\nThe Fort Mitchell Tree Board will offer 17 different varieties of native trees to choose from via a drive-through with the option of walking up to the giveaway. Please enter from Dixie Highway and exit on Silver Avenue as this will be one-way during the event.\n\n\n\n\n\nTree varieties include:\n\n\n\nAcer Saccharum (Sugar Maple)\nAronia Melanocarpa (Black Chokeberry)\nAsimina Triloba (Pawpaw)\nBetula Nigra (River Birch)\nCarpinus Caroliniana (American Hornbeam)\nCarya Laciniosa (Shellbark Hickory)\nCercis Canadensis (Redbud)\nDiospyros Virginiana (Persimmon)\nHamamelis Virginiana (Common Witchhazel)\nHypericum Frondosum (St. John’s Wort)\nPinus Taeda (Loblolly Pine)\nQuercus Coccinea (Scarlet Oak)\nRhus Copallina (Flameleaf Black Sumac)\nSambucus Canadensis (Elderberry)\nTaxodium Distichum (Bald Cypress)\nViburnum Dentatum (Arrowwood Viburnum)\nViburnum Opulus Var. Americanum (Highbush Cranberry)\n\n\n\nHelpful hint: When researching trees to find the best fit for your property\, search the Latin name provided to get your information. Searching by the common name will pull up not only the native varieties\, but also different cultivars. Names in addition to the Latin name are cultivars and varieties\, which may have different attributes.
URL:https://fortmitchell.com/event/arbor-day-tree-giveaway/
LOCATION:Fort Mitchell City Building (Parking Lot)\, 2355 Dixie Highway\, Fort Mitchell\, KY 41017\, Fort Mitchell\, KY\, 41017\, United States
ATTACH;FMTTYPE=image/jpeg:https://fortmitchell.com/wp-content/uploads/2022/03/City-of-Fort-Mitchell-Arbor-Day-Tree-Giveaway-4-30-22-Facebook-Cover-scaled.jpeg
ORGANIZER;CN="Joe Christofield":MAILTO:jchristofield@fortmitchell.com
END:VEVENT
END:VCALENDAR