BEGIN:VCALENDAR
VERSION:2.0
PRODID:-//City of Fort Mitchell KY - ECPv6.15.20//NONSGML v1.0//EN
CALSCALE:GREGORIAN
METHOD:PUBLISH
X-ORIGINAL-URL:https://fortmitchell.com
X-WR-CALDESC:Events for City of Fort Mitchell KY
REFRESH-INTERVAL;VALUE=DURATION:PT1H
X-Robots-Tag:noindex
X-PUBLISHED-TTL:PT1H
BEGIN:VTIMEZONE
TZID:America/New_York
BEGIN:DAYLIGHT
TZOFFSETFROM:-0500
TZOFFSETTO:-0400
TZNAME:EDT
DTSTART:20210314T070000
END:DAYLIGHT
BEGIN:STANDARD
TZOFFSETFROM:-0400
TZOFFSETTO:-0500
TZNAME:EST
DTSTART:20211107T060000
END:STANDARD
BEGIN:DAYLIGHT
TZOFFSETFROM:-0500
TZOFFSETTO:-0400
TZNAME:EDT
DTSTART:20220313T070000
END:DAYLIGHT
BEGIN:STANDARD
TZOFFSETFROM:-0400
TZOFFSETTO:-0500
TZNAME:EST
DTSTART:20221106T060000
END:STANDARD
BEGIN:DAYLIGHT
TZOFFSETFROM:-0500
TZOFFSETTO:-0400
TZNAME:EDT
DTSTART:20230312T070000
END:DAYLIGHT
BEGIN:STANDARD
TZOFFSETFROM:-0400
TZOFFSETTO:-0500
TZNAME:EST
DTSTART:20231105T060000
END:STANDARD
END:VTIMEZONE
BEGIN:VEVENT
DTSTART;VALUE=DATE:20220503
DTEND;VALUE=DATE:20220521
DTSTAMP:20260421T071237
CREATED:20220310T161353Z
LAST-MODIFIED:20220324T181938Z
UID:10000254-1651536000-1653091199@fortmitchell.com
SUMMARY:Northern Kentucky Senior Games
DESCRIPTION:Northern Kentucky Senior Games \n\nThe 2022 Northern Kentucky Senior Games will be held May 3 – May 20 at various locations across Northern Kentucky. For a registration form\, go to 2022 Northern Kentucky Senior Games. For more information\, contact:\n\n\n \n\n\nNorthern Kentucky Area Development District(859.283.1885)\n\n\n \n\n\nKenton County Parks \n\n\n(859.525.7529)\n\n\n \n\n\nBoone County Parks \n\n\n(859.334.2117)\n\n\n \n\n\nFort Thomas Recreation Department(859.781.1700)
URL:https://fortmitchell.com/event/northern-kentucky-senior-games/
LOCATION:KY
ATTACH;FMTTYPE=image/jpeg:https://fortmitchell.com/wp-content/uploads/2022/03/NKY-Senior-Games-Spring-Flyer-2022.jpg
ORGANIZER;CN="Joe Christofield":MAILTO:jchristofield@fortmitchell.com
END:VEVENT
BEGIN:VEVENT
DTSTART;TZID=America/New_York:20220503T180000
DTEND;TZID=America/New_York:20220503T200000
DTSTAMP:20260421T071237
CREATED:20220502T131311Z
LAST-MODIFIED:20220502T131311Z
UID:10000168-1651600800-1651608000@fortmitchell.com
SUMMARY:Budget\, Audit\, & Finance Committee Meeting
DESCRIPTION:City of Fort Mitchell Budget\, Audit\, & Finance Committee Meeting Agenda 5-3-22
URL:https://fortmitchell.com/event/budget-audit-finance-committee-meeting/
LOCATION:Fort Mitchell City Building (Bill Goetz Administrative Conference Room)\, 2355 Dixie Highway\, Fort Mitchell\, KY 41017\, Fort Mitchell\, KY\, 41017\, United States
ATTACH;FMTTYPE=image/jpeg:https://fortmitchell.com/wp-content/uploads/2022/05/City-of-Fort-Mitchell-Budget-Audit-Finance-Committee-Meeting-Agenda-5-3-22.jpg
ORGANIZER;CN="Joe Christofield":MAILTO:jchristofield@fortmitchell.com
END:VEVENT
BEGIN:VEVENT
DTSTART;TZID=America/New_York:20220503T190000
DTEND;TZID=America/New_York:20220503T210000
DTSTAMP:20260421T071237
CREATED:20220502T131925Z
LAST-MODIFIED:20220502T131925Z
UID:10000170-1651604400-1651611600@fortmitchell.com
SUMMARY:Park Board Meeting
DESCRIPTION:City of Fort Mitchell Park Board Meeting Agenda 05-3-22
URL:https://fortmitchell.com/event/park-board-meeting-9/
LOCATION:Fort Mitchell City Building (Council Chamber)\, 2355 Dixie Highway\, Fort Mitchell\, KY\, 41017\, United States
ATTACH;FMTTYPE=image/jpeg:https://fortmitchell.com/wp-content/uploads/2022/05/City-of-Fort-Mitchell-Park-Board-Meeting-Agenda-05-3-22.jpg
ORGANIZER;CN="Joe Christofield":MAILTO:jchristofield@fortmitchell.com
END:VEVENT
END:VCALENDAR