BEGIN:VCALENDAR
VERSION:2.0
PRODID:-//City of Fort Mitchell KY - ECPv6.15.20//NONSGML v1.0//EN
CALSCALE:GREGORIAN
METHOD:PUBLISH
X-WR-CALNAME:City of Fort Mitchell KY
X-ORIGINAL-URL:https://fortmitchell.com
X-WR-CALDESC:Events for City of Fort Mitchell KY
REFRESH-INTERVAL;VALUE=DURATION:PT1H
X-Robots-Tag:noindex
X-PUBLISHED-TTL:PT1H
BEGIN:VTIMEZONE
TZID:America/New_York
BEGIN:DAYLIGHT
TZOFFSETFROM:-0500
TZOFFSETTO:-0400
TZNAME:EDT
DTSTART:20210314T070000
END:DAYLIGHT
BEGIN:STANDARD
TZOFFSETFROM:-0400
TZOFFSETTO:-0500
TZNAME:EST
DTSTART:20211107T060000
END:STANDARD
BEGIN:DAYLIGHT
TZOFFSETFROM:-0500
TZOFFSETTO:-0400
TZNAME:EDT
DTSTART:20220313T070000
END:DAYLIGHT
BEGIN:STANDARD
TZOFFSETFROM:-0400
TZOFFSETTO:-0500
TZNAME:EST
DTSTART:20221106T060000
END:STANDARD
BEGIN:DAYLIGHT
TZOFFSETFROM:-0500
TZOFFSETTO:-0400
TZNAME:EDT
DTSTART:20230312T070000
END:DAYLIGHT
BEGIN:STANDARD
TZOFFSETFROM:-0400
TZOFFSETTO:-0500
TZNAME:EST
DTSTART:20231105T060000
END:STANDARD
END:VTIMEZONE
BEGIN:VEVENT
DTSTART;TZID=America/New_York:20220615T140000
DTEND;TZID=America/New_York:20220615T153000
DTSTAMP:20260420T223609
CREATED:20220324T195351Z
LAST-MODIFIED:20220418T195510Z
UID:10000160-1655301600-1655307000@fortmitchell.com
SUMMARY:Bingo 4 Seniors 55+
DESCRIPTION:The cities of Fort Mitchell and Lakeside Park will co-host Bingo 4 Seniors 55+ on Wednesday\, June 15 at 2:00pm at the Lakeside Park City Building\, 9 Buttermilk Pike\, Lakeside Park\, KY 41017. Snacks and refreshments will be served\, plus prizes for the winners! This is a free event for residents of Fort Mitchell and Lakeside Park.
URL:https://fortmitchell.com/event/bingo-4-seniors-55-2/
LOCATION:Lakeside Park City Building\, 9 Buttermilk Pike\, Lakeside Park\, KY\, 41017\, United States
ATTACH;FMTTYPE=image/png:https://fortmitchell.com/wp-content/uploads/2022/03/City-of-Fort-Mitchell-Seniors-Bingo-6-15-22-Facebook.png
ORGANIZER;CN="Joe Christofield":MAILTO:jchristofield@fortmitchell.com
END:VEVENT
END:VCALENDAR