BEGIN:VCALENDAR
VERSION:2.0
PRODID:-//City of Fort Mitchell KY - ECPv6.15.20//NONSGML v1.0//EN
CALSCALE:GREGORIAN
METHOD:PUBLISH
X-WR-CALNAME:City of Fort Mitchell KY
X-ORIGINAL-URL:https://fortmitchell.com
X-WR-CALDESC:Events for City of Fort Mitchell KY
REFRESH-INTERVAL;VALUE=DURATION:PT1H
X-Robots-Tag:noindex
X-PUBLISHED-TTL:PT1H
BEGIN:VTIMEZONE
TZID:America/New_York
BEGIN:DAYLIGHT
TZOFFSETFROM:-0500
TZOFFSETTO:-0400
TZNAME:EDT
DTSTART:20210314T070000
END:DAYLIGHT
BEGIN:STANDARD
TZOFFSETFROM:-0400
TZOFFSETTO:-0500
TZNAME:EST
DTSTART:20211107T060000
END:STANDARD
BEGIN:DAYLIGHT
TZOFFSETFROM:-0500
TZOFFSETTO:-0400
TZNAME:EDT
DTSTART:20220313T070000
END:DAYLIGHT
BEGIN:STANDARD
TZOFFSETFROM:-0400
TZOFFSETTO:-0500
TZNAME:EST
DTSTART:20221106T060000
END:STANDARD
BEGIN:DAYLIGHT
TZOFFSETFROM:-0500
TZOFFSETTO:-0400
TZNAME:EDT
DTSTART:20230312T070000
END:DAYLIGHT
BEGIN:STANDARD
TZOFFSETFROM:-0400
TZOFFSETTO:-0500
TZNAME:EST
DTSTART:20231105T060000
END:STANDARD
END:VTIMEZONE
BEGIN:VEVENT
DTSTART;TZID=America/New_York:20220629T080000
DTEND;TZID=America/New_York:20220729T160000
DTSTAMP:20260420T230328
CREATED:20220629T155038Z
LAST-MODIFIED:20220629T155200Z
UID:10000265-1656489600-1659110400@fortmitchell.com
SUMMARY:Wall of Honor Nominations Due July 29
DESCRIPTION:The City of Fort Mitchell Wall of Honor Ceremony will be held on Saturday\, September 10\, 2022 at 10:00am at the city building\, 2355 Dixie Highway\, Fort Mitchell\, KY 41017.\n\n\n\nThe Wall of Honor recognizes and honors individuals who have unselfishly and diligently served the City of Fort Mitchell. Those chosen will have their names engraved on the granite wall in front of the city building.\n\n\n\nDeadline for nominations is Friday\, July 29\, 2022\, by 4:00pm.\n\n\n\nSend nominations and supporting documentation to the following:\n\n\n\nCity of Fort Mitchell\, ATTN: Wall of Honor\n2355 Dixie Highway\nFort Mitchell\, KY 41017\n\n\n\nor to City of Fort Mitchell Programs & Communications Coordinator Joe Christofield at jchristofield@fortmitchell.com\n\n\n\nFor more information\, including the Wall of Honor Nomination Form\, Guidelines\, and Details\, please go to: https://fortmitchell.com/city-administrator/wall-of-honor-3/
URL:https://fortmitchell.com/event/wall-of-honor-nominations-due-july-29/
LOCATION:Fort Mitchell City Building\, 2355 Dixie Highway\, Fort Mitchell\, KY\, 41017\, United States
ATTACH;FMTTYPE=image/jpeg:https://fortmitchell.com/wp-content/uploads/2022/06/Wall-of-Honor-2022.jpg
ORGANIZER;CN="Joe Christofield":MAILTO:jchristofield@fortmitchell.com
END:VEVENT
BEGIN:VEVENT
DTSTART;VALUE=DATE:20220704
DTEND;VALUE=DATE:20220705
DTSTAMP:20260420T230328
CREATED:20220309T131321Z
LAST-MODIFIED:20220628T134423Z
UID:10000238-1656892800-1656979199@fortmitchell.com
SUMMARY:Independence Day (City Building Closed)
DESCRIPTION:The City of Fort Mitchell Offices Will be Closed July 4\, 2022\, in Observance of Independence Day.
URL:https://fortmitchell.com/event/independence-day-holiday-city-building-closed-2/
LOCATION:Fort Mitchell City Building\, 2355 Dixie Highway\, Fort Mitchell\, KY\, 41017\, United States
ATTACH;FMTTYPE=image/png:https://fortmitchell.com/wp-content/uploads/2022/03/City-of-Fort-Mitchell-Offices-Closed-Independence-Day-7-4-22-Facebook.png
ORGANIZER;CN="Joe Christofield":MAILTO:jchristofield@fortmitchell.com
END:VEVENT
BEGIN:VEVENT
DTSTART;TZID=America/New_York:20220704T123000
DTEND;TZID=America/New_York:20220704T153000
DTSTAMP:20260420T230328
CREATED:20220308T201405Z
LAST-MODIFIED:20220627T183642Z
UID:10000236-1656937800-1656948600@fortmitchell.com
SUMMARY:Independence Day Parade (Watch Live Via TBNK)
DESCRIPTION:Independence Day Parade \n\nThe City of Fort Mitchell Independence Day Parade is Monday\, July 4\, 2022\, at 12:30pm.\n\n\n\nTBNK will broadcast the Fort Mitchell Independence Day Parade live from the city building! You can watch on TBNK’s Main Event Channel (Spectrum 200/Altafiber 819)\, the Telecommunications Board of Northern Kentucky Facebook page\, City of Fort Mitchell\, KY Facebook page\, TBNKtoGo at https://link.edgepilot.com/s/3c4155c9/WVhoxZkzjkmF0QX31MoXsg?u=http://www.tbnk.org/ (LIVE feed > Main Event Channel)\, and on TBNK’s ROKU channel at the Main Event Channel link….all LIVE!\n\n\n\nGrand Marshal: Vent Haven Museum\n\n\n\nRoute: The parade will begin at the DCCH Center for Children and Families Fairgrounds (75 Orphanage Rd)\, to Dixie Highway\, to Beechwood Road\, and will end at Beechwood Independent Schools (54 Beechwood Rd). Streets along the parade route will close at 12:00pm\n\n\n\nTheme: “Lend A Helping Hand”\n\n\n\nVolunteer: Contact Programs & Communications Coordinator Joe Christofield at jchristofield@fortmitchell.com
URL:https://fortmitchell.com/event/independence-day-parade-2/
LOCATION:Fort Mitchell\, KY\, United States
ATTACH;FMTTYPE=image/png:https://fortmitchell.com/wp-content/uploads/2022/03/City-of-Fort-Mitchell-Independence-Day-7-4-22-Facebook.png
ORGANIZER;CN="Joe Christofield":MAILTO:jchristofield@fortmitchell.com
END:VEVENT
END:VCALENDAR