BEGIN:VCALENDAR
VERSION:2.0
PRODID:-//City of Fort Mitchell KY - ECPv6.15.20//NONSGML v1.0//EN
CALSCALE:GREGORIAN
METHOD:PUBLISH
X-WR-CALNAME:City of Fort Mitchell KY
X-ORIGINAL-URL:https://fortmitchell.com
X-WR-CALDESC:Events for City of Fort Mitchell KY
REFRESH-INTERVAL;VALUE=DURATION:PT1H
X-Robots-Tag:noindex
X-PUBLISHED-TTL:PT1H
BEGIN:VTIMEZONE
TZID:America/New_York
BEGIN:DAYLIGHT
TZOFFSETFROM:-0500
TZOFFSETTO:-0400
TZNAME:EDT
DTSTART:20210314T070000
END:DAYLIGHT
BEGIN:STANDARD
TZOFFSETFROM:-0400
TZOFFSETTO:-0500
TZNAME:EST
DTSTART:20211107T060000
END:STANDARD
BEGIN:DAYLIGHT
TZOFFSETFROM:-0500
TZOFFSETTO:-0400
TZNAME:EDT
DTSTART:20220313T070000
END:DAYLIGHT
BEGIN:STANDARD
TZOFFSETFROM:-0400
TZOFFSETTO:-0500
TZNAME:EST
DTSTART:20221106T060000
END:STANDARD
BEGIN:DAYLIGHT
TZOFFSETFROM:-0500
TZOFFSETTO:-0400
TZNAME:EDT
DTSTART:20230312T070000
END:DAYLIGHT
BEGIN:STANDARD
TZOFFSETFROM:-0400
TZOFFSETTO:-0500
TZNAME:EST
DTSTART:20231105T060000
END:STANDARD
END:VTIMEZONE
BEGIN:VEVENT
DTSTART;TZID=America/New_York:20220803T190000
DTEND;TZID=America/New_York:20220803T210000
DTSTAMP:20260420T230100
CREATED:20220630T124832Z
LAST-MODIFIED:20220630T124832Z
UID:10000266-1659553200-1659560400@fortmitchell.com
SUMMARY:Shakespeare in the Park (Twelfth Night)
DESCRIPTION:The City of Fort Mitchell\, in conjunction with the Cincinnati Shakespeare Company\, will hold Shakespeare in the Park (Twelfth Night) on Wednesday\, August 3 from 7:00pm – 9:00pm at the DCCH Center for Children and Families Fairgrounds\, 75 Orphanage Road\, Fort Mitchell\, KY 41017. Bring your blankets and chairs and enjoy the free performance! \nTwelfth Night:\nShipwrecks\, love triangles\, and mistaken identities abound in this lively rom-com on an island where everyone is in love with someone – and the wrong person loves them back. Bursting with vitality and romance\, “Twelfth Night” features one of Shakespeare’s most dynamic heroines\, Viola\, matching wits with a host of captivating characters. As Shakespeare comedies go\, “Twelfth Night” is one of the greats; a fun celebration that embraces the silliness of love and is perfect for the whole family! \nFor more information\, go to https://cincyshakes.com/.
URL:https://fortmitchell.com/event/shakespeare-in-the-park-twelfth-night/
LOCATION:DCCH Center Fairgrounds\, 75 Orphanage Road\, Fort Mitchell\, KY\, 41017\, United States
ATTACH;FMTTYPE=image/png:https://fortmitchell.com/wp-content/uploads/2022/06/City-of-Fort-Mitchell-Shakespeare-in-the-Park-8-3-22-Facebook.png
ORGANIZER;CN="Joe Christofield":MAILTO:jchristofield@fortmitchell.com
END:VEVENT
END:VCALENDAR