BEGIN:VCALENDAR
VERSION:2.0
PRODID:-//City of Fort Mitchell KY - ECPv6.15.20//NONSGML v1.0//EN
CALSCALE:GREGORIAN
METHOD:PUBLISH
X-ORIGINAL-URL:https://fortmitchell.com
X-WR-CALDESC:Events for City of Fort Mitchell KY
REFRESH-INTERVAL;VALUE=DURATION:PT1H
X-Robots-Tag:noindex
X-PUBLISHED-TTL:PT1H
BEGIN:VTIMEZONE
TZID:America/New_York
BEGIN:DAYLIGHT
TZOFFSETFROM:-0500
TZOFFSETTO:-0400
TZNAME:EDT
DTSTART:20220313T070000
END:DAYLIGHT
BEGIN:STANDARD
TZOFFSETFROM:-0400
TZOFFSETTO:-0500
TZNAME:EST
DTSTART:20221106T060000
END:STANDARD
BEGIN:DAYLIGHT
TZOFFSETFROM:-0500
TZOFFSETTO:-0400
TZNAME:EDT
DTSTART:20230312T070000
END:DAYLIGHT
BEGIN:STANDARD
TZOFFSETFROM:-0400
TZOFFSETTO:-0500
TZNAME:EST
DTSTART:20231105T060000
END:STANDARD
BEGIN:DAYLIGHT
TZOFFSETFROM:-0500
TZOFFSETTO:-0400
TZNAME:EDT
DTSTART:20240310T070000
END:DAYLIGHT
BEGIN:STANDARD
TZOFFSETFROM:-0400
TZOFFSETTO:-0500
TZNAME:EST
DTSTART:20241103T060000
END:STANDARD
END:VTIMEZONE
BEGIN:VEVENT
DTSTART;VALUE=DATE:20230704
DTEND;VALUE=DATE:20230705
DTSTAMP:20260419T154353
CREATED:20230106T154707Z
LAST-MODIFIED:20230615T135835Z
UID:10000341-1688428800-1688515199@fortmitchell.com
SUMMARY:Independence Day (City Building Closed)
DESCRIPTION:
URL:https://fortmitchell.com/event/independence-day-city-building-closed/
LOCATION:Fort Mitchell City Building\, 2355 Dixie Highway\, Fort Mitchell\, KY\, 41017\, United States
ATTACH;FMTTYPE=image/png:https://fortmitchell.com/wp-content/uploads/2023/01/City-of-Fort-Mitchell-Offices-Closed-Independence-Day-7-4-23-Twitter.png
ORGANIZER;CN="Joe Christofield":MAILTO:jchristofield@fortmitchell.com
END:VEVENT
BEGIN:VEVENT
DTSTART;TZID=America/New_York:20230704T123000
DTEND;TZID=America/New_York:20230704T143000
DTSTAMP:20260419T154353
CREATED:20230118T213632Z
LAST-MODIFIED:20230530T115819Z
UID:10000352-1688473800-1688481000@fortmitchell.com
SUMMARY:Independence Day Parade
DESCRIPTION:
URL:https://fortmitchell.com/event/independence-day-parade-3/
LOCATION:Fort Mitchell\, KY\, United States
ATTACH;FMTTYPE=image/png:https://fortmitchell.com/wp-content/uploads/2023/01/City-of-Fort-Mitchell-Independence-Day-Parade-7-4-23-Facebook-Cover-3.png
END:VEVENT
END:VCALENDAR