BEGIN:VCALENDAR
VERSION:2.0
PRODID:-//City of Fort Mitchell KY - ECPv6.15.20//NONSGML v1.0//EN
CALSCALE:GREGORIAN
METHOD:PUBLISH
X-ORIGINAL-URL:https://fortmitchell.com
X-WR-CALDESC:Events for City of Fort Mitchell KY
REFRESH-INTERVAL;VALUE=DURATION:PT1H
X-Robots-Tag:noindex
X-PUBLISHED-TTL:PT1H
BEGIN:VTIMEZONE
TZID:America/New_York
BEGIN:DAYLIGHT
TZOFFSETFROM:-0500
TZOFFSETTO:-0400
TZNAME:EDT
DTSTART:20220313T070000
END:DAYLIGHT
BEGIN:STANDARD
TZOFFSETFROM:-0400
TZOFFSETTO:-0500
TZNAME:EST
DTSTART:20221106T060000
END:STANDARD
BEGIN:DAYLIGHT
TZOFFSETFROM:-0500
TZOFFSETTO:-0400
TZNAME:EDT
DTSTART:20230312T070000
END:DAYLIGHT
BEGIN:STANDARD
TZOFFSETFROM:-0400
TZOFFSETTO:-0500
TZNAME:EST
DTSTART:20231105T060000
END:STANDARD
BEGIN:DAYLIGHT
TZOFFSETFROM:-0500
TZOFFSETTO:-0400
TZNAME:EDT
DTSTART:20240310T070000
END:DAYLIGHT
BEGIN:STANDARD
TZOFFSETFROM:-0400
TZOFFSETTO:-0500
TZNAME:EST
DTSTART:20241103T060000
END:STANDARD
END:VTIMEZONE
BEGIN:VEVENT
DTSTART;TZID=America/New_York:20230717T120000
DTEND;TZID=America/New_York:20230717T130000
DTSTAMP:20260420T040859
CREATED:20230424T200629Z
LAST-MODIFIED:20230501T152518Z
UID:10000392-1689595200-1689598800@fortmitchell.com
SUMMARY:Fort Mitchell Seniors Group Meeting
DESCRIPTION:
URL:https://fortmitchell.com/event/fort-mitchell-seniors-group-meeting-3/
LOCATION:Blessed Sacrament Church Undercroft\, 2409 Dixie Highway\, Fort Mitchell\, KY\, 41017\, United States
ATTACH;FMTTYPE=image/png:https://fortmitchell.com/wp-content/uploads/2023/04/City-of-Fort-Mitchell-Seniors-Group-2023.png
ORGANIZER;CN="Joe Christofield":MAILTO:jchristofield@fortmitchell.com
END:VEVENT
BEGIN:VEVENT
DTSTART;TZID=America/New_York:20230717T183000
DTEND;TZID=America/New_York:20230717T203000
DTSTAMP:20260420T040859
CREATED:20221227T151452Z
LAST-MODIFIED:20230714T192636Z
UID:10000301-1689618600-1689625800@fortmitchell.com
SUMMARY:City Council Meeting
DESCRIPTION:City of Fort Mitchell Council Meeting Agenda 7-17-23
URL:https://fortmitchell.com/event/city-council-meeting-38/
LOCATION:Fort Mitchell City Building (Council Chamber)\, 2355 Dixie Highway\, Fort Mitchell\, KY\, 41017\, United States
ATTACH;FMTTYPE=image/jpeg:https://fortmitchell.com/wp-content/uploads/2022/12/City-of-Fort-Mitchell-Council-Meeting-Agenda-7-17-23.jpeg
ORGANIZER;CN="Joe Christofield":MAILTO:jchristofield@fortmitchell.com
END:VEVENT
END:VCALENDAR