BEGIN:VCALENDAR
VERSION:2.0
PRODID:-//City of Fort Mitchell KY - ECPv6.15.20//NONSGML v1.0//EN
CALSCALE:GREGORIAN
METHOD:PUBLISH
X-WR-CALNAME:City of Fort Mitchell KY
X-ORIGINAL-URL:https://fortmitchell.com
X-WR-CALDESC:Events for City of Fort Mitchell KY
REFRESH-INTERVAL;VALUE=DURATION:PT1H
X-Robots-Tag:noindex
X-PUBLISHED-TTL:PT1H
BEGIN:VTIMEZONE
TZID:America/New_York
BEGIN:DAYLIGHT
TZOFFSETFROM:-0500
TZOFFSETTO:-0400
TZNAME:EDT
DTSTART:20220313T070000
END:DAYLIGHT
BEGIN:STANDARD
TZOFFSETFROM:-0400
TZOFFSETTO:-0500
TZNAME:EST
DTSTART:20221106T060000
END:STANDARD
BEGIN:DAYLIGHT
TZOFFSETFROM:-0500
TZOFFSETTO:-0400
TZNAME:EDT
DTSTART:20230312T070000
END:DAYLIGHT
BEGIN:STANDARD
TZOFFSETFROM:-0400
TZOFFSETTO:-0500
TZNAME:EST
DTSTART:20231105T060000
END:STANDARD
BEGIN:DAYLIGHT
TZOFFSETFROM:-0500
TZOFFSETTO:-0400
TZNAME:EDT
DTSTART:20240310T070000
END:DAYLIGHT
BEGIN:STANDARD
TZOFFSETFROM:-0400
TZOFFSETTO:-0500
TZNAME:EST
DTSTART:20241103T060000
END:STANDARD
END:VTIMEZONE
BEGIN:VEVENT
DTSTART;VALUE=DATE:20230803
DTEND;VALUE=DATE:20230804
DTSTAMP:20260420T161357
CREATED:20230622T195753Z
LAST-MODIFIED:20230622T195753Z
UID:10000453-1691020800-1691107199@fortmitchell.com
SUMMARY:General Ormsby Mitchel Park Pavilion Reserved
DESCRIPTION:RESERVED
URL:https://fortmitchell.com/event/general-ormsby-mitchel-park-pavilion-reserved-37/
LOCATION:General Ormsby Mitchel Park\, 261 Grandview Drive\, Fort Mitchell\, KY\, 41017\, United States
ATTACH;FMTTYPE=image/png:https://fortmitchell.com/wp-content/uploads/2023/04/City-of-Fort-Mitchell-General-Ormsby-Mitchel-Park-Pavilion-Reserved.png
ORGANIZER;CN="Joe Christofield":MAILTO:jchristofield@fortmitchell.com
END:VEVENT
BEGIN:VEVENT
DTSTART;TZID=America/New_York:20230803T170000
DTEND;TZID=America/New_York:20230803T190000
DTSTAMP:20260420T161357
CREATED:20230725T145520Z
LAST-MODIFIED:20230725T145520Z
UID:10000474-1691082000-1691089200@fortmitchell.com
SUMMARY:Touch-A-Truck
DESCRIPTION:Touch-A-Truck is Thursday\, August 3 from 5:00pm – 7:00pm at the Fort Mitchell City Building (parking lot)\, 2355 Dixie Highway. \nCome see vehicles from the Fort Mitchell Fire Department\, Fort Mitchell Police Department\, Fort Mitchell Public Works Department\, and more! \nFor more information\, email City of Fort Mitchell Programs and Communications Coordinator Joe Christofield at jchristofield@fortmitchell.com or call 859.331.1212.
URL:https://fortmitchell.com/event/touch-a-truck-4/
LOCATION:Fort Mitchell City Building (Parking Lot)\, 2355 Dixie Highway\, Fort Mitchell\, KY 41017\, Fort Mitchell\, KY\, 41017\, United States
ATTACH;FMTTYPE=image/png:https://fortmitchell.com/wp-content/uploads/2023/07/City-of-Fort-Mitchell-Touch-A-Truck-8-3-23-Facebook-Cover.png
ORGANIZER;CN="Joe Christofield":MAILTO:jchristofield@fortmitchell.com
END:VEVENT
BEGIN:VEVENT
DTSTART;TZID=America/New_York:20230803T180000
DTEND;TZID=America/New_York:20230803T190000
DTSTAMP:20260420T161357
CREATED:20230728T173150Z
LAST-MODIFIED:20230728T173249Z
UID:10000482-1691085600-1691089200@fortmitchell.com
SUMMARY:LiveWell Fort Mitchell Produce Popup
DESCRIPTION:
URL:https://fortmitchell.com/event/livewell-produce-popup-3/
LOCATION:Fort Mitchell City Building (Parking Lot)\, 2355 Dixie Highway\, Fort Mitchell\, KY 41017\, Fort Mitchell\, KY\, 41017\, United States
ATTACH;FMTTYPE=image/png:https://fortmitchell.com/wp-content/uploads/2023/07/LiveWell-Fort-Mitchell-Produce-Popup-8-3-23.png
ORGANIZER;CN="Joe Christofield":MAILTO:jchristofield@fortmitchell.com
END:VEVENT
END:VCALENDAR