BEGIN:VCALENDAR
VERSION:2.0
PRODID:-//City of Fort Mitchell KY - ECPv6.15.20//NONSGML v1.0//EN
CALSCALE:GREGORIAN
METHOD:PUBLISH
X-ORIGINAL-URL:https://fortmitchell.com
X-WR-CALDESC:Events for City of Fort Mitchell KY
REFRESH-INTERVAL;VALUE=DURATION:PT1H
X-Robots-Tag:noindex
X-PUBLISHED-TTL:PT1H
BEGIN:VTIMEZONE
TZID:America/New_York
BEGIN:DAYLIGHT
TZOFFSETFROM:-0500
TZOFFSETTO:-0400
TZNAME:EDT
DTSTART:20220313T070000
END:DAYLIGHT
BEGIN:STANDARD
TZOFFSETFROM:-0400
TZOFFSETTO:-0500
TZNAME:EST
DTSTART:20221106T060000
END:STANDARD
BEGIN:DAYLIGHT
TZOFFSETFROM:-0500
TZOFFSETTO:-0400
TZNAME:EDT
DTSTART:20230312T070000
END:DAYLIGHT
BEGIN:STANDARD
TZOFFSETFROM:-0400
TZOFFSETTO:-0500
TZNAME:EST
DTSTART:20231105T060000
END:STANDARD
BEGIN:DAYLIGHT
TZOFFSETFROM:-0500
TZOFFSETTO:-0400
TZNAME:EDT
DTSTART:20240310T070000
END:DAYLIGHT
BEGIN:STANDARD
TZOFFSETFROM:-0400
TZOFFSETTO:-0500
TZNAME:EST
DTSTART:20241103T060000
END:STANDARD
END:VTIMEZONE
BEGIN:VEVENT
DTSTART;VALUE=DATE:20230811
DTEND;VALUE=DATE:20230812
DTSTAMP:20260420T021929
CREATED:20230621T122048Z
LAST-MODIFIED:20230621T122048Z
UID:10000450-1691712000-1691798399@fortmitchell.com
SUMMARY:General Ormsby Mitchel Park Pavilion Reserved
DESCRIPTION:RESERVED
URL:https://fortmitchell.com/event/general-ormsby-mitchel-park-pavilion-reserved-35/
LOCATION:General Ormsby Mitchel Park\, 261 Grandview Drive\, Fort Mitchell\, KY\, 41017\, United States
ATTACH;FMTTYPE=image/png:https://fortmitchell.com/wp-content/uploads/2023/04/City-of-Fort-Mitchell-General-Ormsby-Mitchel-Park-Pavilion-Reserved.png
ORGANIZER;CN="Joe Christofield":MAILTO:jchristofield@fortmitchell.com
END:VEVENT
BEGIN:VEVENT
DTSTART;TZID=America/New_York:20230811T190000
DTEND;TZID=America/New_York:20230811T210000
DTSTAMP:20260420T021929
CREATED:20230621T151813Z
LAST-MODIFIED:20230726T122544Z
UID:10000452-1691780400-1691787600@fortmitchell.com
SUMMARY:Keen Voice Studio Concert
DESCRIPTION:Keen Voice Studio Concert\nFriday\, August 11\, 2023\n7:00pm\nGeneral Ormsby Mitchel Park\n261 Grandview Drive\nFort Mitchell\, KY 41017 \nKeen Voice Studio (music lessons & instruction school in Fort Mitchell) will hold a concert on Friday\, August 11\, 2023 at 7:00pm at General Ormsby Mitchel Park\, 261 Grandview Drive\, Fort Mitchell\, KY 41017. \nBig Blue Shaved Ice will be available for purchase. \nParking will be at General Ormsby Mitchel Park. Additional parking will be at the Fort Mitchell Executive Center/The Drees Company (211 Grandview Drive) and Paul Hemmer Company (226 Grandview Drive). \nFor more information about Keen Voice Studio\, go to https://www.keenvoicestudio.com. \nFor more information\, email City of Fort Mitchell Programs and Communications Coordinator Joe Christofield at jchristofield@fortmitchell.com or call 859.331.1212.
URL:https://fortmitchell.com/event/keen-voice-studio-concert/
LOCATION:General Ormsby Mitchel Park\, 261 Grandview Drive\, Fort Mitchell\, KY\, 41017\, United States
ATTACH;FMTTYPE=image/png:https://fortmitchell.com/wp-content/uploads/2023/06/City-of-Fort-Mitchell-Concert-Keen-Voice-Studio-8-11-23-Facebook-Cover.png
ORGANIZER;CN="Joe Christofield":MAILTO:jchristofield@fortmitchell.com
END:VEVENT
END:VCALENDAR