BEGIN:VCALENDAR
VERSION:2.0
PRODID:-//City of Fort Mitchell KY - ECPv6.15.20//NONSGML v1.0//EN
CALSCALE:GREGORIAN
METHOD:PUBLISH
X-ORIGINAL-URL:https://fortmitchell.com
X-WR-CALDESC:Events for City of Fort Mitchell KY
REFRESH-INTERVAL;VALUE=DURATION:PT1H
X-Robots-Tag:noindex
X-PUBLISHED-TTL:PT1H
BEGIN:VTIMEZONE
TZID:America/New_York
BEGIN:DAYLIGHT
TZOFFSETFROM:-0500
TZOFFSETTO:-0400
TZNAME:EDT
DTSTART:20220313T070000
END:DAYLIGHT
BEGIN:STANDARD
TZOFFSETFROM:-0400
TZOFFSETTO:-0500
TZNAME:EST
DTSTART:20221106T060000
END:STANDARD
BEGIN:DAYLIGHT
TZOFFSETFROM:-0500
TZOFFSETTO:-0400
TZNAME:EDT
DTSTART:20230312T070000
END:DAYLIGHT
BEGIN:STANDARD
TZOFFSETFROM:-0400
TZOFFSETTO:-0500
TZNAME:EST
DTSTART:20231105T060000
END:STANDARD
BEGIN:DAYLIGHT
TZOFFSETFROM:-0500
TZOFFSETTO:-0400
TZNAME:EDT
DTSTART:20240310T070000
END:DAYLIGHT
BEGIN:STANDARD
TZOFFSETFROM:-0400
TZOFFSETTO:-0500
TZNAME:EST
DTSTART:20241103T060000
END:STANDARD
END:VTIMEZONE
BEGIN:VEVENT
DTSTART;TZID=America/New_York:20230918T120000
DTEND;TZID=America/New_York:20230918T130000
DTSTAMP:20260422T191557
CREATED:20230424T200711Z
LAST-MODIFIED:20230501T152624Z
UID:10000394-1695038400-1695042000@fortmitchell.com
SUMMARY:Fort Mitchell Seniors Group Meeting
DESCRIPTION:
URL:https://fortmitchell.com/event/fort-mitchell-seniors-group-meeting-5/
LOCATION:Blessed Sacrament Church Undercroft\, 2409 Dixie Highway\, Fort Mitchell\, KY\, 41017\, United States
ATTACH;FMTTYPE=image/png:https://fortmitchell.com/wp-content/uploads/2023/04/City-of-Fort-Mitchell-Seniors-Group-2023.png
ORGANIZER;CN="Joe Christofield":MAILTO:jchristofield@fortmitchell.com
END:VEVENT
BEGIN:VEVENT
DTSTART;TZID=America/New_York:20230918T173000
DTEND;TZID=America/New_York:20230918T183000
DTSTAMP:20260422T191557
CREATED:20230915T114719Z
LAST-MODIFIED:20230915T114719Z
UID:10000504-1695058200-1695061800@fortmitchell.com
SUMMARY:Safety Committee Meeting
DESCRIPTION:City of Fort Mitchell Safety Committee Meeting Agenda 9-18-23
URL:https://fortmitchell.com/event/safety-committee-meeting-5/
LOCATION:Fort Mitchell City Building (Bill Goetz Administrative Conference Room)\, 2355 Dixie Highway\, Fort Mitchell\, KY 41017\, Fort Mitchell\, KY\, 41017\, United States
ATTACH;FMTTYPE=image/jpeg:https://fortmitchell.com/wp-content/uploads/2023/09/City-of-Fort-Mitchell-Safety-Committee-Meeting-Agenda-9-18-23.jpeg
ORGANIZER;CN="Joe Christofield":MAILTO:jchristofield@fortmitchell.com
END:VEVENT
BEGIN:VEVENT
DTSTART;TZID=America/New_York:20230918T183000
DTEND;TZID=America/New_York:20230918T203000
DTSTAMP:20260422T191557
CREATED:20221227T151702Z
LAST-MODIFIED:20230914T135404Z
UID:10000304-1695061800-1695069000@fortmitchell.com
SUMMARY:City Council Meeting
DESCRIPTION:City of Fort Mitchell Council Meeting Agenda 9-18-23
URL:https://fortmitchell.com/event/city-council-meeting-41/
LOCATION:Fort Mitchell City Building (Council Chamber)\, 2355 Dixie Highway\, Fort Mitchell\, KY\, 41017\, United States
ATTACH;FMTTYPE=image/jpeg:https://fortmitchell.com/wp-content/uploads/2022/12/City-of-Fort-Mitchell-Council-Meeting-Agenda-9-18-23.jpeg
ORGANIZER;CN="Joe Christofield":MAILTO:jchristofield@fortmitchell.com
END:VEVENT
END:VCALENDAR