BEGIN:VCALENDAR
VERSION:2.0
PRODID:-//City of Fort Mitchell KY - ECPv6.15.20//NONSGML v1.0//EN
CALSCALE:GREGORIAN
METHOD:PUBLISH
X-ORIGINAL-URL:https://fortmitchell.com
X-WR-CALDESC:Events for City of Fort Mitchell KY
REFRESH-INTERVAL;VALUE=DURATION:PT1H
X-Robots-Tag:noindex
X-PUBLISHED-TTL:PT1H
BEGIN:VTIMEZONE
TZID:America/New_York
BEGIN:DAYLIGHT
TZOFFSETFROM:-0500
TZOFFSETTO:-0400
TZNAME:EDT
DTSTART:20220313T070000
END:DAYLIGHT
BEGIN:STANDARD
TZOFFSETFROM:-0400
TZOFFSETTO:-0500
TZNAME:EST
DTSTART:20221106T060000
END:STANDARD
BEGIN:DAYLIGHT
TZOFFSETFROM:-0500
TZOFFSETTO:-0400
TZNAME:EDT
DTSTART:20230312T070000
END:DAYLIGHT
BEGIN:STANDARD
TZOFFSETFROM:-0400
TZOFFSETTO:-0500
TZNAME:EST
DTSTART:20231105T060000
END:STANDARD
BEGIN:DAYLIGHT
TZOFFSETFROM:-0500
TZOFFSETTO:-0400
TZNAME:EDT
DTSTART:20240310T070000
END:DAYLIGHT
BEGIN:STANDARD
TZOFFSETFROM:-0400
TZOFFSETTO:-0500
TZNAME:EST
DTSTART:20241103T060000
END:STANDARD
END:VTIMEZONE
BEGIN:VEVENT
DTSTART;VALUE=DATE:20230923
DTEND;VALUE=DATE:20230924
DTSTAMP:20260422T192755
CREATED:20230814T173337Z
LAST-MODIFIED:20230814T173337Z
UID:10000485-1695427200-1695513599@fortmitchell.com
SUMMARY:General Ormsby Mitchel Park Pavilion Reserved
DESCRIPTION:RESERVED
URL:https://fortmitchell.com/event/general-ormsby-mitchel-park-pavilion-reserved-39/
LOCATION:General Ormsby Mitchel Park\, 261 Grandview Drive\, Fort Mitchell\, KY\, 41017\, United States
ATTACH;FMTTYPE=image/png:https://fortmitchell.com/wp-content/uploads/2023/04/City-of-Fort-Mitchell-General-Ormsby-Mitchel-Park-Pavilion-Reserved.png
ORGANIZER;CN="Joe Christofield":MAILTO:jchristofield@fortmitchell.com
END:VEVENT
BEGIN:VEVENT
DTSTART;TZID=America/New_York:20230923T090000
DTEND;TZID=America/New_York:20230923T120000
DTSTAMP:20260422T192755
CREATED:20230908T154820Z
LAST-MODIFIED:20230908T154820Z
UID:10000502-1695459600-1695470400@fortmitchell.com
SUMMARY:CPR Training Class
DESCRIPTION:The Fort Mitchell Fire Department will hold a CPR training class on Saturday\, September 23\, 2023 from 9:00am – 12:00pm at the firehouse\, 2355 Dixie Highway. Class size is limited to 12. Cost is $20 (payable the day of training by cash or check). To register\, email mkaelin@fortmitchell.com.
URL:https://fortmitchell.com/event/cpr-training-class/
LOCATION:Fort Mitchell Firehouse\, 2355 Dixie Highway\, Fort Mitchell\, KY\, 41017
ATTACH;FMTTYPE=image/jpeg:https://fortmitchell.com/wp-content/uploads/2023/09/CPR-Training-9-23-23.jpg
ORGANIZER;CN="Joe Christofield":MAILTO:jchristofield@fortmitchell.com
END:VEVENT
BEGIN:VEVENT
DTSTART;TZID=America/New_York:20230923T100000
DTEND;TZID=America/New_York:20230923T110000
DTSTAMP:20260422T192755
CREATED:20230830T131216Z
LAST-MODIFIED:20230922T120126Z
UID:10000494-1695463200-1695466800@fortmitchell.com
SUMMARY:(CANCELLED) Free Platform Yoga in the Park (Kids)
DESCRIPTION:The City of Fort Mitchell is offering free yoga classes (kids) with Platform on Saturdays from 10:00am – 11:00am at General Ormsby Mitchel Park\, 261 Grandview Drive. \nBring a mat\, towel\, water \nFind Platform on Instagram: @plat.form.2 \nFor more information\, email City of Fort Mitchell Programs and Communications Coordinator Joe Christofield at jchristofield@fortmitchell.com or call 859.331.1212.
URL:https://fortmitchell.com/event/free-platform-yoga-in-the-park-kids-11/
LOCATION:General Ormsby Mitchel Park\, 261 Grandview Drive\, Fort Mitchell\, KY\, 41017\, United States
ATTACH;FMTTYPE=image/png:https://fortmitchell.com/wp-content/uploads/2023/06/City-of-Fort-Mitchell-Yoga-Classes-2023-Facebook-Cover-4.png
ORGANIZER;CN="Joe Christofield":MAILTO:jchristofield@fortmitchell.com
END:VEVENT
END:VCALENDAR