BEGIN:VCALENDAR
VERSION:2.0
PRODID:-//City of Fort Mitchell KY - ECPv6.15.20//NONSGML v1.0//EN
CALSCALE:GREGORIAN
METHOD:PUBLISH
X-WR-CALNAME:City of Fort Mitchell KY
X-ORIGINAL-URL:https://fortmitchell.com
X-WR-CALDESC:Events for City of Fort Mitchell KY
REFRESH-INTERVAL;VALUE=DURATION:PT1H
X-Robots-Tag:noindex
X-PUBLISHED-TTL:PT1H
BEGIN:VTIMEZONE
TZID:America/New_York
BEGIN:DAYLIGHT
TZOFFSETFROM:-0500
TZOFFSETTO:-0400
TZNAME:EDT
DTSTART:20240310T070000
END:DAYLIGHT
BEGIN:STANDARD
TZOFFSETFROM:-0400
TZOFFSETTO:-0500
TZNAME:EST
DTSTART:20241103T060000
END:STANDARD
BEGIN:DAYLIGHT
TZOFFSETFROM:-0500
TZOFFSETTO:-0400
TZNAME:EDT
DTSTART:20250309T070000
END:DAYLIGHT
BEGIN:STANDARD
TZOFFSETFROM:-0400
TZOFFSETTO:-0500
TZNAME:EST
DTSTART:20251102T060000
END:STANDARD
BEGIN:DAYLIGHT
TZOFFSETFROM:-0500
TZOFFSETTO:-0400
TZNAME:EDT
DTSTART:20260308T070000
END:DAYLIGHT
BEGIN:STANDARD
TZOFFSETFROM:-0400
TZOFFSETTO:-0500
TZNAME:EST
DTSTART:20261101T060000
END:STANDARD
END:VTIMEZONE
BEGIN:VEVENT
DTSTART;TZID=America/New_York:20250806T203000
DTEND;TZID=America/New_York:20250806T220000
DTSTAMP:20260420T165547
CREATED:20250218T152045Z
LAST-MODIFIED:20250220T171707Z
UID:10000798-1754512200-1754517600@fortmitchell.com
SUMMARY:Fort Mitchell Night at Cincinnati Observatory
DESCRIPTION:Fort Mitchell Night at Cincinnati ObservatoryWednesday\, August 68:30pm – 10:00pmCincinnati Observatory3489 Observatory Place\, Cincinnati\, OH 45208 \nFort Mitchell Residents (free admission with ID) \n\nContact:City of Fort Mitchell Programs & Communications CoordinatorJoe Christofieldjchristofield@fortmitchell.com859.331.1212
URL:https://fortmitchell.com/event/fort-mitchell-night-at-cincinnati-observatory/
LOCATION:Cincinnati Observatory\, 3489 Observatory Place\, Cincinnati\, OH\, 45208\, United States
ATTACH;FMTTYPE=image/png:https://fortmitchell.com/wp-content/uploads/2025/02/City-of-Fort-Mitchell-Cincinnati-Observatory-8-6-25-Facebook-Cover.png
ORGANIZER;CN="Joe Christofield":MAILTO:jchristofield@fortmitchell.com
END:VEVENT
END:VCALENDAR