BEGIN:VCALENDAR
VERSION:2.0
PRODID:-//City of Fort Mitchell KY - ECPv6.15.20//NONSGML v1.0//EN
CALSCALE:GREGORIAN
METHOD:PUBLISH
X-WR-CALNAME:City of Fort Mitchell KY
X-ORIGINAL-URL:https://fortmitchell.com
X-WR-CALDESC:Events for City of Fort Mitchell KY
REFRESH-INTERVAL;VALUE=DURATION:PT1H
X-Robots-Tag:noindex
X-PUBLISHED-TTL:PT1H
BEGIN:VTIMEZONE
TZID:America/New_York
BEGIN:DAYLIGHT
TZOFFSETFROM:-0500
TZOFFSETTO:-0400
TZNAME:EDT
DTSTART:20240310T070000
END:DAYLIGHT
BEGIN:STANDARD
TZOFFSETFROM:-0400
TZOFFSETTO:-0500
TZNAME:EST
DTSTART:20241103T060000
END:STANDARD
BEGIN:DAYLIGHT
TZOFFSETFROM:-0500
TZOFFSETTO:-0400
TZNAME:EDT
DTSTART:20250309T070000
END:DAYLIGHT
BEGIN:STANDARD
TZOFFSETFROM:-0400
TZOFFSETTO:-0500
TZNAME:EST
DTSTART:20251102T060000
END:STANDARD
BEGIN:DAYLIGHT
TZOFFSETFROM:-0500
TZOFFSETTO:-0400
TZNAME:EDT
DTSTART:20260308T070000
END:DAYLIGHT
BEGIN:STANDARD
TZOFFSETFROM:-0400
TZOFFSETTO:-0500
TZNAME:EST
DTSTART:20261101T060000
END:STANDARD
END:VTIMEZONE
BEGIN:VEVENT
DTSTART;VALUE=DATE:20250809
DTEND;VALUE=DATE:20250810
DTSTAMP:20260420T040805
CREATED:20250430T174446Z
LAST-MODIFIED:20250430T174446Z
UID:10000846-1754697600-1754783999@fortmitchell.com
SUMMARY:General Ormsby Mitchel Park Pavilion Reserved
DESCRIPTION:
URL:https://fortmitchell.com/event/general-ormsby-mitchel-park-pavilion-reserved-131/
LOCATION:General Ormsby Mitchel Park\, 261 Grandview Drive\, Fort Mitchell\, KY\, 41017\, United States
ATTACH;FMTTYPE=image/png:https://fortmitchell.com/wp-content/uploads/2023/04/City-of-Fort-Mitchell-General-Ormsby-Mitchel-Park-Pavilion-Reserved.png
ORGANIZER;CN="Joe Christofield":MAILTO:jchristofield@fortmitchell.com
END:VEVENT
BEGIN:VEVENT
DTSTART;TZID=America/New_York:20250809T110000
DTEND;TZID=America/New_York:20250809T130000
DTSTAMP:20260420T040805
CREATED:20250218T152156Z
LAST-MODIFIED:20250220T172046Z
UID:10000799-1754737200-1754744400@fortmitchell.com
SUMMARY:Fort Mitchell Day at Vent Haven Museum
DESCRIPTION:Fort Mitchell Day at Vent Haven MuseumSaturday\, August 911:00am – 1:00pmVent Haven Museum33 West Maple Avenue\, Fort Mitchell\, KY 41017 \nFort Mitchell Residents (free admission with proof of ID) \n\nContact:City of Fort Mitchell Programs & Communications CoordinatorJoe Christofieldjchristofield@fortmitchell.com859.331.1212
URL:https://fortmitchell.com/event/fort-mitchell-day-at-vent-haven-museum-2/
LOCATION:Vent Haven Museum\, 33 West Maple Avenue\, Fort Mitchell\, KY\, 41017\, United States
ATTACH;FMTTYPE=image/png:https://fortmitchell.com/wp-content/uploads/2025/02/City-of-Fort-Mitchell-Vent-Haven-Museum-8-9-25-Facebook-Cover.png
ORGANIZER;CN="Joe Christofield":MAILTO:jchristofield@fortmitchell.com
END:VEVENT
END:VCALENDAR