BEGIN:VCALENDAR
VERSION:2.0
PRODID:-//City of Fort Mitchell KY - ECPv6.15.20//NONSGML v1.0//EN
CALSCALE:GREGORIAN
METHOD:PUBLISH
X-WR-CALNAME:City of Fort Mitchell KY
X-ORIGINAL-URL:https://fortmitchell.com
X-WR-CALDESC:Events for City of Fort Mitchell KY
REFRESH-INTERVAL;VALUE=DURATION:PT1H
X-Robots-Tag:noindex
X-PUBLISHED-TTL:PT1H
BEGIN:VTIMEZONE
TZID:America/New_York
BEGIN:DAYLIGHT
TZOFFSETFROM:-0500
TZOFFSETTO:-0400
TZNAME:EDT
DTSTART:20230312T070000
END:DAYLIGHT
BEGIN:STANDARD
TZOFFSETFROM:-0400
TZOFFSETTO:-0500
TZNAME:EST
DTSTART:20231105T060000
END:STANDARD
BEGIN:DAYLIGHT
TZOFFSETFROM:-0500
TZOFFSETTO:-0400
TZNAME:EDT
DTSTART:20240310T070000
END:DAYLIGHT
BEGIN:STANDARD
TZOFFSETFROM:-0400
TZOFFSETTO:-0500
TZNAME:EST
DTSTART:20241103T060000
END:STANDARD
BEGIN:DAYLIGHT
TZOFFSETFROM:-0500
TZOFFSETTO:-0400
TZNAME:EDT
DTSTART:20250309T070000
END:DAYLIGHT
BEGIN:STANDARD
TZOFFSETFROM:-0400
TZOFFSETTO:-0500
TZNAME:EST
DTSTART:20251102T060000
END:STANDARD
END:VTIMEZONE
BEGIN:VEVENT
DTSTART;TZID=America/New_York:20240605T190000
DTEND;TZID=America/New_York:20240605T200000
DTSTAMP:20260420T001535
CREATED:20240604T143546Z
LAST-MODIFIED:20240605T154503Z
UID:10000690-1717614000-1717617600@fortmitchell.com
SUMMARY:CANCELLED (Due to the Weather Forecast) Free Yoga in the Park
DESCRIPTION:CANCELLED (Due to the Weather Forecast) \nFree Yoga in the Park\nWednesday\, June 5\, 2024\n7:00pm\nGeneral Ormsby Mitchel Park\n261 Grandview Drive\nFort Mitchell\, KY 41017 \nJoin Amy (The Yoga Platform) each Wednesday at 7:00pm at the park! \nBring a mat\, towel\, and water! \nContact:\nCity of Fort Mitchell Programs & Communications Coordinator\nJoe Christofield\njchristofield@fortmitchell.com\n859.331.1212
URL:https://fortmitchell.com/event/free-yoga-in-the-park-6/
LOCATION:General Ormsby Mitchel Park\, 261 Grandview Drive\, Fort Mitchell\, KY\, 41017\, United States
ATTACH;FMTTYPE=image/png:https://fortmitchell.com/wp-content/uploads/2024/06/CANCELLED-Free-Yoga-in-the-Park-6-5-24.png
ORGANIZER;CN="Joe Christofield":MAILTO:jchristofield@fortmitchell.com
END:VEVENT
BEGIN:VEVENT
DTSTART;TZID=America/New_York:20240605T183000
DTEND;TZID=America/New_York:20240605T193000
DTSTAMP:20260420T001535
CREATED:20240112T134321Z
LAST-MODIFIED:20240605T153812Z
UID:10000559-1717612200-1717615800@fortmitchell.com
SUMMARY:RESCHEDULED FOR 6-17-24 River City Puppets Present: Upside Down Fairy Town
DESCRIPTION:EVENT UPDATE: RESCHEDULED FOR MONDAY\, JUNE 17\, 2024 at 6:30pm at GENERAL ORMSBY MITCHEL PARK (PAVILION) \nRiver City Puppets Present: Upside Down Fairy TownWednesday\, June 5\, 20246:30pm – 7:30pmGeneral Ormsby Mitchel Park (under the pavilion)261 Grandview DriveFort Mitchell\, KY 41017 \nAdditional Parking:Drees (211 Grandview Drive)Hemmer (226 Grandview Drive) \nContact:City of Fort Mitchell Programs & Communications CoordinatorJoe Christofieldjchristofield@fortmitchell.com859.331.1212
URL:https://fortmitchell.com/event/river-city-puppets-present-upside-down-fairy-town/
LOCATION:General Ormsby Mitchel Park\, 261 Grandview Drive\, Fort Mitchell\, KY\, 41017\, United States
ATTACH;FMTTYPE=image/png:https://fortmitchell.com/wp-content/uploads/2024/01/City-of-Fort-Mitchell-River-City-Puppets-6-5-24-Website-Rescheduled.png
ORGANIZER;CN="Joe Christofield":MAILTO:jchristofield@fortmitchell.com
END:VEVENT
BEGIN:VEVENT
DTSTART;TZID=America/New_York:20240604T190000
DTEND;TZID=America/New_York:20240604T200000
DTSTAMP:20260420T001535
CREATED:20231229T183733Z
LAST-MODIFIED:20240530T144916Z
UID:10000541-1717527600-1717531200@fortmitchell.com
SUMMARY:Park Board Meeting
DESCRIPTION:City of Fort Mitchell Park Board Meeting Agenda 6-4-24 \nCity of Fort Mitchell\nPark Board Meeting\nTuesday\, June 4\, 2024\n7:00pm\nCity Building (Council Chamber)\n2355 Dixie Highway\nFort Mitchell\, KY 41017
URL:https://fortmitchell.com/event/park-board-meeting-34/
LOCATION:Fort Mitchell City Building (Council Chamber)\, 2355 Dixie Highway\, Fort Mitchell\, KY\, 41017\, United States
ATTACH;FMTTYPE=image/jpeg:https://fortmitchell.com/wp-content/uploads/2023/12/City-of-Fort-Mitchell-Park-Board-Meeting-Agenda-6-4-24.jpeg
ORGANIZER;CN="Joe Christofield":MAILTO:jchristofield@fortmitchell.com
END:VEVENT
BEGIN:VEVENT
DTSTART;TZID=America/New_York:20240604T180000
DTEND;TZID=America/New_York:20240604T190000
DTSTAMP:20260420T001535
CREATED:20240306T175020Z
LAST-MODIFIED:20240604T115223Z
UID:10000627-1717524000-1717527600@fortmitchell.com
SUMMARY:LiveWell Fort Mitchell Produce Popup
DESCRIPTION:LiveWell Fort Mitchell\nProduce Popup\nTuesday\, June 4\, 2024\n6:00pm\nFort Mitchell City Building \n(Parking Lot – Walter Gieske Family Community Garden)\n2355 Dixie Highway\nFort Mitchell\, KY 41017\nBring Bag For Produce!
URL:https://fortmitchell.com/event/livewell-fort-mitchell-produce-popup-7/
LOCATION:Fort Mitchell City Building (Parking Lot)\, 2355 Dixie Highway\, Fort Mitchell\, KY 41017\, Fort Mitchell\, KY\, 41017\, United States
ATTACH;FMTTYPE=image/png:https://fortmitchell.com/wp-content/uploads/2024/03/LiveWell-Fort-Mitchell-Produce-Popup-Flyer-6-4-24-1.png
ORGANIZER;CN="Joe Christofield":MAILTO:jchristofield@fortmitchell.com
END:VEVENT
BEGIN:VEVENT
DTSTART;VALUE=DATE:20240604
DTEND;VALUE=DATE:20240605
DTSTAMP:20260420T001535
CREATED:20240520T123813Z
LAST-MODIFIED:20240520T123813Z
UID:10000682-1717459200-1717545599@fortmitchell.com
SUMMARY:General Ormsby Mitchel Park Pavilion Reserved
DESCRIPTION:
URL:https://fortmitchell.com/event/general-ormsby-mitchel-park-pavilion-reserved-79/
LOCATION:General Ormsby Mitchel Park\, 261 Grandview Drive\, Fort Mitchell\, KY\, 41017\, United States
ATTACH;FMTTYPE=image/png:https://fortmitchell.com/wp-content/uploads/2023/04/City-of-Fort-Mitchell-General-Ormsby-Mitchel-Park-Pavilion-Reserved.png
ORGANIZER;CN="Joe Christofield":MAILTO:jchristofield@fortmitchell.com
END:VEVENT
BEGIN:VEVENT
DTSTART;TZID=America/New_York:20240603T183000
DTEND;TZID=America/New_York:20240603T193000
DTSTAMP:20260420T001535
CREATED:20231229T183146Z
LAST-MODIFIED:20240531T191359Z
UID:10000528-1717439400-1717443000@fortmitchell.com
SUMMARY:City Council Meeting
DESCRIPTION:City of Fort Mitchell Council Meeting Agenda 6-3-24 \nCity of Fort Mitchell\nCity Council Meeting\nMonday\, June 3\, 2024\n6:30pm\nCity Building (Council Chamber)\n2355 Dixie Highway\nFort Mitchell\, KY 41017
URL:https://fortmitchell.com/event/city-council-meeting-49/
LOCATION:Fort Mitchell City Building (Council Chamber)\, 2355 Dixie Highway\, Fort Mitchell\, KY\, 41017\, United States
ATTACH;FMTTYPE=image/jpeg:https://fortmitchell.com/wp-content/uploads/2023/12/City-of-Fort-Mitchell-Park-Board-Meeting-Agenda-6-4-24-1.jpeg
ORGANIZER;CN="Joe Christofield":MAILTO:jchristofield@fortmitchell.com
END:VEVENT
BEGIN:VEVENT
DTSTART;VALUE=DATE:20240602
DTEND;VALUE=DATE:20240603
DTSTAMP:20260420T001535
CREATED:20240422T194212Z
LAST-MODIFIED:20240422T194212Z
UID:10000668-1717286400-1717372799@fortmitchell.com
SUMMARY:General Ormsby Mitchel Park Pavilion Reserved
DESCRIPTION:
URL:https://fortmitchell.com/event/general-ormsby-mitchel-park-pavilion-reserved-72/
LOCATION:General Ormsby Mitchel Park\, 261 Grandview Drive\, Fort Mitchell\, KY\, 41017\, United States
ATTACH;FMTTYPE=image/png:https://fortmitchell.com/wp-content/uploads/2023/04/City-of-Fort-Mitchell-General-Ormsby-Mitchel-Park-Pavilion-Reserved.png
ORGANIZER;CN="Joe Christofield":MAILTO:jchristofield@fortmitchell.com
END:VEVENT
BEGIN:VEVENT
DTSTART;VALUE=DATE:20240601
DTEND;VALUE=DATE:20240602
DTSTAMP:20260420T001535
CREATED:20240314T123714Z
LAST-MODIFIED:20240314T123714Z
UID:10000636-1717200000-1717286399@fortmitchell.com
SUMMARY:General Ormsby Mitchel Park Pavilion Reserved
DESCRIPTION:
URL:https://fortmitchell.com/event/general-ormsby-mitchel-park-pavilion-reserved-62/
LOCATION:General Ormsby Mitchel Park\, 261 Grandview Drive\, Fort Mitchell\, KY\, 41017\, United States
ATTACH;FMTTYPE=image/png:https://fortmitchell.com/wp-content/uploads/2023/04/City-of-Fort-Mitchell-General-Ormsby-Mitchel-Park-Pavilion-Reserved.png
ORGANIZER;CN="Joe Christofield":MAILTO:jchristofield@fortmitchell.com
END:VEVENT
BEGIN:VEVENT
DTSTART;TZID=America/New_York:20240529T190000
DTEND;TZID=America/New_York:20240529T200000
DTSTAMP:20260420T001535
CREATED:20240430T115341Z
LAST-MODIFIED:20240507T123658Z
UID:10000674-1717009200-1717012800@fortmitchell.com
SUMMARY:Free Yoga in the Park
DESCRIPTION:Free Yoga in the ParkWednesday\, May 29\, 20247:00pmGeneral Ormsby Mitchel Park261 Grandview DriveFort Mitchell\, KY 41017 \nJoin Amy (The Yoga Platform) each Wednesday in May at 7:00pm at the park! \nBring a mat\, towel\, and water! \nContact:City of Fort Mitchell Programs & Communications CoordinatorJoe Christofieldjchristofield@fortmitchell.com859.331.1212
URL:https://fortmitchell.com/event/free-yoga-in-the-park-5/
LOCATION:General Ormsby Mitchel Park\, 261 Grandview Drive\, Fort Mitchell\, KY\, 41017\, United States
ATTACH;FMTTYPE=image/jpeg:https://fortmitchell.com/wp-content/uploads/2024/04/Yoga-in-the-Park-May-2024.jpeg
ORGANIZER;CN="Joe Christofield":MAILTO:jchristofield@fortmitchell.com
END:VEVENT
BEGIN:VEVENT
DTSTART;VALUE=DATE:20240524
DTEND;VALUE=DATE:20240525
DTSTAMP:20260420T001535
CREATED:20240305T133320Z
LAST-MODIFIED:20240305T133320Z
UID:10000624-1716508800-1716595199@fortmitchell.com
SUMMARY:General Ormsby Mitchel Park Pavilion Reserved
DESCRIPTION:
URL:https://fortmitchell.com/event/general-ormsby-mitchel-park-pavilion-reserved-58/
LOCATION:General Ormsby Mitchel Park\, 261 Grandview Drive\, Fort Mitchell\, KY\, 41017\, United States
ATTACH;FMTTYPE=image/png:https://fortmitchell.com/wp-content/uploads/2023/04/City-of-Fort-Mitchell-General-Ormsby-Mitchel-Park-Pavilion-Reserved.png
ORGANIZER;CN="Joe Christofield":MAILTO:jchristofield@fortmitchell.com
END:VEVENT
BEGIN:VEVENT
DTSTART;TZID=America/New_York:20240522T190000
DTEND;TZID=America/New_York:20240522T200000
DTSTAMP:20260420T001535
CREATED:20240430T115317Z
LAST-MODIFIED:20240507T123506Z
UID:10000673-1716404400-1716408000@fortmitchell.com
SUMMARY:Free Yoga in the Park
DESCRIPTION:Free Yoga in the ParkWednesday\, May 22\, 20247:00pmGeneral Ormsby Mitchel Park261 Grandview DriveFort Mitchell\, KY 41017 \nJoin Amy (The Yoga Platform) each Wednesday in May at 7:00pm at the park! \nBring a mat\, towel\, and water! \nContact:City of Fort Mitchell Programs & Communications CoordinatorJoe Christofieldjchristofield@fortmitchell.com859.331.1212
URL:https://fortmitchell.com/event/free-yoga-in-the-park-4/
LOCATION:General Ormsby Mitchel Park\, 261 Grandview Drive\, Fort Mitchell\, KY\, 41017\, United States
ATTACH;FMTTYPE=image/jpeg:https://fortmitchell.com/wp-content/uploads/2024/04/Yoga-in-the-Park-May-2024.jpeg
ORGANIZER;CN="Joe Christofield":MAILTO:jchristofield@fortmitchell.com
END:VEVENT
BEGIN:VEVENT
DTSTART;VALUE=DATE:20240522
DTEND;VALUE=DATE:20240523
DTSTAMP:20260420T001535
CREATED:20240222T194716Z
LAST-MODIFIED:20240222T194716Z
UID:10000618-1716336000-1716422399@fortmitchell.com
SUMMARY:General Ormsby Mitchel Park Pavilion Reserved
DESCRIPTION:
URL:https://fortmitchell.com/event/general-ormsby-mitchel-park-pavilion-reserved-55/
LOCATION:General Ormsby Mitchel Park\, 261 Grandview Drive\, Fort Mitchell\, KY\, 41017\, United States
ATTACH;FMTTYPE=image/png:https://fortmitchell.com/wp-content/uploads/2023/04/City-of-Fort-Mitchell-General-Ormsby-Mitchel-Park-Pavilion-Reserved.png
ORGANIZER;CN="Joe Christofield":MAILTO:jchristofield@fortmitchell.com
END:VEVENT
BEGIN:VEVENT
DTSTART;TZID=America/New_York:20240520T173000
DTEND;TZID=America/New_York:20240520T193000
DTSTAMP:20260420T001535
CREATED:20231229T182919Z
LAST-MODIFIED:20240517T144125Z
UID:10000527-1716226200-1716233400@fortmitchell.com
SUMMARY:City Council Meeting (Budget Meeting - Not Televised)
DESCRIPTION:City of Fort Mitchell\nCity Council Meeting (Budget Meeting – Not Televised)\nMonday\, May 20\, 2024\n5:30pm\nCity Building (Fire Training Room)\n2355 Dixie Highway\nFort Mitchell\, KY 41017
URL:https://fortmitchell.com/event/city-council-meeting-budget-meeting-not-televised-2/
LOCATION:Fort Mitchell City Building (Fire Training Room)\, 2355 Dixie Highway\, Fort Mitchell\, KY\, 41017\, United States
ATTACH;FMTTYPE=image/jpeg:https://fortmitchell.com/wp-content/uploads/2023/12/City-of-Fort-Mitchell-City-Council-Meeting-Agenda-5-20-24.jpeg
ORGANIZER;CN="Joe Christofield":MAILTO:jchristofield@fortmitchell.com
END:VEVENT
BEGIN:VEVENT
DTSTART;VALUE=DATE:20240520
DTEND;VALUE=DATE:20240521
DTSTAMP:20260420T001535
CREATED:20240422T120354Z
LAST-MODIFIED:20240422T120354Z
UID:10000667-1716163200-1716249599@fortmitchell.com
SUMMARY:General Ormsby Mitchel Park Pavilion Reserved
DESCRIPTION:
URL:https://fortmitchell.com/event/general-ormsby-mitchel-park-pavilion-reserved-71/
LOCATION:General Ormsby Mitchel Park\, 261 Grandview Drive\, Fort Mitchell\, KY\, 41017\, United States
ATTACH;FMTTYPE=image/png:https://fortmitchell.com/wp-content/uploads/2023/04/City-of-Fort-Mitchell-General-Ormsby-Mitchel-Park-Pavilion-Reserved.png
ORGANIZER;CN="Joe Christofield":MAILTO:jchristofield@fortmitchell.com
END:VEVENT
BEGIN:VEVENT
DTSTART;VALUE=DATE:20240519
DTEND;VALUE=DATE:20240520
DTSTAMP:20260420T001535
CREATED:20240304T135744Z
LAST-MODIFIED:20240304T135744Z
UID:10000622-1716076800-1716163199@fortmitchell.com
SUMMARY:General Ormsby Mitchel Park Pavilion Reserved
DESCRIPTION:
URL:https://fortmitchell.com/event/general-ormsby-mitchel-park-pavilion-reserved-56/
LOCATION:General Ormsby Mitchel Park\, 261 Grandview Drive\, Fort Mitchell\, KY\, 41017\, United States
ATTACH;FMTTYPE=image/png:https://fortmitchell.com/wp-content/uploads/2023/04/City-of-Fort-Mitchell-General-Ormsby-Mitchel-Park-Pavilion-Reserved.png
ORGANIZER;CN="Joe Christofield":MAILTO:jchristofield@fortmitchell.com
END:VEVENT
BEGIN:VEVENT
DTSTART;TZID=America/New_York:20240518T090000
DTEND;TZID=America/New_York:20240518T120000
DTSTAMP:20260420T001535
CREATED:20240116T164142Z
LAST-MODIFIED:20240116T164142Z
UID:10000566-1716022800-1716033600@fortmitchell.com
SUMMARY:CPR Training Class
DESCRIPTION:CPR Training Class\nSaturday\, May 18\, 2024\n9:00am – 12:00pm\nFort Mitchell Fire Department\n2355 Dixie Highway\nFort Mitchell\, KY 41017 \nClasses open to anyone 12 years or older\nCost is $20 per person\nClass is limited to 10 people\nRegister by emailing at mkaelin@fortmitchell.com\nSummer and fall dates to be released later in the year
URL:https://fortmitchell.com/event/cpr-training-class-7/
LOCATION:Fort Mitchell City Building (Fire Training Room)\, 2355 Dixie Highway\, Fort Mitchell\, KY\, 41017\, United States
ATTACH;FMTTYPE=image/jpeg:https://fortmitchell.com/wp-content/uploads/2024/01/City-of-Fort-Mitchell-Fire-Department-CPR-Training-Classes-Logo-2024.jpg
ORGANIZER;CN="Joe Christofield":MAILTO:jchristofield@fortmitchell.com
END:VEVENT
BEGIN:VEVENT
DTSTART;VALUE=DATE:20240518
DTEND;VALUE=DATE:20240519
DTSTAMP:20260420T001535
CREATED:20240412T182340Z
LAST-MODIFIED:20240412T182340Z
UID:10000660-1715990400-1716076799@fortmitchell.com
SUMMARY:General Ormsby Mitchel Park Pavilion Reserved
DESCRIPTION:
URL:https://fortmitchell.com/event/general-ormsby-mitchel-park-pavilion-reserved-70/
LOCATION:General Ormsby Mitchel Park\, 261 Grandview Drive\, Fort Mitchell\, KY\, 41017\, United States
ATTACH;FMTTYPE=image/png:https://fortmitchell.com/wp-content/uploads/2023/04/City-of-Fort-Mitchell-General-Ormsby-Mitchel-Park-Pavilion-Reserved.png
ORGANIZER;CN="Joe Christofield":MAILTO:jchristofield@fortmitchell.com
END:VEVENT
BEGIN:VEVENT
DTSTART;VALUE=DATE:20240517
DTEND;VALUE=DATE:20240518
DTSTAMP:20260420T001535
CREATED:20240312T211622Z
LAST-MODIFIED:20240312T211622Z
UID:10000635-1715904000-1715990399@fortmitchell.com
SUMMARY:General Ormsby Mitchel Park Pavilion Reserved
DESCRIPTION:
URL:https://fortmitchell.com/event/general-ormsby-mitchel-park-pavilion-reserved-61/
LOCATION:General Ormsby Mitchel Park\, 261 Grandview Drive\, Fort Mitchell\, KY\, 41017\, United States
ATTACH;FMTTYPE=image/png:https://fortmitchell.com/wp-content/uploads/2023/04/City-of-Fort-Mitchell-General-Ormsby-Mitchel-Park-Pavilion-Reserved.png
ORGANIZER;CN="Joe Christofield":MAILTO:jchristofield@fortmitchell.com
END:VEVENT
BEGIN:VEVENT
DTSTART;TZID=America/New_York:20240516T190000
DTEND;TZID=America/New_York:20240516T210000
DTSTAMP:20260420T001535
CREATED:20240119T122625Z
LAST-MODIFIED:20240509T143450Z
UID:10000571-1715886000-1715893200@fortmitchell.com
SUMMARY:Garden Club Meeting
DESCRIPTION:Fort Mitchell Garden Club Meeting\nThursday\, May 16\, 2024\n7:00pm\nLakeside Park City Building\n9 Buttermilk Pike\nLakeside Park\, KY 41017
URL:https://fortmitchell.com/event/garden-club-meeting-18/
LOCATION:Lakeside Park City Building\, 9 Buttermilk Pike\, Lakeside Park\, KY\, 41017\, United States
ATTACH;FMTTYPE=image/png:https://fortmitchell.com/wp-content/uploads/2024/01/City-of-Fort-Mitchell-Garden-Club-Invitation-5-16-24.png
ORGANIZER;CN="Joe Christofield":MAILTO:jchristofield@fortmitchell.com
END:VEVENT
BEGIN:VEVENT
DTSTART;VALUE=DATE:20240516
DTEND;VALUE=DATE:20240517
DTSTAMP:20260420T001535
CREATED:20240418T173443Z
LAST-MODIFIED:20240418T173443Z
UID:10000666-1715817600-1715903999@fortmitchell.com
SUMMARY:General Ormsby Mitchel Park Pavilion Reserved
DESCRIPTION:
URL:https://fortmitchell.com/event/general-ormsby-mitchel-park-pavilion-reserved-69/
LOCATION:General Ormsby Mitchel Park\, 261 Grandview Drive\, Fort Mitchell\, KY\, 41017\, United States
ATTACH;FMTTYPE=image/png:https://fortmitchell.com/wp-content/uploads/2023/04/City-of-Fort-Mitchell-General-Ormsby-Mitchel-Park-Pavilion-Reserved.png
ORGANIZER;CN="Joe Christofield":MAILTO:jchristofield@fortmitchell.com
END:VEVENT
BEGIN:VEVENT
DTSTART;TZID=America/New_York:20240515T190000
DTEND;TZID=America/New_York:20240515T200000
DTSTAMP:20260420T001535
CREATED:20240430T115301Z
LAST-MODIFIED:20240515T160144Z
UID:10000672-1715799600-1715803200@fortmitchell.com
SUMMARY:CANCELLED (Due to the Weather Forecast) Free Yoga in the Park
DESCRIPTION:CANCELLED (Due to the Weather Forecast)  \nFree Yoga in the ParkWednesday\, May 15\, 20247:00pmGeneral Ormsby Mitchel Park261 Grandview DriveFort Mitchell\, KY 41017 \nJoin Amy (The Yoga Platform) each Wednesday in May at 7:00pm at the park! \nBring a mat\, towel\, and water! \nContact:City of Fort Mitchell Programs & Communications CoordinatorJoe Christofieldjchristofield@fortmitchell.com859.331.1212
URL:https://fortmitchell.com/event/free-yoga-in-the-park-3/
LOCATION:General Ormsby Mitchel Park\, 261 Grandview Drive\, Fort Mitchell\, KY\, 41017\, United States
ATTACH;FMTTYPE=image/png:https://fortmitchell.com/wp-content/uploads/2024/04/CANCELLED-Free-Yoga-in-the-Park-5-15-24.png
ORGANIZER;CN="Joe Christofield":MAILTO:jchristofield@fortmitchell.com
END:VEVENT
BEGIN:VEVENT
DTSTART;TZID=America/New_York:20240515T090000
DTEND;TZID=America/New_York:20240515T110000
DTSTAMP:20260420T001535
CREATED:20240418T130522Z
LAST-MODIFIED:20240515T190214Z
UID:10000661-1715763600-1715770800@fortmitchell.com
SUMMARY:Senior Resource Seminar (Prepare Your Family Love Letter – Elder Law & Funeral Planning)
DESCRIPTION:Senior Resource Seminar\nPrepare Your Family Love Letter\n\n(Elder Law and Funeral Planning)\nWednesday\, May 15\n9:00am – 11:00am\nFort Mitchell City Building\n2355 Dixie Highway\nFort Mitchell\, KY 41017\n\n\nSpace is limited. Register for each seminar by emailing City of Fort Mitchell Programs & Communications Coordinator Joe Christofield at jchristofield@fortmitchell.com or by calling 859-331-1212.
URL:https://fortmitchell.com/event/senior-resource-seminar-prepare-your-family-love-letter-elder-law-funeral-planning/
LOCATION:Fort Mitchell City Building (Council Chamber)\, 2355 Dixie Highway\, Fort Mitchell\, KY\, 41017\, United States
ATTACH;FMTTYPE=image/png:https://fortmitchell.com/wp-content/uploads/2024/04/Senior-Resource-Seminar-Schedule-2024.png
ORGANIZER;CN="Joe Christofield":MAILTO:jchristofield@fortmitchell.com
END:VEVENT
BEGIN:VEVENT
DTSTART;VALUE=DATE:20240515
DTEND;VALUE=DATE:20240516
DTSTAMP:20260420T001535
CREATED:20240304T142452Z
LAST-MODIFIED:20240304T142452Z
UID:10000623-1715731200-1715817599@fortmitchell.com
SUMMARY:General Ormsby Mitchel Park Pavilion Reserved
DESCRIPTION:
URL:https://fortmitchell.com/event/general-ormsby-mitchel-park-pavilion-reserved-57/
LOCATION:General Ormsby Mitchel Park\, 261 Grandview Drive\, Fort Mitchell\, KY\, 41017\, United States
ATTACH;FMTTYPE=image/png:https://fortmitchell.com/wp-content/uploads/2023/04/City-of-Fort-Mitchell-General-Ormsby-Mitchel-Park-Pavilion-Reserved.png
ORGANIZER;CN="Joe Christofield":MAILTO:jchristofield@fortmitchell.com
END:VEVENT
BEGIN:VEVENT
DTSTART;TZID=America/New_York:20240514T180000
DTEND;TZID=America/New_York:20240514T190000
DTSTAMP:20260420T001535
CREATED:20240126T204259Z
LAST-MODIFIED:20240515T182231Z
UID:10000579-1715709600-1715713200@fortmitchell.com
SUMMARY:(CANCELLED) The Fort Mitchell Scooter Derby & Bike Rodeo
DESCRIPTION:EVENT UPDATE: Due to the weather forecast the Scooter Derby & Bike Rodeo\, scheduled for tonight at 6:00pm at General Ormsby Mitchel Park\, has been CANCELLED.  \nThe Fort Mitchell Scooter Derby & Bike Rodeo\nTuesday\, May 14\, 2024\n6:00pm – 7:00pm\nGeneral Ormsby Mitchel Park\n261 Grandview Drive\nFort Mitchell\, KY 41017 \n\nAdditional Parking:\n\n\nDrees (211 Grandview Drive)\n\n\nHemmer (226 Grandview Drive) \n\n\n\nSafety tips\, obstacle course\, prizes!\n\n\n\nFood Trucks:\nBig Blue Shaved Ice\nMoonrise Doughnuts\n\n\n\nContact:\nCity of Fort Mitchell Programs & Communications Coordinator\nJoe Christofield\njchristofield@fortmitchell.com\n859.331.1212
URL:https://fortmitchell.com/event/the-fort-mitchell-scooter-derby/
LOCATION:General Ormsby Mitchel Park\, 261 Grandview Drive\, Fort Mitchell\, KY\, 41017\, United States
ATTACH;FMTTYPE=image/png:https://fortmitchell.com/wp-content/uploads/2024/01/City-of-Fort-Mitchell-Scooter-Derby-Bike-Rodeo-5-14-24-Website-3.png
ORGANIZER;CN="Joe Christofield":MAILTO:jchristofield@fortmitchell.com
END:VEVENT
BEGIN:VEVENT
DTSTART;TZID=America/New_York:20240514T170000
DTEND;TZID=America/New_York:20240514T173000
DTSTAMP:20260420T001535
CREATED:20240509T125442Z
LAST-MODIFIED:20240510T194159Z
UID:10000676-1715706000-1715707800@fortmitchell.com
SUMMARY:Park Board Special Meeting
DESCRIPTION:City of Fort Mitchell Park Board Special Meeting Agenda 5-14-24 \nCity of Fort MitchellPark Board Special MeetingTuesday\, May 14\, 20245:00pmGeneral Ormsby Mitchel Park (Pavilion)261 Grandview DriveFort Mitchell\, KY 41017
URL:https://fortmitchell.com/event/park-board-special-meeting-8/
LOCATION:General Ormsby Mitchel Park\, 261 Grandview Drive\, Fort Mitchell\, KY\, 41017\, United States
ATTACH;FMTTYPE=image/jpeg:https://fortmitchell.com/wp-content/uploads/2024/05/City-of-Fort-Mitchell-Park-Board-Special-Meeting-Agenda-5-14-24.jpeg
ORGANIZER;CN="Joe Christofield":MAILTO:jchristofield@fortmitchell.com
END:VEVENT
BEGIN:VEVENT
DTSTART;VALUE=DATE:20240514
DTEND;VALUE=DATE:20240515
DTSTAMP:20260420T001535
CREATED:20240130T132543Z
LAST-MODIFIED:20240130T132543Z
UID:10000592-1715644800-1715731199@fortmitchell.com
SUMMARY:General Ormsby Mitchel Park Pavilion Reserved
DESCRIPTION:
URL:https://fortmitchell.com/event/general-ormsby-mitchel-park-pavilion-reserved-47/
LOCATION:General Ormsby Mitchel Park\, 261 Grandview Drive\, Fort Mitchell\, KY\, 41017\, United States
ATTACH;FMTTYPE=image/png:https://fortmitchell.com/wp-content/uploads/2023/04/City-of-Fort-Mitchell-General-Ormsby-Mitchel-Park-Pavilion-Reserved.png
ORGANIZER;CN="Joe Christofield":MAILTO:jchristofield@fortmitchell.com
END:VEVENT
BEGIN:VEVENT
DTSTART;TZID=America/New_York:20240513T180000
DTEND;TZID=America/New_York:20240513T190000
DTSTAMP:20260420T001535
CREATED:20240510T194059Z
LAST-MODIFIED:20240510T194059Z
UID:10000678-1715623200-1715626800@fortmitchell.com
SUMMARY:Budget\, Audit\, & Finance Committee Meeting
DESCRIPTION:City of Fort Mitchell Budget\, Audit\, & Finance Committee Meeting Agenda 5-13-24 \nCity of Fort Mitchell\nBudget\, Audit\, & Finance Committee Meeting\nMonday\, May 13\, 2024\n6:00pm\nCity Building (Administrative Conference Room)\n2355 Dixie Highway\nFort Mitchell\, KY 41017
URL:https://fortmitchell.com/event/budget-audit-finance-committee-meeting-2/
LOCATION:Fort Mitchell City Building (Bill Goetz Administrative Conference Room)\, 2355 Dixie Highway\, Fort Mitchell\, KY 41017\, Fort Mitchell\, KY\, 41017\, United States
ATTACH;FMTTYPE=image/jpeg:https://fortmitchell.com/wp-content/uploads/2024/05/City-of-Fort-Mitchell-Budget-Audit-Finance-Committee-Meeting-Agenda-5-13-24.jpeg
ORGANIZER;CN="Joe Christofield":MAILTO:jchristofield@fortmitchell.com
END:VEVENT
BEGIN:VEVENT
DTSTART;TZID=America/New_York:20240508T190000
DTEND;TZID=America/New_York:20240508T200000
DTSTAMP:20260420T001535
CREATED:20240430T115243Z
LAST-MODIFIED:20240508T183327Z
UID:10000671-1715194800-1715198400@fortmitchell.com
SUMMARY:CANCELLED (Due to the Weather Forecast) Free Yoga in the Park
DESCRIPTION:CANCELLED (due to the weather forecast) \nFree Yoga in the ParkWednesday\, May 8\, 20247:00pmGeneral Ormsby Mitchel Park261 Grandview DriveFort Mitchell\, KY 41017Join Amy (The Yoga Platform) each Wednesday in May at 7:00pm at the park! \nBring a mat\, towel\, and water! \nContact:City of Fort Mitchell Programs & Communications CoordinatorJoe Christofieldjchristofield@fortmitchell.com859.331.1212
URL:https://fortmitchell.com/event/free-yoga-in-the-park-2/
LOCATION:General Ormsby Mitchel Park\, 261 Grandview Drive\, Fort Mitchell\, KY\, 41017\, United States
ATTACH;FMTTYPE=image/png:https://fortmitchell.com/wp-content/uploads/2024/04/CANCELLED-Free-Yoga-in-the-Park-5-8-24.png
ORGANIZER;CN="Joe Christofield":MAILTO:jchristofield@fortmitchell.com
END:VEVENT
BEGIN:VEVENT
DTSTART;TZID=America/New_York:20240507T190000
DTEND;TZID=America/New_York:20240507T200000
DTSTAMP:20260420T001535
CREATED:20231229T183713Z
LAST-MODIFIED:20240507T215640Z
UID:10000540-1715108400-1715112000@fortmitchell.com
SUMMARY:CANCELLED - Park Board Meeting
DESCRIPTION:CANCELLED \nCANCELLED City of Fort Mitchell Park Board Meeting 5-7-24 \nCity of Fort MitchellPark Board MeetingTuesday\, May 7\, 20247:00pmCity Building (Council Chamber)2355 Dixie HighwayFort Mitchell\, KY 41017
URL:https://fortmitchell.com/event/park-board-meeting-33/
LOCATION:Fort Mitchell City Building (Council Chamber)\, 2355 Dixie Highway\, Fort Mitchell\, KY\, 41017\, United States
ATTACH;FMTTYPE=image/png:https://fortmitchell.com/wp-content/uploads/2023/12/CANCELLED-City-of-Fort-Mitchell-Park-Board-Meeting-5-7-24.png
ORGANIZER;CN="Joe Christofield":MAILTO:jchristofield@fortmitchell.com
END:VEVENT
BEGIN:VEVENT
DTSTART;TZID=America/New_York:20240507T170000
DTEND;TZID=America/New_York:20240507T180000
DTSTAMP:20260420T001535
CREATED:20240306T174928Z
LAST-MODIFIED:20240306T174928Z
UID:10000626-1715101200-1715104800@fortmitchell.com
SUMMARY:LiveWell Fort Mitchell Produce Popup
DESCRIPTION:LiveWell Fort Mitchell\nProduce Popup\nTuesday\, May 7\, 2024\n5:00pm\nFort Mitchell City Building \n(Parking Lot – Walter Gieske Family Community Garden)\n2355 Dixie Highway\nFort Mitchell\, KY 41017\nBring Bag For Produce!
URL:https://fortmitchell.com/event/livewell-fort-mitchell-produce-popup-6/
LOCATION:Fort Mitchell City Building (Parking Lot)\, 2355 Dixie Highway\, Fort Mitchell\, KY 41017\, Fort Mitchell\, KY\, 41017\, United States
ATTACH;FMTTYPE=image/png:https://fortmitchell.com/wp-content/uploads/2024/03/LiveWell-Fort-Mitchell-Produce-Popup-Flyer-5-7-24.png
ORGANIZER;CN="Joe Christofield":MAILTO:jchristofield@fortmitchell.com
END:VEVENT
END:VCALENDAR