BEGIN:VCALENDAR
VERSION:2.0
PRODID:-//City of Fort Mitchell KY - ECPv6.15.20//NONSGML v1.0//EN
CALSCALE:GREGORIAN
METHOD:PUBLISH
X-WR-CALNAME:City of Fort Mitchell KY
X-ORIGINAL-URL:https://fortmitchell.com
X-WR-CALDESC:Events for City of Fort Mitchell KY
REFRESH-INTERVAL;VALUE=DURATION:PT1H
X-Robots-Tag:noindex
X-PUBLISHED-TTL:PT1H
BEGIN:VTIMEZONE
TZID:America/New_York
BEGIN:DAYLIGHT
TZOFFSETFROM:-0500
TZOFFSETTO:-0400
TZNAME:EDT
DTSTART:20190310T070000
END:DAYLIGHT
BEGIN:STANDARD
TZOFFSETFROM:-0400
TZOFFSETTO:-0500
TZNAME:EST
DTSTART:20191103T060000
END:STANDARD
BEGIN:DAYLIGHT
TZOFFSETFROM:-0500
TZOFFSETTO:-0400
TZNAME:EDT
DTSTART:20200308T070000
END:DAYLIGHT
BEGIN:STANDARD
TZOFFSETFROM:-0400
TZOFFSETTO:-0500
TZNAME:EST
DTSTART:20201101T060000
END:STANDARD
BEGIN:DAYLIGHT
TZOFFSETFROM:-0500
TZOFFSETTO:-0400
TZNAME:EDT
DTSTART:20210314T070000
END:DAYLIGHT
BEGIN:STANDARD
TZOFFSETFROM:-0400
TZOFFSETTO:-0500
TZNAME:EST
DTSTART:20211107T060000
END:STANDARD
END:VTIMEZONE
BEGIN:VEVENT
DTSTART;TZID=America/New_York:20201201T190000
DTEND;TZID=America/New_York:20201201T210000
DTSTAMP:20260419T220732
CREATED:20201201T231734Z
LAST-MODIFIED:20201202T145050Z
UID:10000162-1606849200-1606856400@fortmitchell.com
SUMMARY:Park Board Meeting
DESCRIPTION:Due to COVID-19\, the meeting will be held virtually via video conference. \nTelevised meetings can be viewed through our YouTube Channel.
URL:https://fortmitchell.com/event/park-board-meeting/
LOCATION:Fort Mitchell City Building (Council Chamber)\, 2355 Dixie Highway\, Fort Mitchell\, KY\, 41017\, United States
ORGANIZER;CN="Joe Christofield":MAILTO:jchristofield@fortmitchell.com
END:VEVENT
BEGIN:VEVENT
DTSTART;TZID=America/New_York:20201201T190000
DTEND;TZID=America/New_York:20201201T210000
DTSTAMP:20260419T220732
CREATED:20201201T231337Z
LAST-MODIFIED:20201201T231337Z
UID:10000159-1606849200-1606856400@fortmitchell.com
SUMMARY:Board of Adjustment Meeting
DESCRIPTION:Due to COVID-19\, the meeting will be held virtually via video conference
URL:https://fortmitchell.com/event/board-of-adjustment-meeting/
LOCATION:Fort Mitchell City Building (Council Chamber)\, 2355 Dixie Highway\, Fort Mitchell\, KY\, 41017\, United States
ORGANIZER;CN="Joe Christofield":MAILTO:jchristofield@fortmitchell.com
END:VEVENT
END:VCALENDAR