BEGIN:VCALENDAR
VERSION:2.0
PRODID:-//City of Fort Mitchell KY - ECPv6.15.20//NONSGML v1.0//EN
CALSCALE:GREGORIAN
METHOD:PUBLISH
X-WR-CALNAME:City of Fort Mitchell KY
X-ORIGINAL-URL:https://fortmitchell.com
X-WR-CALDESC:Events for City of Fort Mitchell KY
REFRESH-INTERVAL;VALUE=DURATION:PT1H
X-Robots-Tag:noindex
X-PUBLISHED-TTL:PT1H
BEGIN:VTIMEZONE
TZID:America/New_York
BEGIN:DAYLIGHT
TZOFFSETFROM:-0500
TZOFFSETTO:-0400
TZNAME:EDT
DTSTART:20230312T070000
END:DAYLIGHT
BEGIN:STANDARD
TZOFFSETFROM:-0400
TZOFFSETTO:-0500
TZNAME:EST
DTSTART:20231105T060000
END:STANDARD
BEGIN:DAYLIGHT
TZOFFSETFROM:-0500
TZOFFSETTO:-0400
TZNAME:EDT
DTSTART:20240310T070000
END:DAYLIGHT
BEGIN:STANDARD
TZOFFSETFROM:-0400
TZOFFSETTO:-0500
TZNAME:EST
DTSTART:20241103T060000
END:STANDARD
BEGIN:DAYLIGHT
TZOFFSETFROM:-0500
TZOFFSETTO:-0400
TZNAME:EDT
DTSTART:20250309T070000
END:DAYLIGHT
BEGIN:STANDARD
TZOFFSETFROM:-0400
TZOFFSETTO:-0500
TZNAME:EST
DTSTART:20251102T060000
END:STANDARD
END:VTIMEZONE
BEGIN:VEVENT
DTSTART;VALUE=DATE:20240922
DTEND;VALUE=DATE:20240923
DTSTAMP:20260423T214609
CREATED:20240918T120427Z
LAST-MODIFIED:20240918T120427Z
UID:10000733-1726963200-1727049599@fortmitchell.com
SUMMARY:General Ormsby Mitchel Park Pavilion Reserved
DESCRIPTION:
URL:https://fortmitchell.com/event/general-ormsby-mitchel-park-pavilion-reserved-96/
LOCATION:General Ormsby Mitchel Park\, 261 Grandview Drive\, Fort Mitchell\, KY\, 41017\, United States
ATTACH;FMTTYPE=image/png:https://fortmitchell.com/wp-content/uploads/2023/04/City-of-Fort-Mitchell-General-Ormsby-Mitchel-Park-Pavilion-Reserved.png
ORGANIZER;CN="Joe Christofield":MAILTO:jchristofield@fortmitchell.com
END:VEVENT
BEGIN:VEVENT
DTSTART;TZID=America/New_York:20240919T190000
DTEND;TZID=America/New_York:20240919T210000
DTSTAMP:20260423T214609
CREATED:20240119T122804Z
LAST-MODIFIED:20240119T122804Z
UID:10000575-1726772400-1726779600@fortmitchell.com
SUMMARY:Garden Club Meeting
DESCRIPTION:Fort Mitchell Garden Club Meeting\nThursday\, September 19\, 2024\n7:00pm\nFort Mitchell City Building\n2355 Dixie Highway\nFort Mitchell\, KY 41017
URL:https://fortmitchell.com/event/garden-club-meeting-22/
LOCATION:Fort Mitchell City Building (Council Chamber)\, 2355 Dixie Highway\, Fort Mitchell\, KY\, 41017\, United States
ORGANIZER;CN="Joe Christofield":MAILTO:jchristofield@fortmitchell.com
END:VEVENT
BEGIN:VEVENT
DTSTART;VALUE=DATE:20240919
DTEND;VALUE=DATE:20240920
DTSTAMP:20260423T214609
CREATED:20240709T140023Z
LAST-MODIFIED:20240709T140023Z
UID:10000716-1726704000-1726790399@fortmitchell.com
SUMMARY:General Ormsby Mitchel Park Pavilion Reserved
DESCRIPTION:
URL:https://fortmitchell.com/event/general-ormsby-mitchel-park-pavilion-reserved-63/
LOCATION:General Ormsby Mitchel Park\, 261 Grandview Drive\, Fort Mitchell\, KY\, 41017\, United States
ATTACH;FMTTYPE=image/png:https://fortmitchell.com/wp-content/uploads/2023/04/City-of-Fort-Mitchell-General-Ormsby-Mitchel-Park-Pavilion-Reserved.png
ORGANIZER;CN="Joe Christofield":MAILTO:jchristofield@fortmitchell.com
END:VEVENT
BEGIN:VEVENT
DTSTART;TZID=America/New_York:20240918T090000
DTEND;TZID=America/New_York:20240918T110000
DTSTAMP:20260423T214609
CREATED:20240418T131429Z
LAST-MODIFIED:20240418T131508Z
UID:10000665-1726650000-1726657200@fortmitchell.com
SUMMARY:Senior Resource Seminar (Taking Control of Your Healthcare - Medicare and Scam Prevention)
DESCRIPTION:Senior Resource Seminar\nTake Control of Your Healthcare\n\n(Medicare and Scam Prevention)\nWednesday\, September 18\n9:00am – 11:00am\nFort Mitchell City Building\n2355 Dixie Highway\nFort Mitchell\, KY 41017\n\n\n\nSpace is limited. Register for each seminar by emailing City of Fort Mitchell Programs & Communications Coordinator Joe Christofield at jchristofield@fortmitchell.com or by calling 859-331-1212.
URL:https://fortmitchell.com/event/senior-resource-seminar-taking-control-of-your-healthcare-medicare-and-scam-prevention/
LOCATION:Fort Mitchell City Building (Council Chamber)\, 2355 Dixie Highway\, Fort Mitchell\, KY\, 41017\, United States
ATTACH;FMTTYPE=image/png:https://fortmitchell.com/wp-content/uploads/2024/04/Senior-Resource-Seminar-Schedule-2024.png
ORGANIZER;CN="Joe Christofield":MAILTO:jchristofield@fortmitchell.com
END:VEVENT
BEGIN:VEVENT
DTSTART;TZID=America/New_York:20240917T190000
DTEND;TZID=America/New_York:20240917T200000
DTSTAMP:20260423T214609
CREATED:20240912T121100Z
LAST-MODIFIED:20240912T121100Z
UID:10000732-1726599600-1726603200@fortmitchell.com
SUMMARY:Board of Adjustment Meeting
DESCRIPTION:City of Fort Mitchell Board of Adjustment Meeting Agenda 9-17-24 \nCity of Fort Mitchell Board of Adjustment Meeting\nTuesday\, September 17\, 2024\n7:00pm\nFort Mitchell City Building (Council Chamber)\n2355 Dixie Highway\nFort Mitchell\, KY 41017
URL:https://fortmitchell.com/event/board-of-adjustment-meeting-12/
LOCATION:Fort Mitchell City Building (Council Chamber)\, 2355 Dixie Highway\, Fort Mitchell\, KY\, 41017\, United States
ATTACH;FMTTYPE=image/jpeg:https://fortmitchell.com/wp-content/uploads/2024/09/City-of-Fort-Mitchell-Board-of-Adjustment-Meeting-Agenda-9-17-24.jpeg
ORGANIZER;CN="Joe Christofield":MAILTO:jchristofield@fortmitchell.com
END:VEVENT
BEGIN:VEVENT
DTSTART;TZID=America/New_York:20240911T183000
DTEND;TZID=America/New_York:20240911T193000
DTSTAMP:20260423T214609
CREATED:20240621T164958Z
LAST-MODIFIED:20240906T203206Z
UID:10000709-1726079400-1726083000@fortmitchell.com
SUMMARY:Tree Board Meeting
DESCRIPTION:City of Fort Mitchell Tree Board Meeting Agenda 9-11-24 \nCity of Fort MitchellTree Board MeetingWednesday\, September 11\, 20246:30pmCity Building (Council Chamber)2355 Dixie HighwayFort Mitchell\, KY 41017
URL:https://fortmitchell.com/event/tree-board-meeting-12/
LOCATION:Fort Mitchell City Building (Council Chamber)\, 2355 Dixie Highway\, Fort Mitchell\, KY\, 41017\, United States
ATTACH;FMTTYPE=image/jpeg:https://fortmitchell.com/wp-content/uploads/2024/06/City-of-Fort-Mitchell-Tree-Board-Meeting-Agenda-9-11-24.jpeg
ORGANIZER;CN="Joe Christofield":MAILTO:jchristofield@fortmitchell.com
END:VEVENT
BEGIN:VEVENT
DTSTART;VALUE=DATE:20240911
DTEND;VALUE=DATE:20240912
DTSTAMP:20260423T214609
CREATED:20240909T174333Z
LAST-MODIFIED:20240909T174333Z
UID:10000730-1726012800-1726099199@fortmitchell.com
SUMMARY:General Ormsby Mitchel Park Pavilion Reserved
DESCRIPTION:
URL:https://fortmitchell.com/event/general-ormsby-mitchel-park-pavilion-reserved-95/
LOCATION:General Ormsby Mitchel Park\, 261 Grandview Drive\, Fort Mitchell\, KY\, 41017\, United States
ATTACH;FMTTYPE=image/png:https://fortmitchell.com/wp-content/uploads/2023/04/City-of-Fort-Mitchell-General-Ormsby-Mitchel-Park-Pavilion-Reserved.png
ORGANIZER;CN="Joe Christofield":MAILTO:jchristofield@fortmitchell.com
END:VEVENT
BEGIN:VEVENT
DTSTART;TZID=America/New_York:20240910T140000
DTEND;TZID=America/New_York:20240910T153000
DTSTAMP:20260423T214609
CREATED:20240221T161958Z
LAST-MODIFIED:20240221T161958Z
UID:10000602-1725976800-1725982200@fortmitchell.com
SUMMARY:Bingo 4 Seniors 55+
DESCRIPTION:Bingo 4 Seniors 55+\nTuesday\, September 10\, 2024\n2:00pm – 3:30pm\nFort Mitchell City Building (Council Chamber)\n2355 Dixie Highway\nFort Mitchell\, KY 41017\nFort Mitchell & Lakeside Park Residents
URL:https://fortmitchell.com/event/bingo-4-seniors-55-4/
LOCATION:Fort Mitchell City Building (Council Chamber)\, 2355 Dixie Highway\, Fort Mitchell\, KY\, 41017\, United States
ATTACH;FMTTYPE=image/png:https://fortmitchell.com/wp-content/uploads/2024/02/City-of-Fort-Mitchell-Bingo-4-Seniors-55-9-10-24-Website.png
ORGANIZER;CN="Joe Christofield":MAILTO:jchristofield@fortmitchell.com
END:VEVENT
BEGIN:VEVENT
DTSTART;TZID=America/New_York:20240909T183000
DTEND;TZID=America/New_York:20240909T193000
DTSTAMP:20260423T214609
CREATED:20231229T183314Z
LAST-MODIFIED:20240906T202604Z
UID:10000533-1725906600-1725910200@fortmitchell.com
SUMMARY:City Council Meeting
DESCRIPTION:City of Fort Mitchell Council Meeting Agenda 9-9-24 \nCity of Fort Mitchell\nCity Council Meeting\nMonday\, September 9\, 2024\n6:30pm\nCity Building (Council Chamber)\n2355 Dixie Highway\nFort Mitchell\, KY 41017
URL:https://fortmitchell.com/event/city-council-meeting-54/
LOCATION:Fort Mitchell City Building (Council Chamber)\, 2355 Dixie Highway\, Fort Mitchell\, KY\, 41017\, United States
ATTACH;FMTTYPE=image/jpeg:https://fortmitchell.com/wp-content/uploads/2023/12/City-of-Fort-Mitchell-Council-Meeting-Agenda-9-9-24.jpeg
ORGANIZER;CN="Joe Christofield":MAILTO:jchristofield@fortmitchell.com
END:VEVENT
BEGIN:VEVENT
DTSTART;VALUE=DATE:20240908
DTEND;VALUE=DATE:20240909
DTSTAMP:20260423T214609
CREATED:20240815T121143Z
LAST-MODIFIED:20240815T121143Z
UID:10000725-1725753600-1725839999@fortmitchell.com
SUMMARY:General Ormsby Mitchel Park Pavilion Reserved
DESCRIPTION:
URL:https://fortmitchell.com/event/general-ormsby-mitchel-park-pavilion-reserved-92/
LOCATION:General Ormsby Mitchel Park\, 261 Grandview Drive\, Fort Mitchell\, KY\, 41017\, United States
ATTACH;FMTTYPE=image/png:https://fortmitchell.com/wp-content/uploads/2023/04/City-of-Fort-Mitchell-General-Ormsby-Mitchel-Park-Pavilion-Reserved.png
ORGANIZER;CN="Joe Christofield":MAILTO:jchristofield@fortmitchell.com
END:VEVENT
BEGIN:VEVENT
DTSTART;TZID=America/New_York:20240903T180000
DTEND;TZID=America/New_York:20240903T190000
DTSTAMP:20260423T214609
CREATED:20240306T175231Z
LAST-MODIFIED:20240808T191009Z
UID:10000630-1725386400-1725390000@fortmitchell.com
SUMMARY:LiveWell Fort Mitchell Produce Popup
DESCRIPTION:LiveWell Fort Mitchell\nProduce Popup\nTuesday\, September 3\, 2024\n6:00pm\nFort Mitchell City Building \n(Parking Lot – Walter Gieske Family Community Garden)\n2355 Dixie Highway\nFort Mitchell\, KY 41017\nBring Bag For Produce!
URL:https://fortmitchell.com/event/livewell-fort-mitchell-produce-popup-10/
LOCATION:Fort Mitchell City Building (Parking Lot)\, 2355 Dixie Highway\, Fort Mitchell\, KY 41017\, Fort Mitchell\, KY\, 41017\, United States
ATTACH;FMTTYPE=image/png:https://fortmitchell.com/wp-content/uploads/2024/03/LiveWell-Fort-Mitchell-Produce-Popup-Flyer-2024.png
ORGANIZER;CN="Joe Christofield":MAILTO:jchristofield@fortmitchell.com
END:VEVENT
BEGIN:VEVENT
DTSTART;TZID=America/New_York:20240903T180000
DTEND;TZID=America/New_York:20240903T190000
DTSTAMP:20260423T214609
CREATED:20231229T183835Z
LAST-MODIFIED:20240827T122555Z
UID:10000544-1725386400-1725390000@fortmitchell.com
SUMMARY:Park Board Meeting
DESCRIPTION:City of Fort Mitchell Park Board Meeting Agenda 9-3-24 \nCity of Fort Mitchell\nPark Board Meeting\nTuesday\, September 3\, 2024\n6:00pm\nGeneral Ormsby Mitchel Park\n261 Grandview Drive\nFort Mitchell\, KY 41017
URL:https://fortmitchell.com/event/park-board-meeting-37/
LOCATION:General Ormsby Mitchel Park\, 261 Grandview Drive\, Fort Mitchell\, KY\, 41017\, United States
ATTACH;FMTTYPE=image/jpeg:https://fortmitchell.com/wp-content/uploads/2023/12/City-of-Fort-Mitchell-Park-Board-Meeting-Agenda-9-3-24.jpeg
ORGANIZER;CN="Joe Christofield":MAILTO:jchristofield@fortmitchell.com
END:VEVENT
BEGIN:VEVENT
DTSTART;VALUE=DATE:20240902
DTEND;VALUE=DATE:20240903
DTSTAMP:20260423T214609
CREATED:20231229T185939Z
LAST-MODIFIED:20240823T133604Z
UID:10000552-1725235200-1725321599@fortmitchell.com
SUMMARY:City Offices Closed (Labor Day)
DESCRIPTION:
URL:https://fortmitchell.com/event/city-offices-closed-labor-day/
LOCATION:Fort Mitchell City Building\, 2355 Dixie Highway\, Fort Mitchell\, KY\, 41017\, United States
ATTACH;FMTTYPE=image/png:https://fortmitchell.com/wp-content/uploads/2023/12/City-of-Fort-Mitchell-Offices-Closed-Labor-Day-9-2-24-Twitter.png
ORGANIZER;CN="Joe Christofield":MAILTO:jchristofield@fortmitchell.com
END:VEVENT
BEGIN:VEVENT
DTSTART;VALUE=DATE:20240830
DTEND;VALUE=DATE:20240831
DTSTAMP:20260423T214609
CREATED:20240813T152636Z
LAST-MODIFIED:20240813T152636Z
UID:10000724-1724976000-1725062399@fortmitchell.com
SUMMARY:General Ormsby Mitchel Park Pavilion Reserved
DESCRIPTION:
URL:https://fortmitchell.com/event/general-ormsby-mitchel-park-pavilion-reserved-91/
LOCATION:General Ormsby Mitchel Park\, 261 Grandview Drive\, Fort Mitchell\, KY\, 41017\, United States
ATTACH;FMTTYPE=image/png:https://fortmitchell.com/wp-content/uploads/2023/04/City-of-Fort-Mitchell-General-Ormsby-Mitchel-Park-Pavilion-Reserved.png
ORGANIZER;CN="Joe Christofield":MAILTO:jchristofield@fortmitchell.com
END:VEVENT
BEGIN:VEVENT
DTSTART;VALUE=DATE:20240829
DTEND;VALUE=DATE:20240830
DTSTAMP:20260423T214609
CREATED:20240826T155002Z
LAST-MODIFIED:20240826T155002Z
UID:10000727-1724889600-1724975999@fortmitchell.com
SUMMARY:General Ormsby Mitchel Park Pavilion Reserved
DESCRIPTION:
URL:https://fortmitchell.com/event/general-ormsby-mitchel-park-pavilion-reserved-93/
LOCATION:General Ormsby Mitchel Park\, 261 Grandview Drive\, Fort Mitchell\, KY\, 41017\, United States
ATTACH;FMTTYPE=image/png:https://fortmitchell.com/wp-content/uploads/2023/04/City-of-Fort-Mitchell-General-Ormsby-Mitchel-Park-Pavilion-Reserved.png
ORGANIZER;CN="Joe Christofield":MAILTO:jchristofield@fortmitchell.com
END:VEVENT
BEGIN:VEVENT
DTSTART;TZID=America/New_York:20240826T183000
DTEND;TZID=America/New_York:20240826T193000
DTSTAMP:20260423T214609
CREATED:20231229T183254Z
LAST-MODIFIED:20240823T125218Z
UID:10000532-1724697000-1724700600@fortmitchell.com
SUMMARY:City Council Meeting
DESCRIPTION:City of Fort Mitchell Council Meeting Agenda 8-26-24 \nCity of Fort MitchellCity Council MeetingMonday\, August 26\, 20246:30pmCity Building (Council Chamber)2355 Dixie HighwayFort Mitchell\, KY 41017
URL:https://fortmitchell.com/event/city-council-meeting-53/
LOCATION:Fort Mitchell City Building (Council Chamber)\, 2355 Dixie Highway\, Fort Mitchell\, KY\, 41017\, United States
ATTACH;FMTTYPE=image/jpeg:https://fortmitchell.com/wp-content/uploads/2023/12/City-of-Fort-Mitchell-Council-Meeting-Agenda-8-26-24.jpeg
ORGANIZER;CN="Joe Christofield":MAILTO:jchristofield@fortmitchell.com
END:VEVENT
BEGIN:VEVENT
DTSTART;TZID=America/New_York:20240826T183000
DTEND;TZID=America/New_York:20240826T190000
DTSTAMP:20260423T214609
CREATED:20240815T151601Z
LAST-MODIFIED:20240815T151601Z
UID:10000726-1724697000-1724698800@fortmitchell.com
SUMMARY:Tax Rate Public Hearing
DESCRIPTION:City of Fort Mitchell Tax Rate Public Hearing 8-26-24 \nCity of Fort Mitchell\nTax Rate Public Hearing\nMonday\, August 26\, 2024\n6:30pm\nFort Mitchell City Building (Council Chamber)\n2355 Dixie Highway\nFort Mitchell\, KY 41017
URL:https://fortmitchell.com/event/tax-rate-public-hearing/
LOCATION:Fort Mitchell City Building (Council Chamber)\, 2355 Dixie Highway\, Fort Mitchell\, KY\, 41017\, United States
ATTACH;FMTTYPE=image/jpeg:https://fortmitchell.com/wp-content/uploads/2024/08/City-of-Fort-Mitchell-Tax-Rate-Public-Hearing-8-26-24.jpeg
ORGANIZER;CN="Joe Christofield":MAILTO:jchristofield@fortmitchell.com
END:VEVENT
BEGIN:VEVENT
DTSTART;VALUE=DATE:20240825
DTEND;VALUE=DATE:20240826
DTSTAMP:20260423T214609
CREATED:20240813T152311Z
LAST-MODIFIED:20240813T152311Z
UID:10000723-1724544000-1724630399@fortmitchell.com
SUMMARY:General Ormsby Mitchel Park Pavilion Reserved
DESCRIPTION:
URL:https://fortmitchell.com/event/general-ormsby-mitchel-park-pavilion-reserved-90/
LOCATION:General Ormsby Mitchel Park\, 261 Grandview Drive\, Fort Mitchell\, KY\, 41017\, United States
ATTACH;FMTTYPE=image/png:https://fortmitchell.com/wp-content/uploads/2023/04/City-of-Fort-Mitchell-General-Ormsby-Mitchel-Park-Pavilion-Reserved.png
ORGANIZER;CN="Joe Christofield":MAILTO:jchristofield@fortmitchell.com
END:VEVENT
BEGIN:VEVENT
DTSTART;TZID=America/New_York:20240821T090000
DTEND;TZID=America/New_York:20240821T110000
DTSTAMP:20260423T214609
CREATED:20240418T131251Z
LAST-MODIFIED:20240515T190337Z
UID:10000664-1724230800-1724238000@fortmitchell.com
SUMMARY:Senior Resource Seminar (Meeting Your Healthcare Needs – Hospice vs Palliative Care)
DESCRIPTION:Senior Resource Seminar\nMeeting Your Healthcare Needs\n\n(Hospice vs Palliative Care)\nWednesday\, August 21\n9:00am – 11:00am\nLakeside Park City Building\n9 Buttermilk Pike\nLakeside Park\, KY 41017\n\n\n\n\n\nSpace is limited. Register for each seminar by emailing City of Fort Mitchell Programs & Communications Coordinator Joe Christofield at jchristofield@fortmitchell.com or by calling 859-331-1212.
URL:https://fortmitchell.com/event/senior-resource-seminar-meeting-your-healthcare-needs-hospice-vs-palliative-care/
LOCATION:Lakeside Park City Building\, 9 Buttermilk Pike\, Lakeside Park\, KY\, 41017\, United States
ATTACH;FMTTYPE=image/png:https://fortmitchell.com/wp-content/uploads/2024/04/Senior-Resource-Seminar-Schedule-2024.png
ORGANIZER;CN="Joe Christofield":MAILTO:jchristofield@fortmitchell.com
END:VEVENT
BEGIN:VEVENT
DTSTART;TZID=America/New_York:20240815T190000
DTEND;TZID=America/New_York:20240815T210000
DTSTAMP:20260423T214609
CREATED:20240119T122739Z
LAST-MODIFIED:20240808T185801Z
UID:10000574-1723748400-1723755600@fortmitchell.com
SUMMARY:(CANCELLED) Garden Club Meeting
DESCRIPTION:(CANCELLED) \nFort Mitchell Garden Club Meeting\nThursday\, August 15\, 2024\n7:00pm\nFort Mitchell City Building\n2355 Dixie Highway\nFort Mitchell\, KY 41017
URL:https://fortmitchell.com/event/garden-club-meeting-21/
LOCATION:Fort Mitchell City Building (Council Chamber)\, 2355 Dixie Highway\, Fort Mitchell\, KY\, 41017\, United States
ORGANIZER;CN="Joe Christofield":MAILTO:jchristofield@fortmitchell.com
END:VEVENT
BEGIN:VEVENT
DTSTART;TZID=America/New_York:20240812T183000
DTEND;TZID=America/New_York:20240812T193000
DTSTAMP:20260423T214609
CREATED:20231229T183237Z
LAST-MODIFIED:20240809T155424Z
UID:10000531-1723487400-1723491000@fortmitchell.com
SUMMARY:City Council Meeting
DESCRIPTION:City of Fort Mitchell Council Meeting Agenda 8-12-24 \nCity of Fort MitchellCity Council MeetingMonday\, August 12\, 20246:30pmCity Building (Council Chamber)2355 Dixie HighwayFort Mitchell\, KY 41017
URL:https://fortmitchell.com/event/city-council-meeting-52/
LOCATION:Fort Mitchell City Building (Council Chamber)\, 2355 Dixie Highway\, Fort Mitchell\, KY\, 41017\, United States
ATTACH;FMTTYPE=image/jpeg:https://fortmitchell.com/wp-content/uploads/2023/12/City-of-Fort-Mitchell-Council-Meeting-Agenda-8-12-24.jpeg
ORGANIZER;CN="Joe Christofield":MAILTO:jchristofield@fortmitchell.com
END:VEVENT
BEGIN:VEVENT
DTSTART;VALUE=DATE:20240810
DTEND;VALUE=DATE:20240811
DTSTAMP:20260423T214609
CREATED:20240808T161510Z
LAST-MODIFIED:20240808T161510Z
UID:10000721-1723248000-1723334399@fortmitchell.com
SUMMARY:General Ormsby Mitchel Park Pavilion Reserved
DESCRIPTION:
URL:https://fortmitchell.com/event/general-ormsby-mitchel-park-pavilion-reserved-88/
LOCATION:General Ormsby Mitchel Park\, 261 Grandview Drive\, Fort Mitchell\, KY\, 41017\, United States
ATTACH;FMTTYPE=image/png:https://fortmitchell.com/wp-content/uploads/2023/04/City-of-Fort-Mitchell-General-Ormsby-Mitchel-Park-Pavilion-Reserved.png
ORGANIZER;CN="Joe Christofield":MAILTO:jchristofield@fortmitchell.com
END:VEVENT
BEGIN:VEVENT
DTSTART;TZID=America/New_York:20240809T203000
DTEND;TZID=America/New_York:20240809T223000
DTSTAMP:20260423T214609
CREATED:20240126T215331Z
LAST-MODIFIED:20240809T144120Z
UID:10000589-1723235400-1723242600@fortmitchell.com
SUMMARY:The Whammies Concert @ The Corn Roast
DESCRIPTION:The location of this show has been moved to coincide with the Blessed Sacrament Corn Roast Festival (5:30pm – 11:30pm). See new location and details below: \nThe Whammies ConcertFriday\, August 9\, 20248:30pm – 10:30pmDCCH Center Fairgrounds75 Orphanage RoadFort Mitchell\, KY 41017 \nThe Shadwell Band will play from 6:00pm – 8:00pm \nFOOD:Corn on the CobGrill Options from the BSS Boosters GrillHoly DonutsKona IceSnappy Tomato PizzaSweets & Meats BBQTaco Oso \nDRINKS:Beer (Bottle and Draft Selections)GatoradeSeltzersSoft DrinksWater \nACTIVITIES:Big 6Chuck-a-LuckCrazy WheelDuck RacesInflatablesPull TabsSilent AuctionsSoccer ShootoutSplit the potVarious Kids Games
URL:https://fortmitchell.com/event/the-whammies-concert-2/
LOCATION:DCCH Center Fairgrounds\, 75 Orphanage Road\, Fort Mitchell\, KY\, 41017\, United States
ATTACH;FMTTYPE=image/jpeg:https://fortmitchell.com/wp-content/uploads/2024/01/The-Whammies-The-Corn-Roast-8-9-24.jpg
ORGANIZER;CN="Joe Christofield":MAILTO:jchristofield@fortmitchell.com
END:VEVENT
BEGIN:VEVENT
DTSTART;VALUE=DATE:20240809
DTEND;VALUE=DATE:20240810
DTSTAMP:20260423T214609
CREATED:20240130T132708Z
LAST-MODIFIED:20240130T132718Z
UID:10000596-1723161600-1723247999@fortmitchell.com
SUMMARY:General Ormsby Mitchel Park Pavilion Reserved
DESCRIPTION:
URL:https://fortmitchell.com/event/general-ormsby-mitchel-park-pavilion-reserved-51/
LOCATION:General Ormsby Mitchel Park\, 261 Grandview Drive\, Fort Mitchell\, KY\, 41017\, United States
ATTACH;FMTTYPE=image/png:https://fortmitchell.com/wp-content/uploads/2023/04/City-of-Fort-Mitchell-General-Ormsby-Mitchel-Park-Pavilion-Reserved.png
ORGANIZER;CN="Joe Christofield":MAILTO:jchristofield@fortmitchell.com
END:VEVENT
BEGIN:VEVENT
DTSTART;TZID=America/New_York:20240806T183000
DTEND;TZID=America/New_York:20240806T193000
DTSTAMP:20260423T214609
CREATED:20231229T183811Z
LAST-MODIFIED:20240807T123832Z
UID:10000543-1722969000-1722972600@fortmitchell.com
SUMMARY:Park Board Meeting
DESCRIPTION:City of Fort Mitchell Park Board Meeting Agenda 8-6-24 \nCity of Fort Mitchell\nPark Board Meeting\nTuesday\, August 6\, 2024\n6:30pm\nGeneral Ormsby Mitchel Park\n261 Grandview Drive\nFort Mitchell\, KY 41017
URL:https://fortmitchell.com/event/park-board-meeting-36/
LOCATION:General Ormsby Mitchel Park\, 261 Grandview Drive\, Fort Mitchell\, KY\, 41017\, United States
ATTACH;FMTTYPE=image/jpeg:https://fortmitchell.com/wp-content/uploads/2023/12/City-of-Fort-Mitchell-Park-Board-Meeting-Agenda-8-6-24.jpeg
ORGANIZER;CN="Joe Christofield":MAILTO:jchristofield@fortmitchell.com
END:VEVENT
BEGIN:VEVENT
DTSTART;TZID=America/New_York:20240806T180000
DTEND;TZID=America/New_York:20240806T190000
DTSTAMP:20260423T214609
CREATED:20240306T175149Z
LAST-MODIFIED:20240604T122246Z
UID:10000629-1722967200-1722970800@fortmitchell.com
SUMMARY:LiveWell Fort Mitchell Produce Popup
DESCRIPTION:LiveWell Fort Mitchell\nProduce Popup\nTuesday\, August 6\, 2024\n6:00pm\nFort Mitchell City Building \n(Parking Lot – Walter Gieske Family Community Garden)\n2355 Dixie Highway\nFort Mitchell\, KY 41017\nBring Bag For Produce!
URL:https://fortmitchell.com/event/livewell-fort-mitchell-produce-popup-9/
LOCATION:Fort Mitchell City Building (Parking Lot)\, 2355 Dixie Highway\, Fort Mitchell\, KY 41017\, Fort Mitchell\, KY\, 41017\, United States
ATTACH;FMTTYPE=image/png:https://fortmitchell.com/wp-content/uploads/2024/03/LiveWell-Fort-Mitchell-Produce-Popup-Flyer-8-6-24-1.png
ORGANIZER;CN="Joe Christofield":MAILTO:jchristofield@fortmitchell.com
END:VEVENT
BEGIN:VEVENT
DTSTART;VALUE=DATE:20240805
DTEND;VALUE=DATE:20240806
DTSTAMP:20260423T214609
CREATED:20240729T160257Z
LAST-MODIFIED:20240729T160257Z
UID:10000720-1722816000-1722902399@fortmitchell.com
SUMMARY:General Ormsby Mitchel Park Pavilion Reserved
DESCRIPTION:
URL:https://fortmitchell.com/event/general-ormsby-mitchel-park-pavilion-reserved-87/
LOCATION:General Ormsby Mitchel Park\, 261 Grandview Drive\, Fort Mitchell\, KY\, 41017\, United States
ATTACH;FMTTYPE=image/png:https://fortmitchell.com/wp-content/uploads/2023/04/City-of-Fort-Mitchell-General-Ormsby-Mitchel-Park-Pavilion-Reserved.png
ORGANIZER;CN="Joe Christofield":MAILTO:jchristofield@fortmitchell.com
END:VEVENT
BEGIN:VEVENT
DTSTART;VALUE=DATE:20240804
DTEND;VALUE=DATE:20240805
DTSTAMP:20260423T214609
CREATED:20240724T123618Z
LAST-MODIFIED:20240724T123618Z
UID:10000719-1722729600-1722815999@fortmitchell.com
SUMMARY:General Ormsby Mitchel Park Pavilion Reserved
DESCRIPTION:
URL:https://fortmitchell.com/event/general-ormsby-mitchel-park-pavilion-reserved-59/
LOCATION:General Ormsby Mitchel Park\, 261 Grandview Drive\, Fort Mitchell\, KY\, 41017\, United States
ATTACH;FMTTYPE=image/png:https://fortmitchell.com/wp-content/uploads/2023/04/City-of-Fort-Mitchell-General-Ormsby-Mitchel-Park-Pavilion-Reserved.png
ORGANIZER;CN="Joe Christofield":MAILTO:jchristofield@fortmitchell.com
END:VEVENT
BEGIN:VEVENT
DTSTART;TZID=America/New_York:20240803T100000
DTEND;TZID=America/New_York:20240803T130000
DTSTAMP:20260423T214609
CREATED:20240306T203821Z
LAST-MODIFIED:20240306T221839Z
UID:10000632-1722679200-1722690000@fortmitchell.com
SUMMARY:Fort Mitchell Day at Vent Haven Museum
DESCRIPTION:Fort Mitchell Day at Vent Haven Museum\nSaturday\, August 3\, 2024\n10:00am – 1:00pm\nVent Haven Museum\n33 West Maple Avenue\nFort Mitchell\, KY 41017\nFort Mitchell Residents (free admission with proof of ID)
URL:https://fortmitchell.com/event/fort-mitchell-day-at-vent-haven-museum/
LOCATION:Vent Haven Museum\, 33 West Maple Avenue\, Fort Mitchell\, KY\, 41017\, United States
ATTACH;FMTTYPE=image/png:https://fortmitchell.com/wp-content/uploads/2024/03/City-of-Fort-Mitchell-Vent-Haven-Museum-Day-8-3-24-Website.png
ORGANIZER;CN="Joe Christofield":MAILTO:jchristofield@fortmitchell.com
END:VEVENT
BEGIN:VEVENT
DTSTART;VALUE=DATE:20240803
DTEND;VALUE=DATE:20240804
DTSTAMP:20260423T214609
CREATED:20240523T135503Z
LAST-MODIFIED:20240523T135503Z
UID:10000684-1722643200-1722729599@fortmitchell.com
SUMMARY:General Ormsby Mitchel Park Pavilion Reserved
DESCRIPTION:
URL:https://fortmitchell.com/event/general-ormsby-mitchel-park-pavilion-reserved-80/
LOCATION:General Ormsby Mitchel Park\, 261 Grandview Drive\, Fort Mitchell\, KY\, 41017\, United States
ATTACH;FMTTYPE=image/png:https://fortmitchell.com/wp-content/uploads/2023/04/City-of-Fort-Mitchell-General-Ormsby-Mitchel-Park-Pavilion-Reserved.png
ORGANIZER;CN="Joe Christofield":MAILTO:jchristofield@fortmitchell.com
END:VEVENT
END:VCALENDAR