BEGIN:VCALENDAR
VERSION:2.0
PRODID:-//City of Fort Mitchell KY - ECPv6.15.20//NONSGML v1.0//EN
CALSCALE:GREGORIAN
METHOD:PUBLISH
X-ORIGINAL-URL:https://fortmitchell.com
X-WR-CALDESC:Events for City of Fort Mitchell KY
REFRESH-INTERVAL;VALUE=DURATION:PT1H
X-Robots-Tag:noindex
X-PUBLISHED-TTL:PT1H
BEGIN:VTIMEZONE
TZID:America/New_York
BEGIN:DAYLIGHT
TZOFFSETFROM:-0500
TZOFFSETTO:-0400
TZNAME:EDT
DTSTART:20200308T070000
END:DAYLIGHT
BEGIN:STANDARD
TZOFFSETFROM:-0400
TZOFFSETTO:-0500
TZNAME:EST
DTSTART:20201101T060000
END:STANDARD
BEGIN:DAYLIGHT
TZOFFSETFROM:-0500
TZOFFSETTO:-0400
TZNAME:EDT
DTSTART:20210314T070000
END:DAYLIGHT
BEGIN:STANDARD
TZOFFSETFROM:-0400
TZOFFSETTO:-0500
TZNAME:EST
DTSTART:20211107T060000
END:STANDARD
BEGIN:DAYLIGHT
TZOFFSETFROM:-0500
TZOFFSETTO:-0400
TZNAME:EDT
DTSTART:20220313T070000
END:DAYLIGHT
BEGIN:STANDARD
TZOFFSETFROM:-0400
TZOFFSETTO:-0500
TZNAME:EST
DTSTART:20221106T060000
END:STANDARD
END:VTIMEZONE
BEGIN:VEVENT
DTSTART;TZID=America/New_York:20210503T183000
DTEND;TZID=America/New_York:20210503T203000
DTSTAMP:20260423T115045
CREATED:20201203T152538Z
LAST-MODIFIED:20210716T214904Z
UID:10000067-1620066600-1620073800@fortmitchell.com
SUMMARY:City Council Meeting
DESCRIPTION:The meeting will air LIVE on the following cable channels: \n\n\n– TBNK’s Government Channel 2 on Spectrum 204– Cincinnati Bell Fioptics 816 \nCLICK HERE to watch the City Council Meeting LIVE via YouTube \nCLICK HERE to watch the City Council Meeting LIVE via TBNK \nCLICK HERE to watch the City Council Meeting LIVE via Facebook (TBNK) \n\n\nCLICK HERE to watch the City Council Meeting LIVE via Facebook (City of Fort Mitchell) \nCLICK HERE to view the City Council Meeting agenda \nCLICK HERE to submit questions/comments prior to the City Council Meeting \nCLICK HERE to view future City Council Meeting dates and times \nCLICK HERE to view City Council Meeting minutes
URL:https://fortmitchell.com/event/city-council-meeting-7/
LOCATION:Fort Mitchell City Building (Council Chamber)\, 2355 Dixie Highway\, Fort Mitchell\, KY\, 41017\, United States
ATTACH;FMTTYPE=image/jpeg:https://fortmitchell.com/wp-content/uploads/2020/12/City-of-Fort-Mitchell-Council-Agenda-5-3-21.jpg
ORGANIZER;CN="Joe Christofield":MAILTO:jchristofield@fortmitchell.com
END:VEVENT
BEGIN:VEVENT
DTSTART;TZID=America/New_York:20210505T170000
DTEND;TZID=America/New_York:20210505T190000
DTSTAMP:20260423T115045
CREATED:20210415T135216Z
LAST-MODIFIED:20210415T194708Z
UID:10000007-1620234000-1620241200@fortmitchell.com
SUMMARY:Community Garden Season Kick-Off
DESCRIPTION:LiveWell Ft. Mitchell will hold a kick-off the garden season event on Wednesday\, May 5\, 2021 at 5:00pm at the Community Garden next to the city building (2355 Dixie Highway\, Fort Mitchell\, KY 41017).
URL:https://fortmitchell.com/event/community-garden-season-kick-off/
LOCATION:Fort Mitchell\, KY\, United States
ATTACH;FMTTYPE=image/jpeg:https://fortmitchell.com/wp-content/uploads/2021/04/LiveWell-Ft.-Mitchell-5-5-21.jpg
ORGANIZER;CN="Joe Christofield":MAILTO:jchristofield@fortmitchell.com
END:VEVENT
BEGIN:VEVENT
DTSTART;TZID=America/New_York:20210505T180000
DTEND;TZID=America/New_York:20210505T200000
DTSTAMP:20260423T115045
CREATED:20210504T141114Z
LAST-MODIFIED:20210504T141114Z
UID:10000003-1620237600-1620244800@fortmitchell.com
SUMMARY:Budget\, Audit\, and Finance Committee Meeting
DESCRIPTION:City of Fort Mitchell Budget\, Audit\, and Finance Committee Meeting Agenda 5-5-21
URL:https://fortmitchell.com/event/budget-audit-and-finance-committee-meeting/
LOCATION:Fort Mitchell City Building (Council Chamber)\, 2355 Dixie Highway\, Fort Mitchell\, KY\, 41017\, United States
ATTACH;FMTTYPE=image/jpeg:https://fortmitchell.com/wp-content/uploads/2021/05/City-of-Fort-Mitchell-Budget-Audit-and-Finance-Committee-Meeting-Agenda-5-5-21.jpg
ORGANIZER;CN="Joe Christofield":MAILTO:jchristofield@fortmitchell.com
END:VEVENT
BEGIN:VEVENT
DTSTART;TZID=America/New_York:20210511T190000
DTEND;TZID=America/New_York:20210511T210000
DTSTAMP:20260423T115045
CREATED:20210510T151746Z
LAST-MODIFIED:20210510T151746Z
UID:10000004-1620759600-1620766800@fortmitchell.com
SUMMARY:Board of Adjustment Meeting
DESCRIPTION:City of Fort Mitchell Board of Adjustment Meeting Agenda 5-11-21
URL:https://fortmitchell.com/event/board-of-adjustment-meeting-4/
LOCATION:Fort Mitchell City Building (Council Chamber)\, 2355 Dixie Highway\, Fort Mitchell\, KY\, 41017\, United States
ATTACH;FMTTYPE=image/jpeg:https://fortmitchell.com/wp-content/uploads/2021/05/City-of-Fort-Mitchell-Board-of-Adjustment-Meeting-Agenda-5-11-21.jpg
ORGANIZER;CN="Joe Christofield":MAILTO:jchristofield@fortmitchell.com
END:VEVENT
BEGIN:VEVENT
DTSTART;TZID=America/New_York:20210515T080000
DTEND;TZID=America/New_York:20210515T120000
DTSTAMP:20260423T115045
CREATED:20210415T133637Z
LAST-MODIFIED:20210514T155936Z
UID:10000008-1621065600-1621080000@fortmitchell.com
SUMMARY:Community Yard Sale
DESCRIPTION:The City of Fort Mitchell Community Yard Sale will be held on Saturday\, May 15\, 2021 from 8:00am – 12:00pm. \nCLICK HERE for a list of registered addresses/participants. \nThis city-wide event is rain or shine. \nIf you choose to cancel due to weather\, you can host a garage (yard) sale on a different date of your choosing. \nTwo garage (yard) sales are permitted per residence per year.
URL:https://fortmitchell.com/event/community-yard-sale/
LOCATION:Fort Mitchell\, KY\, United States
ATTACH;FMTTYPE=image/png:https://fortmitchell.com/wp-content/uploads/2021/04/City-of-Fort-Mitchell-Community-Yard-Sale-5-15-21-Facebook.png
ORGANIZER;CN="Joe Christofield":MAILTO:jchristofield@fortmitchell.com
END:VEVENT
BEGIN:VEVENT
DTSTART;TZID=America/New_York:20210517T173000
DTEND;TZID=America/New_York:20210517T193000
DTSTAMP:20260423T115045
CREATED:20201203T152724Z
LAST-MODIFIED:20210517T200725Z
UID:10000016-1621272600-1621279800@fortmitchell.com
SUMMARY:City Council Meeting
DESCRIPTION:City of Fort Mitchell Council Meeting Agenda 5-17-21
URL:https://fortmitchell.com/event/city-council-budget-meeting/
LOCATION:Fort Mitchell City Building (Council Chamber)\, 2355 Dixie Highway\, Fort Mitchell\, KY\, 41017\, United States
ATTACH;FMTTYPE=image/jpeg:https://fortmitchell.com/wp-content/uploads/2020/12/City-of-Fort-Mitchell-Council-Meeting-Agenda-5-17-21-1.jpg
ORGANIZER;CN="Joe Christofield":MAILTO:jchristofield@fortmitchell.com
END:VEVENT
BEGIN:VEVENT
DTSTART;TZID=America/New_York:20210519T183000
DTEND;TZID=America/New_York:20210519T203000
DTSTAMP:20260423T115045
CREATED:20210518T154742Z
LAST-MODIFIED:20210518T154742Z
UID:10000005-1621449000-1621456200@fortmitchell.com
SUMMARY:Tree Board Meeting
DESCRIPTION:City of Fort Mitchell Tree Board Agenda 5-19-21
URL:https://fortmitchell.com/event/tree-board-meeting/
LOCATION:Fort Mitchell City Building (Council Chamber)\, 2355 Dixie Highway\, Fort Mitchell\, KY\, 41017\, United States
ATTACH;FMTTYPE=image/jpeg:https://fortmitchell.com/wp-content/uploads/2021/05/City-of-Fort-Mitchell-Tree-Board-Agenda-5-19-21.jpg
ORGANIZER;CN="Joe Christofield":MAILTO:jchristofield@fortmitchell.com
END:VEVENT
BEGIN:VEVENT
DTSTART;TZID=America/New_York:20210527T183000
DTEND;TZID=America/New_York:20210527T203000
DTSTAMP:20260423T115045
CREATED:20210525T194944Z
LAST-MODIFIED:20210525T194944Z
UID:10000006-1622140200-1622147400@fortmitchell.com
SUMMARY:Watch Hill Road Project Informational Meeting
DESCRIPTION:City of Fort Mitchell Watch Hill Road Public Meeting Agenda 5-27-21
URL:https://fortmitchell.com/event/watch-hill-road-project-informational-meeting/
LOCATION:Watch Hill Road Cul-de-sac
ATTACH;FMTTYPE=image/jpeg:https://fortmitchell.com/wp-content/uploads/2021/05/City-of-Fort-Mitchell-Watch-Hill-Road-Public-Meeting-Agenda-5-27-21.jpg
ORGANIZER;CN="Joe Christofield":MAILTO:jchristofield@fortmitchell.com
END:VEVENT
BEGIN:VEVENT
DTSTART;TZID=America/New_York:20210531T080000
DTEND;TZID=America/New_York:20210531T163000
DTSTAMP:20260423T115045
CREATED:20210215T143528Z
LAST-MODIFIED:20210415T200425Z
UID:10000033-1622448000-1622478600@fortmitchell.com
SUMMARY:Memorial Day (City Building Closed)
DESCRIPTION:
URL:https://fortmitchell.com/event/memorial-day-city-building-closed/
LOCATION:KY
ATTACH;FMTTYPE=image/png:https://fortmitchell.com/wp-content/uploads/2021/02/City-of-Fort-Mitchell-Offices-Closed-Memorial-Day-5-31-21-Facebook.png
END:VEVENT
END:VCALENDAR