BEGIN:VCALENDAR
VERSION:2.0
PRODID:-//City of Fort Mitchell KY - ECPv6.15.20//NONSGML v1.0//EN
CALSCALE:GREGORIAN
METHOD:PUBLISH
X-ORIGINAL-URL:https://fortmitchell.com
X-WR-CALDESC:Events for City of Fort Mitchell KY
REFRESH-INTERVAL;VALUE=DURATION:PT1H
X-Robots-Tag:noindex
X-PUBLISHED-TTL:PT1H
BEGIN:VTIMEZONE
TZID:America/New_York
BEGIN:DAYLIGHT
TZOFFSETFROM:-0500
TZOFFSETTO:-0400
TZNAME:EDT
DTSTART:20210314T070000
END:DAYLIGHT
BEGIN:STANDARD
TZOFFSETFROM:-0400
TZOFFSETTO:-0500
TZNAME:EST
DTSTART:20211107T060000
END:STANDARD
BEGIN:DAYLIGHT
TZOFFSETFROM:-0500
TZOFFSETTO:-0400
TZNAME:EDT
DTSTART:20220313T070000
END:DAYLIGHT
BEGIN:STANDARD
TZOFFSETFROM:-0400
TZOFFSETTO:-0500
TZNAME:EST
DTSTART:20221106T060000
END:STANDARD
BEGIN:DAYLIGHT
TZOFFSETFROM:-0500
TZOFFSETTO:-0400
TZNAME:EDT
DTSTART:20230312T070000
END:DAYLIGHT
BEGIN:STANDARD
TZOFFSETFROM:-0400
TZOFFSETTO:-0500
TZNAME:EST
DTSTART:20231105T060000
END:STANDARD
END:VTIMEZONE
BEGIN:VEVENT
DTSTART;TZID=America/New_York:20220502T183000
DTEND;TZID=America/New_York:20220502T203000
DTSTAMP:20260419T102350
CREATED:20220103T195106Z
LAST-MODIFIED:20220513T183817Z
UID:10000219-1651516200-1651523400@fortmitchell.com
SUMMARY:City Council Meeting
DESCRIPTION:The meeting will air LIVE on the following cable channels: \n\n\n– TBNK’s Government Channel 2 on Spectrum 204\n– Cincinnati Bell Fioptics 816 \nCLICK HERE to watch the City Council Meeting LIVE via TBNK \nCLICK HERE to watch the City Council Meeting LIVE via Facebook (TBNK) \n\n\nCLICK HERE to watch the City Council Meeting LIVE via Facebook (City of Fort Mitchell) \nCLICK HERE to view the City Council Meeting agenda \nCLICK HERE to submit questions/comments prior to the City Council Meeting \nCLICK HERE to view future City Council Meeting dates and times \nCLICK HERE to view City Council Meeting minutes \nCLICK HERE to view the Fort Mitchell City Council
URL:https://fortmitchell.com/event/city-council-meeting-21/
LOCATION:Fort Mitchell City Building (Council Chamber)\, 2355 Dixie Highway\, Fort Mitchell\, KY\, 41017\, United States
ATTACH;FMTTYPE=image/jpeg:https://fortmitchell.com/wp-content/uploads/2022/04/88A178E8-B446-47D5-B14D-9E8C7876FEBF.jpeg
ORGANIZER;CN="Joe Christofield":MAILTO:jchristofield@fortmitchell.com
END:VEVENT
BEGIN:VEVENT
DTSTART;VALUE=DATE:20220503
DTEND;VALUE=DATE:20220521
DTSTAMP:20260419T102350
CREATED:20220310T161353Z
LAST-MODIFIED:20220324T181938Z
UID:10000254-1651536000-1653091199@fortmitchell.com
SUMMARY:Northern Kentucky Senior Games
DESCRIPTION:Northern Kentucky Senior Games \n\nThe 2022 Northern Kentucky Senior Games will be held May 3 – May 20 at various locations across Northern Kentucky. For a registration form\, go to 2022 Northern Kentucky Senior Games. For more information\, contact:\n\n\n \n\n\nNorthern Kentucky Area Development District(859.283.1885)\n\n\n \n\n\nKenton County Parks \n\n\n(859.525.7529)\n\n\n \n\n\nBoone County Parks \n\n\n(859.334.2117)\n\n\n \n\n\nFort Thomas Recreation Department(859.781.1700)
URL:https://fortmitchell.com/event/northern-kentucky-senior-games/
LOCATION:KY
ATTACH;FMTTYPE=image/jpeg:https://fortmitchell.com/wp-content/uploads/2022/03/NKY-Senior-Games-Spring-Flyer-2022.jpg
ORGANIZER;CN="Joe Christofield":MAILTO:jchristofield@fortmitchell.com
END:VEVENT
BEGIN:VEVENT
DTSTART;TZID=America/New_York:20220503T180000
DTEND;TZID=America/New_York:20220503T200000
DTSTAMP:20260419T102350
CREATED:20220502T131311Z
LAST-MODIFIED:20220502T131311Z
UID:10000168-1651600800-1651608000@fortmitchell.com
SUMMARY:Budget\, Audit\, & Finance Committee Meeting
DESCRIPTION:City of Fort Mitchell Budget\, Audit\, & Finance Committee Meeting Agenda 5-3-22
URL:https://fortmitchell.com/event/budget-audit-finance-committee-meeting/
LOCATION:Fort Mitchell City Building (Bill Goetz Administrative Conference Room)\, 2355 Dixie Highway\, Fort Mitchell\, KY 41017\, Fort Mitchell\, KY\, 41017\, United States
ATTACH;FMTTYPE=image/jpeg:https://fortmitchell.com/wp-content/uploads/2022/05/City-of-Fort-Mitchell-Budget-Audit-Finance-Committee-Meeting-Agenda-5-3-22.jpg
ORGANIZER;CN="Joe Christofield":MAILTO:jchristofield@fortmitchell.com
END:VEVENT
BEGIN:VEVENT
DTSTART;TZID=America/New_York:20220503T190000
DTEND;TZID=America/New_York:20220503T210000
DTSTAMP:20260419T102350
CREATED:20220502T131925Z
LAST-MODIFIED:20220502T131925Z
UID:10000170-1651604400-1651611600@fortmitchell.com
SUMMARY:Park Board Meeting
DESCRIPTION:City of Fort Mitchell Park Board Meeting Agenda 05-3-22
URL:https://fortmitchell.com/event/park-board-meeting-9/
LOCATION:Fort Mitchell City Building (Council Chamber)\, 2355 Dixie Highway\, Fort Mitchell\, KY\, 41017\, United States
ATTACH;FMTTYPE=image/jpeg:https://fortmitchell.com/wp-content/uploads/2022/05/City-of-Fort-Mitchell-Park-Board-Meeting-Agenda-05-3-22.jpg
ORGANIZER;CN="Joe Christofield":MAILTO:jchristofield@fortmitchell.com
END:VEVENT
BEGIN:VEVENT
DTSTART;TZID=America/New_York:20220505T170000
DTEND;TZID=America/New_York:20220505T190000
DTSTAMP:20260419T102350
CREATED:20220309T142015Z
LAST-MODIFIED:20220309T142015Z
UID:10000246-1651770000-1651777200@fortmitchell.com
SUMMARY:LiveWell Ft. Mitchell Produce Popup
DESCRIPTION:
URL:https://fortmitchell.com/event/livewell-ft-mitchell-produce-popup-3/
LOCATION:Fort Mitchell City Building (Parking Lot)\, 2355 Dixie Highway\, Fort Mitchell\, KY 41017\, Fort Mitchell\, KY\, 41017\, United States
ATTACH;FMTTYPE=image/png:https://fortmitchell.com/wp-content/uploads/2022/03/City-of-Fort-Mitchell-LiveWell-Ft.-Mitchell-5-5-22-Facebook.png
ORGANIZER;CN="Joe Christofield":MAILTO:jchristofield@fortmitchell.com
END:VEVENT
BEGIN:VEVENT
DTSTART;TZID=America/New_York:20220510T190000
DTEND;TZID=America/New_York:20220510T210000
DTSTAMP:20260419T102350
CREATED:20220503T150345Z
LAST-MODIFIED:20220503T150345Z
UID:10000171-1652209200-1652216400@fortmitchell.com
SUMMARY:Board of Adjustment Meeting
DESCRIPTION:City of Fort Mitchell Board of Adjustment Meeting Agenda 5-10-22
URL:https://fortmitchell.com/event/board-of-adjustment-meeting-5/
LOCATION:Fort Mitchell City Building (Council Chamber)\, 2355 Dixie Highway\, Fort Mitchell\, KY\, 41017\, United States
ATTACH;FMTTYPE=image/jpeg:https://fortmitchell.com/wp-content/uploads/2022/05/City-of-Fort-Mitchell-Board-of-Adjustment-Meeting-Agenda-5-10-22.jpg
ORGANIZER;CN="Joe Christofield":MAILTO:jchristofield@fortmitchell.com
END:VEVENT
BEGIN:VEVENT
DTSTART;TZID=America/New_York:20220516T173000
DTEND;TZID=America/New_York:20220516T203000
DTSTAMP:20260419T102350
CREATED:20220103T195323Z
LAST-MODIFIED:20220513T183713Z
UID:10000220-1652722200-1652733000@fortmitchell.com
SUMMARY:City Council Budget Meeting (Not Televised)
DESCRIPTION: \n\n\n\nCLICK HERE to view the City Council Meeting agenda \nCLICK HERE to submit questions/comments prior to the City Council Meeting \nCLICK HERE to view future City Council Meeting dates and times \nCLICK HERE to view City Council Meeting minutes \nCLICK HERE to view the Fort Mitchell City Council
URL:https://fortmitchell.com/event/city-council-budget-meeting-2/
LOCATION:Fort Mitchell City Building (Council Chamber)\, 2355 Dixie Highway\, Fort Mitchell\, KY\, 41017\, United States
ATTACH;FMTTYPE=image/jpeg:https://fortmitchell.com/wp-content/uploads/2022/01/City-of-Fort-Mitchell-Council-Meeting-Agenda-5-16-22.jpg
ORGANIZER;CN="Joe Christofield":MAILTO:jchristofield@fortmitchell.com
END:VEVENT
BEGIN:VEVENT
DTSTART;VALUE=DATE:20220530
DTEND;VALUE=DATE:20220531
DTSTAMP:20260419T102350
CREATED:20220308T201818Z
LAST-MODIFIED:20220309T131808Z
UID:10000237-1653868800-1653955199@fortmitchell.com
SUMMARY:Memorial Day (City Building Closed)
DESCRIPTION:Memorial Day Holiday \nThe City of Fort Mitchell Offices Will be Closed May 30\, 2022\, in Observance of Memorial Day.
URL:https://fortmitchell.com/event/memorial-day-holiday-city-building-closed/
LOCATION:Fort Mitchell City Building\, 2355 Dixie Highway\, Fort Mitchell\, KY\, 41017\, United States
ATTACH;FMTTYPE=image/png:https://fortmitchell.com/wp-content/uploads/2022/03/City-of-Fort-Mitchell-Offices-Closed-Memorial-Day-5-30-22-Facebook.png
ORGANIZER;CN="Joe Christofield":MAILTO:jchristofield@fortmitchell.com
END:VEVENT
END:VCALENDAR