BEGIN:VCALENDAR
VERSION:2.0
PRODID:-//City of Fort Mitchell KY - ECPv6.15.20//NONSGML v1.0//EN
CALSCALE:GREGORIAN
METHOD:PUBLISH
X-ORIGINAL-URL:https://fortmitchell.com
X-WR-CALDESC:Events for City of Fort Mitchell KY
REFRESH-INTERVAL;VALUE=DURATION:PT1H
X-Robots-Tag:noindex
X-PUBLISHED-TTL:PT1H
BEGIN:VTIMEZONE
TZID:America/New_York
BEGIN:DAYLIGHT
TZOFFSETFROM:-0500
TZOFFSETTO:-0400
TZNAME:EDT
DTSTART:20210314T070000
END:DAYLIGHT
BEGIN:STANDARD
TZOFFSETFROM:-0400
TZOFFSETTO:-0500
TZNAME:EST
DTSTART:20211107T060000
END:STANDARD
BEGIN:DAYLIGHT
TZOFFSETFROM:-0500
TZOFFSETTO:-0400
TZNAME:EDT
DTSTART:20220313T070000
END:DAYLIGHT
BEGIN:STANDARD
TZOFFSETFROM:-0400
TZOFFSETTO:-0500
TZNAME:EST
DTSTART:20221106T060000
END:STANDARD
BEGIN:DAYLIGHT
TZOFFSETFROM:-0500
TZOFFSETTO:-0400
TZNAME:EDT
DTSTART:20230312T070000
END:DAYLIGHT
BEGIN:STANDARD
TZOFFSETFROM:-0400
TZOFFSETTO:-0500
TZNAME:EST
DTSTART:20231105T060000
END:STANDARD
END:VTIMEZONE
BEGIN:VEVENT
DTSTART;TZID=America/New_York:20220602T170000
DTEND;TZID=America/New_York:20220602T190000
DTSTAMP:20260420T002948
CREATED:20220309T142214Z
LAST-MODIFIED:20220309T142214Z
UID:10000247-1654189200-1654196400@fortmitchell.com
SUMMARY:LiveWell Ft. Mitchell Produce Popup
DESCRIPTION:
URL:https://fortmitchell.com/event/livewell-ft-mitchell-produce-popup-4/
LOCATION:Fort Mitchell City Building (Parking Lot)\, 2355 Dixie Highway\, Fort Mitchell\, KY 41017\, Fort Mitchell\, KY\, 41017\, United States
ATTACH;FMTTYPE=image/png:https://fortmitchell.com/wp-content/uploads/2022/03/City-of-Fort-Mitchell-LiveWell-Ft.-Mitchell-6-2-22-Facebook.png
ORGANIZER;CN="Joe Christofield":MAILTO:jchristofield@fortmitchell.com
END:VEVENT
BEGIN:VEVENT
DTSTART;TZID=America/New_York:20220605T100000
DTEND;TZID=America/New_York:20220605T120000
DTSTAMP:20260420T002948
CREATED:20220420T122526Z
LAST-MODIFIED:20220420T122658Z
UID:10000165-1654423200-1654430400@fortmitchell.com
SUMMARY:Calvin Kind 5K
DESCRIPTION:Calvin Kind 5k (runsignup.com)
URL:https://fortmitchell.com/event/calvin-kind-5k/
LOCATION:Fort Mitchell Country Club\, 250 Fort Mitchell Avenue\, Fort Mitchell\, KY\, 41017\, United States
ATTACH;FMTTYPE=image/png:https://fortmitchell.com/wp-content/uploads/2022/04/race85172-logo.bEg5EW.png
ORGANIZER;CN="Joe Christofield":MAILTO:jchristofield@fortmitchell.com
END:VEVENT
BEGIN:VEVENT
DTSTART;TZID=America/New_York:20220606T173000
DTEND;TZID=America/New_York:20220606T183000
DTSTAMP:20260420T002948
CREATED:20220603T191947Z
LAST-MODIFIED:20220603T192043Z
UID:10000258-1654536600-1654540200@fortmitchell.com
SUMMARY:Safety Committee Meeting
DESCRIPTION:City of Fort Mitchell Safety Committee Meeting Agenda 6-6-22
URL:https://fortmitchell.com/event/safety-committee-meeting-4/
LOCATION:Fort Mitchell City Building (Bill Goetz Administrative Conference Room)\, 2355 Dixie Highway\, Fort Mitchell\, KY 41017\, Fort Mitchell\, KY\, 41017\, United States
ATTACH;FMTTYPE=image/jpeg:https://fortmitchell.com/wp-content/uploads/2022/06/City-of-Fort-Mitchell-Safety-Committee-Meeting-Agenda-6-6-22.jpg
ORGANIZER;CN="Joe Christofield":MAILTO:jchristofield@fortmitchell.com
END:VEVENT
BEGIN:VEVENT
DTSTART;TZID=America/New_York:20220606T183000
DTEND;TZID=America/New_York:20220606T203000
DTSTAMP:20260420T002948
CREATED:20220103T195439Z
LAST-MODIFIED:20220606T184153Z
UID:10000221-1654540200-1654547400@fortmitchell.com
SUMMARY:City Council Meeting
DESCRIPTION:The meeting will air LIVE on the following cable channels: \n\n\n– TBNK’s Government Channel 2 on Spectrum 204– Cincinnati Bell Fioptics 816 \nCLICK HERE to watch the City Council Meeting LIVE via TBNK \nCLICK HERE to watch the City Council Meeting LIVE via Facebook (TBNK) \n\n\nCLICK HERE to watch the City Council Meeting LIVE via Facebook (City of Fort Mitchell) \nCLICK HERE to view the City Council Meeting agenda \nCLICK HERE to submit questions/comments prior to the City Council Meeting \nCLICK HERE to view future City Council Meeting dates and times \nCLICK HERE to view City Council Meeting minutes \nCLICK HERE to view the Fort Mitchell City Council
URL:https://fortmitchell.com/event/city-council-meeting-22/
LOCATION:Fort Mitchell City Building (Council Chamber)\, 2355 Dixie Highway\, Fort Mitchell\, KY\, 41017\, United States
ATTACH;FMTTYPE=image/jpeg:https://fortmitchell.com/wp-content/uploads/2022/01/City-of-Fort-Mitchell-Council-Meeting-Agenda-6-6-22-1-1.jpg
ORGANIZER;CN="Joe Christofield":MAILTO:jchristofield@fortmitchell.com
END:VEVENT
BEGIN:VEVENT
DTSTART;TZID=America/New_York:20220607T190000
DTEND;TZID=America/New_York:20220607T200000
DTSTAMP:20260420T002948
CREATED:20220603T192337Z
LAST-MODIFIED:20220607T172610Z
UID:10000259-1654628400-1654632000@fortmitchell.com
SUMMARY:(CANCELLED) Park Board Meeting
DESCRIPTION:City of Fort Mitchell Park Board Meeting Agenda 6-7-22
URL:https://fortmitchell.com/event/park-board-meeting-11/
LOCATION:Fort Mitchell City Building (Council Chamber)\, 2355 Dixie Highway\, Fort Mitchell\, KY\, 41017\, United States
ATTACH;FMTTYPE=image/png:https://fortmitchell.com/wp-content/uploads/2022/06/CANCELLED-City-of-Fort-Mitchell-Park-Board-Meeting-6-7-22.png
ORGANIZER;CN="Joe Christofield":MAILTO:jchristofield@fortmitchell.com
END:VEVENT
BEGIN:VEVENT
DTSTART;VALUE=DATE:20220614
DTEND;VALUE=DATE:20220615
DTSTAMP:20260420T002948
CREATED:20220518T160131Z
LAST-MODIFIED:20220518T160131Z
UID:10000257-1655164800-1655251199@fortmitchell.com
SUMMARY:American Flag Proper Disposal
DESCRIPTION:Happy Flag Day! Don’t forget\, you can drop off your worn American flag for proper disposal at our Respectful Flag Disposal Box located at the City Building\, 2355 Dixie Highway\, Fort Mitchell\, KY 41017 (M-F\, 8:00am-4:30pm).
URL:https://fortmitchell.com/event/american-flag-proper-disposal/
LOCATION:Fort Mitchell City Building\, 2355 Dixie Highway\, Fort Mitchell\, KY\, 41017\, United States
ATTACH;FMTTYPE=image/png:https://fortmitchell.com/wp-content/uploads/2022/05/City-of-Fort-Mitchell-Flag-Day-6-14-22.png
ORGANIZER;CN="Joe Christofield":MAILTO:jchristofield@fortmitchell.com
END:VEVENT
BEGIN:VEVENT
DTSTART;TZID=America/New_York:20220615T140000
DTEND;TZID=America/New_York:20220615T153000
DTSTAMP:20260420T002948
CREATED:20220324T195351Z
LAST-MODIFIED:20220418T195510Z
UID:10000160-1655301600-1655307000@fortmitchell.com
SUMMARY:Bingo 4 Seniors 55+
DESCRIPTION:The cities of Fort Mitchell and Lakeside Park will co-host Bingo 4 Seniors 55+ on Wednesday\, June 15 at 2:00pm at the Lakeside Park City Building\, 9 Buttermilk Pike\, Lakeside Park\, KY 41017. Snacks and refreshments will be served\, plus prizes for the winners! This is a free event for residents of Fort Mitchell and Lakeside Park.
URL:https://fortmitchell.com/event/bingo-4-seniors-55-2/
LOCATION:Lakeside Park City Building\, 9 Buttermilk Pike\, Lakeside Park\, KY\, 41017\, United States
ATTACH;FMTTYPE=image/png:https://fortmitchell.com/wp-content/uploads/2022/03/City-of-Fort-Mitchell-Seniors-Bingo-6-15-22-Facebook.png
ORGANIZER;CN="Joe Christofield":MAILTO:jchristofield@fortmitchell.com
END:VEVENT
BEGIN:VEVENT
DTSTART;VALUE=DATE:20220617
DTEND;VALUE=DATE:20220618
DTSTAMP:20260420T002948
CREATED:20220518T155406Z
LAST-MODIFIED:20220518T160428Z
UID:10000173-1655424000-1655510399@fortmitchell.com
SUMMARY:Last Day to Register for the City of Fort Mitchell Independence Day Parade
DESCRIPTION:Today’s the last day to register for the City of Fort Mitchell Independence Day Parade! Click on the following link: Independence Day Parade | City of Fort Mitchell KY
URL:https://fortmitchell.com/event/last-day-to-register-for-fort-mitchell-independence-day-parade/
LOCATION:KY
ATTACH;FMTTYPE=image/png:https://fortmitchell.com/wp-content/uploads/2022/05/City-of-Fort-Mitchell-Independence-Day-Parade-Last-Day-Signup-2022-Facebook.png
ORGANIZER;CN="Joe Christofield":MAILTO:jchristofield@fortmitchell.com
END:VEVENT
BEGIN:VEVENT
DTSTART;TZID=America/New_York:20220620T183000
DTEND;TZID=America/New_York:20220620T190000
DTSTAMP:20260420T002948
CREATED:20220616T150003Z
LAST-MODIFIED:20220617T134616Z
UID:10000260-1655749800-1655751600@fortmitchell.com
SUMMARY:Notice of Public Hearing for Municipal Road Aid Funds
DESCRIPTION:City of Fort Mitchell Notice of Public Hearing for Municipal Road Aid Funds 6-20-22
URL:https://fortmitchell.com/event/notice-of-public-hearing-for-municipal-road-aid-funds/
LOCATION:Fort Mitchell City Building (Council Chamber)\, 2355 Dixie Highway\, Fort Mitchell\, KY\, 41017\, United States
ATTACH;FMTTYPE=image/jpeg:https://fortmitchell.com/wp-content/uploads/2022/06/City-of-Fort-Mitchell-Notice-of-Public-Hearing-for-Municipal-Road-Aid-Funds-6-20-22.jpg
ORGANIZER;CN="Joe Christofield":MAILTO:jchristofield@fortmitchell.com
END:VEVENT
BEGIN:VEVENT
DTSTART;TZID=America/New_York:20220620T183000
DTEND;TZID=America/New_York:20220620T203000
DTSTAMP:20260420T002948
CREATED:20220103T195524Z
LAST-MODIFIED:20220617T150546Z
UID:10000043-1655749800-1655757000@fortmitchell.com
SUMMARY:City Council Meeting
DESCRIPTION:The meeting will air LIVE on the following cable channels: \n\n\n– TBNK’s Government Channel 2 on Spectrum 204\n– Cincinnati Bell Fioptics 816 \nCLICK HERE to watch the City Council Meeting LIVE via TBNK \nCLICK HERE to watch the City Council Meeting LIVE via Facebook (TBNK) \n\n\nCLICK HERE to watch the City Council Meeting LIVE via Facebook (City of Fort Mitchell) \nCLICK HERE to view the City Council Meeting agenda \nCLICK HERE to submit questions/comments prior to the City Council Meeting \nCLICK HERE to view future City Council Meeting dates and times \nCLICK HERE to view City Council Meeting minutes \nCLICK HERE to view the Fort Mitchell City Council
URL:https://fortmitchell.com/event/city-council-meeting-23/
LOCATION:Fort Mitchell City Building (Council Chamber)\, 2355 Dixie Highway\, Fort Mitchell\, KY\, 41017\, United States
ATTACH;FMTTYPE=image/jpeg:https://fortmitchell.com/wp-content/uploads/2022/01/City-of-Fort-Mitchell-Council-Meeting-Agenda-6-20-22.jpg
ORGANIZER;CN="Joe Christofield":MAILTO:jchristofield@fortmitchell.com
END:VEVENT
BEGIN:VEVENT
DTSTART;TZID=America/New_York:20220622T183000
DTEND;TZID=America/New_York:20220622T193000
DTSTAMP:20260420T002948
CREATED:20220617T133544Z
LAST-MODIFIED:20220621T204045Z
UID:10000261-1655922600-1655926200@fortmitchell.com
SUMMARY:(Cancelled) Tree Commission Meeting
DESCRIPTION:City of Fort Mitchell Tree Commission Agenda 6-22-22
URL:https://fortmitchell.com/event/tree-commission-meeting/
LOCATION:Fort Mitchell City Building (Council Chamber)\, 2355 Dixie Highway\, Fort Mitchell\, KY\, 41017\, United States
ATTACH;FMTTYPE=image/png:https://fortmitchell.com/wp-content/uploads/2022/06/Copy-of-CANCELLED-City-of-Fort-Mitchell-Tree-Commission-Meeting-6-22-22.png
ORGANIZER;CN="Joe Christofield":MAILTO:jchristofield@fortmitchell.com
END:VEVENT
BEGIN:VEVENT
DTSTART;TZID=America/New_York:20220622T190000
DTEND;TZID=America/New_York:20220622T200000
DTSTAMP:20260420T002948
CREATED:20220618T154712Z
LAST-MODIFIED:20220618T154712Z
UID:10000262-1655924400-1655928000@fortmitchell.com
SUMMARY:Independence Day Parade Volunteer Meeting
DESCRIPTION:
URL:https://fortmitchell.com/event/independence-day-parade-volunteer-meeting/
LOCATION:Fort Mitchell City Building (Bill Goetz Administrative Conference Room)\, 2355 Dixie Highway\, Fort Mitchell\, KY 41017\, Fort Mitchell\, KY\, 41017\, United States
ATTACH;FMTTYPE=image/png:https://fortmitchell.com/wp-content/uploads/2022/06/City-of-Fort-Mitchell-Independence-Day-Parade-Volunteer-Meeting-6-22-22-Facebook.png
ORGANIZER;CN="Joe Christofield":MAILTO:jchristofield@fortmitchell.com
END:VEVENT
BEGIN:VEVENT
DTSTART;TZID=America/New_York:20220629T080000
DTEND;TZID=America/New_York:20220729T160000
DTSTAMP:20260420T002948
CREATED:20220629T155038Z
LAST-MODIFIED:20220629T155200Z
UID:10000265-1656489600-1659110400@fortmitchell.com
SUMMARY:Wall of Honor Nominations Due July 29
DESCRIPTION:The City of Fort Mitchell Wall of Honor Ceremony will be held on Saturday\, September 10\, 2022 at 10:00am at the city building\, 2355 Dixie Highway\, Fort Mitchell\, KY 41017.\n\n\n\nThe Wall of Honor recognizes and honors individuals who have unselfishly and diligently served the City of Fort Mitchell. Those chosen will have their names engraved on the granite wall in front of the city building.\n\n\n\nDeadline for nominations is Friday\, July 29\, 2022\, by 4:00pm.\n\n\n\nSend nominations and supporting documentation to the following:\n\n\n\nCity of Fort Mitchell\, ATTN: Wall of Honor\n2355 Dixie Highway\nFort Mitchell\, KY 41017\n\n\n\nor to City of Fort Mitchell Programs & Communications Coordinator Joe Christofield at jchristofield@fortmitchell.com\n\n\n\nFor more information\, including the Wall of Honor Nomination Form\, Guidelines\, and Details\, please go to: https://fortmitchell.com/city-administrator/wall-of-honor-3/
URL:https://fortmitchell.com/event/wall-of-honor-nominations-due-july-29/
LOCATION:Fort Mitchell City Building\, 2355 Dixie Highway\, Fort Mitchell\, KY\, 41017\, United States
ATTACH;FMTTYPE=image/jpeg:https://fortmitchell.com/wp-content/uploads/2022/06/Wall-of-Honor-2022.jpg
ORGANIZER;CN="Joe Christofield":MAILTO:jchristofield@fortmitchell.com
END:VEVENT
BEGIN:VEVENT
DTSTART;TZID=America/New_York:20220629T190000
DTEND;TZID=America/New_York:20220629T200000
DTSTAMP:20260420T002948
CREATED:20220624T161555Z
LAST-MODIFIED:20220624T161555Z
UID:10000264-1656529200-1656532800@fortmitchell.com
SUMMARY:Independence Day Parade Volunteer Meeting
DESCRIPTION:
URL:https://fortmitchell.com/event/independence-day-parade-volunteer-meeting-2/
LOCATION:Fort Mitchell City Building (Bill Goetz Administrative Conference Room)\, 2355 Dixie Highway\, Fort Mitchell\, KY 41017\, Fort Mitchell\, KY\, 41017\, United States
ATTACH;FMTTYPE=image/png:https://fortmitchell.com/wp-content/uploads/2022/06/City-of-Fort-Mitchell-Independence-Day-Parade-Volunteer-Meeting-6-29-22-Facebook.png
ORGANIZER;CN="Joe Christofield":MAILTO:jchristofield@fortmitchell.com
END:VEVENT
END:VCALENDAR