BEGIN:VCALENDAR
VERSION:2.0
PRODID:-//City of Fort Mitchell KY - ECPv6.15.20//NONSGML v1.0//EN
CALSCALE:GREGORIAN
METHOD:PUBLISH
X-ORIGINAL-URL:https://fortmitchell.com
X-WR-CALDESC:Events for City of Fort Mitchell KY
REFRESH-INTERVAL;VALUE=DURATION:PT1H
X-Robots-Tag:noindex
X-PUBLISHED-TTL:PT1H
BEGIN:VTIMEZONE
TZID:America/New_York
BEGIN:DAYLIGHT
TZOFFSETFROM:-0500
TZOFFSETTO:-0400
TZNAME:EDT
DTSTART:20230312T070000
END:DAYLIGHT
BEGIN:STANDARD
TZOFFSETFROM:-0400
TZOFFSETTO:-0500
TZNAME:EST
DTSTART:20231105T060000
END:STANDARD
BEGIN:DAYLIGHT
TZOFFSETFROM:-0500
TZOFFSETTO:-0400
TZNAME:EDT
DTSTART:20240310T070000
END:DAYLIGHT
BEGIN:STANDARD
TZOFFSETFROM:-0400
TZOFFSETTO:-0500
TZNAME:EST
DTSTART:20241103T060000
END:STANDARD
BEGIN:DAYLIGHT
TZOFFSETFROM:-0500
TZOFFSETTO:-0400
TZNAME:EDT
DTSTART:20250309T070000
END:DAYLIGHT
BEGIN:STANDARD
TZOFFSETFROM:-0400
TZOFFSETTO:-0500
TZNAME:EST
DTSTART:20251102T060000
END:STANDARD
BEGIN:DAYLIGHT
TZOFFSETFROM:-0500
TZOFFSETTO:-0400
TZNAME:EDT
DTSTART:20260308T070000
END:DAYLIGHT
BEGIN:STANDARD
TZOFFSETFROM:-0400
TZOFFSETTO:-0500
TZNAME:EST
DTSTART:20261101T060000
END:STANDARD
END:VTIMEZONE
BEGIN:VEVENT
DTSTART;VALUE=DATE:20250526
DTEND;VALUE=DATE:20250527
DTSTAMP:20260421T033920
CREATED:20250519T203728Z
LAST-MODIFIED:20250519T203728Z
UID:10000853-1748217600-1748303999@fortmitchell.com
SUMMARY:General Ormsby Mitchel Park Pavilion Reserved
DESCRIPTION:
URL:https://fortmitchell.com/event/general-ormsby-mitchel-park-pavilion-reserved-136/
LOCATION:General Ormsby Mitchel Park\, 261 Grandview Drive\, Fort Mitchell\, KY\, 41017\, United States
ATTACH;FMTTYPE=image/png:https://fortmitchell.com/wp-content/uploads/2023/04/City-of-Fort-Mitchell-General-Ormsby-Mitchel-Park-Pavilion-Reserved.png
ORGANIZER;CN="Joe Christofield":MAILTO:jchristofield@fortmitchell.com
END:VEVENT
BEGIN:VEVENT
DTSTART;VALUE=DATE:20250521
DTEND;VALUE=DATE:20250522
DTSTAMP:20260421T033920
CREATED:20250303T212518Z
LAST-MODIFIED:20250303T212518Z
UID:10000815-1747785600-1747871999@fortmitchell.com
SUMMARY:General Ormsby Mitchel Park Pavilion Reserved
DESCRIPTION:
URL:https://fortmitchell.com/event/general-ormsby-mitchel-park-pavilion-reserved-102/
LOCATION:General Ormsby Mitchel Park\, 261 Grandview Drive\, Fort Mitchell\, KY\, 41017\, United States
ATTACH;FMTTYPE=image/png:https://fortmitchell.com/wp-content/uploads/2023/04/City-of-Fort-Mitchell-General-Ormsby-Mitchel-Park-Pavilion-Reserved.png
ORGANIZER;CN="Joe Christofield":MAILTO:jchristofield@fortmitchell.com
END:VEVENT
BEGIN:VEVENT
DTSTART;VALUE=DATE:20250517
DTEND;VALUE=DATE:20250518
DTSTAMP:20260421T033920
CREATED:20250408T190906Z
LAST-MODIFIED:20250408T190906Z
UID:10000837-1747440000-1747526399@fortmitchell.com
SUMMARY:General Ormsby Mitchel Park Pavilion Reserved
DESCRIPTION:
URL:https://fortmitchell.com/event/general-ormsby-mitchel-park-pavilion-reserved-122/
LOCATION:General Ormsby Mitchel Park\, 261 Grandview Drive\, Fort Mitchell\, KY\, 41017\, United States
ATTACH;FMTTYPE=image/png:https://fortmitchell.com/wp-content/uploads/2023/04/City-of-Fort-Mitchell-General-Ormsby-Mitchel-Park-Pavilion-Reserved.png
ORGANIZER;CN="Joe Christofield":MAILTO:jchristofield@fortmitchell.com
END:VEVENT
BEGIN:VEVENT
DTSTART;VALUE=DATE:20250516
DTEND;VALUE=DATE:20250517
DTSTAMP:20260421T033920
CREATED:20250317T133953Z
LAST-MODIFIED:20250317T133953Z
UID:10000831-1747353600-1747439999@fortmitchell.com
SUMMARY:General Ormsby Mitchel Park Pavilion Reserved
DESCRIPTION:
URL:https://fortmitchell.com/event/general-ormsby-mitchel-park-pavilion-reserved-116/
LOCATION:General Ormsby Mitchel Park\, 261 Grandview Drive\, Fort Mitchell\, KY\, 41017\, United States
ATTACH;FMTTYPE=image/png:https://fortmitchell.com/wp-content/uploads/2023/04/City-of-Fort-Mitchell-General-Ormsby-Mitchel-Park-Pavilion-Reserved.png
ORGANIZER;CN="Joe Christofield":MAILTO:jchristofield@fortmitchell.com
END:VEVENT
BEGIN:VEVENT
DTSTART;TZID=America/New_York:20250513T180000
DTEND;TZID=America/New_York:20250513T190000
DTSTAMP:20260421T033920
CREATED:20241210T154122Z
LAST-MODIFIED:20250512T144352Z
UID:10000763-1747159200-1747162800@fortmitchell.com
SUMMARY:Park Board Meeting
DESCRIPTION:City of Fort MitchellPark Board MeetingTuesday\, May 13\, 20256:00pmGeneral Ormsby Mitchel Park (Pavilion)261 Grandview DriveFort Mitchell\, KY 41017
URL:https://fortmitchell.com/event/park-board-meeting-45/
LOCATION:General Ormsby Mitchel Park\, 261 Grandview Drive\, Fort Mitchell\, KY\, 41017\, United States
ATTACH;FMTTYPE=image/jpeg:https://fortmitchell.com/wp-content/uploads/2024/12/City-of-Fort-Mitchell-Park-Board-Meeting-Agenda-5-13-25.jpeg
ORGANIZER;CN="Joe Christofield":MAILTO:jchristofield@fortmitchell.com
END:VEVENT
BEGIN:VEVENT
DTSTART;VALUE=DATE:20250510
DTEND;VALUE=DATE:20250511
DTSTAMP:20260421T033920
CREATED:20250415T175727Z
LAST-MODIFIED:20250415T175727Z
UID:10000841-1746835200-1746921599@fortmitchell.com
SUMMARY:General Ormsby Mitchel Park Pavilion Reserved
DESCRIPTION:
URL:https://fortmitchell.com/event/general-ormsby-mitchel-park-pavilion-reserved-126/
LOCATION:General Ormsby Mitchel Park\, 261 Grandview Drive\, Fort Mitchell\, KY\, 41017\, United States
ATTACH;FMTTYPE=image/png:https://fortmitchell.com/wp-content/uploads/2023/04/City-of-Fort-Mitchell-General-Ormsby-Mitchel-Park-Pavilion-Reserved.png
ORGANIZER;CN="Joe Christofield":MAILTO:jchristofield@fortmitchell.com
END:VEVENT
BEGIN:VEVENT
DTSTART;VALUE=DATE:20250504
DTEND;VALUE=DATE:20250505
DTSTAMP:20260421T033920
CREATED:20250408T191232Z
LAST-MODIFIED:20250408T191232Z
UID:10000839-1746316800-1746403199@fortmitchell.com
SUMMARY:General Ormsby Mitchel Park Pavilion Reserved
DESCRIPTION:
URL:https://fortmitchell.com/event/general-ormsby-mitchel-park-pavilion-reserved-124/
LOCATION:General Ormsby Mitchel Park\, 261 Grandview Drive\, Fort Mitchell\, KY\, 41017\, United States
ATTACH;FMTTYPE=image/png:https://fortmitchell.com/wp-content/uploads/2023/04/City-of-Fort-Mitchell-General-Ormsby-Mitchel-Park-Pavilion-Reserved.png
ORGANIZER;CN="Joe Christofield":MAILTO:jchristofield@fortmitchell.com
END:VEVENT
BEGIN:VEVENT
DTSTART;VALUE=DATE:20250502
DTEND;VALUE=DATE:20250503
DTSTAMP:20260421T033920
CREATED:20250411T125725Z
LAST-MODIFIED:20250411T125725Z
UID:10000840-1746144000-1746230399@fortmitchell.com
SUMMARY:General Ormsby Mitchel Park Pavilion Reserved
DESCRIPTION:
URL:https://fortmitchell.com/event/general-ormsby-mitchel-park-pavilion-reserved-125/
LOCATION:General Ormsby Mitchel Park\, 261 Grandview Drive\, Fort Mitchell\, KY\, 41017\, United States
ATTACH;FMTTYPE=image/png:https://fortmitchell.com/wp-content/uploads/2023/04/City-of-Fort-Mitchell-General-Ormsby-Mitchel-Park-Pavilion-Reserved.png
ORGANIZER;CN="Joe Christofield":MAILTO:jchristofield@fortmitchell.com
END:VEVENT
BEGIN:VEVENT
DTSTART;VALUE=DATE:20250427
DTEND;VALUE=DATE:20250428
DTSTAMP:20260421T033920
CREATED:20250423T160220Z
LAST-MODIFIED:20250423T160220Z
UID:10000843-1745712000-1745798399@fortmitchell.com
SUMMARY:General Ormsby Mitchel Park Pavilion Reserved
DESCRIPTION:
URL:https://fortmitchell.com/event/general-ormsby-mitchel-park-pavilion-reserved-128/
LOCATION:General Ormsby Mitchel Park\, 261 Grandview Drive\, Fort Mitchell\, KY\, 41017\, United States
ATTACH;FMTTYPE=image/png:https://fortmitchell.com/wp-content/uploads/2023/04/City-of-Fort-Mitchell-General-Ormsby-Mitchel-Park-Pavilion-Reserved.png
ORGANIZER;CN="Joe Christofield":MAILTO:jchristofield@fortmitchell.com
END:VEVENT
BEGIN:VEVENT
DTSTART;VALUE=DATE:20250426
DTEND;VALUE=DATE:20250427
DTSTAMP:20260421T033920
CREATED:20250306T133116Z
LAST-MODIFIED:20250306T133116Z
UID:10000829-1745625600-1745711999@fortmitchell.com
SUMMARY:General Ormsby Mitchel Park Pavilion Reserved
DESCRIPTION:
URL:https://fortmitchell.com/event/general-ormsby-mitchel-park-pavilion-reserved-115/
LOCATION:General Ormsby Mitchel Park\, 261 Grandview Drive\, Fort Mitchell\, KY\, 41017\, United States
ATTACH;FMTTYPE=image/png:https://fortmitchell.com/wp-content/uploads/2023/04/City-of-Fort-Mitchell-General-Ormsby-Mitchel-Park-Pavilion-Reserved.png
ORGANIZER;CN="Joe Christofield":MAILTO:jchristofield@fortmitchell.com
END:VEVENT
BEGIN:VEVENT
DTSTART;TZID=America/New_York:20250412T110000
DTEND;TZID=America/New_York:20250412T130000
DTSTAMP:20260421T033920
CREATED:20250214T010625Z
LAST-MODIFIED:20250407T192239Z
UID:10000779-1744455600-1744462800@fortmitchell.com
SUMMARY:Easter Egg Hunt
DESCRIPTION:Easter Egg HuntSaturday\, April 12\, 202511:00am – 1:00pmGeneral Ormsby Mitchel Park261 Grandview Drive\, Fort Mitchell\, KY 41017 \nAdditional Parking:Drees (211 Grandview Drive)Hemmer (226 Grandview Drive) \nActivities\, crafts\, food\, drinks\, photos with the Easter Bunny\, prizes\, and more! \nBeverly Ann’s Cookies\, Kona Ice\, Travelin’ Tom’s Coffee for purchase. \nEaster Egg Hunt Times/Ages:11:15am (0 -3)11:20am (4 -7)11:25am (8 – 11) \nHop on up to General Ormsby Mitchel Park and join us! \nContact:City of Fort Mitchell Programs & Communications CoordinatorJoe Christofieldjchristofield@fortmitchell.com859.331.1212
URL:https://fortmitchell.com/event/easter-egg-hunt-2/
LOCATION:General Ormsby Mitchel Park\, 261 Grandview Drive\, Fort Mitchell\, KY\, 41017\, United States
ATTACH;FMTTYPE=image/png:https://fortmitchell.com/wp-content/uploads/2025/02/City-of-Fort-Mitchell-Easter-Egg-Hunt-4-12-25-Facebook-Cover.png
ORGANIZER;CN="Joe Christofield":MAILTO:jchristofield@fortmitchell.com
END:VEVENT
BEGIN:VEVENT
DTSTART;VALUE=DATE:20250412
DTEND;VALUE=DATE:20250413
DTSTAMP:20260421T033920
CREATED:20250303T212426Z
LAST-MODIFIED:20250303T212426Z
UID:10000814-1744416000-1744502399@fortmitchell.com
SUMMARY:General Ormsby Mitchel Park Pavilion Reserved
DESCRIPTION:
URL:https://fortmitchell.com/event/general-ormsby-mitchel-park-pavilion-reserved-101/
LOCATION:General Ormsby Mitchel Park\, 261 Grandview Drive\, Fort Mitchell\, KY\, 41017\, United States
ATTACH;FMTTYPE=image/png:https://fortmitchell.com/wp-content/uploads/2023/04/City-of-Fort-Mitchell-General-Ormsby-Mitchel-Park-Pavilion-Reserved.png
ORGANIZER;CN="Joe Christofield":MAILTO:jchristofield@fortmitchell.com
END:VEVENT
BEGIN:VEVENT
DTSTART;TZID=America/New_York:20250408T180000
DTEND;TZID=America/New_York:20250408T190000
DTSTAMP:20260421T033920
CREATED:20241210T154102Z
LAST-MODIFIED:20250327T130147Z
UID:10000762-1744135200-1744138800@fortmitchell.com
SUMMARY:Park Board Meeting
DESCRIPTION:  \nCity of Fort Mitchell\nPark Board Meeting\nTuesday\, April 8\, 2025\n6:00pm\nGeneral Ormsby Mitchel Park (Pavilion)\n261 Grandview Drive\nFort Mitchell\, KY 41017
URL:https://fortmitchell.com/event/park-board-meeting-44/
LOCATION:General Ormsby Mitchel Park\, 261 Grandview Drive\, Fort Mitchell\, KY\, 41017\, United States
ATTACH;FMTTYPE=image/jpeg:https://fortmitchell.com/wp-content/uploads/2024/12/City-of-Fort-Mitchell-Park-Board-Meeting-Agenda-4-8-25.jpeg
ORGANIZER;CN="Joe Christofield":MAILTO:jchristofield@fortmitchell.com
END:VEVENT
BEGIN:VEVENT
DTSTART;VALUE=DATE:20250408
DTEND;VALUE=DATE:20250409
DTSTAMP:20260421T033920
CREATED:20250408T190615Z
LAST-MODIFIED:20250408T190615Z
UID:10000834-1744070400-1744156799@fortmitchell.com
SUMMARY:General Ormsby Mitchel Park Pavilion Reserved
DESCRIPTION:
URL:https://fortmitchell.com/event/general-ormsby-mitchel-park-pavilion-reserved-119/
LOCATION:General Ormsby Mitchel Park\, 261 Grandview Drive\, Fort Mitchell\, KY\, 41017\, United States
ATTACH;FMTTYPE=image/png:https://fortmitchell.com/wp-content/uploads/2023/04/City-of-Fort-Mitchell-General-Ormsby-Mitchel-Park-Pavilion-Reserved.png
ORGANIZER;CN="Joe Christofield":MAILTO:jchristofield@fortmitchell.com
END:VEVENT
BEGIN:VEVENT
DTSTART;TZID=America/New_York:20250311T180000
DTEND;TZID=America/New_York:20250311T190000
DTSTAMP:20260421T033920
CREATED:20241210T154037Z
LAST-MODIFIED:20250214T005051Z
UID:10000761-1741716000-1741719600@fortmitchell.com
SUMMARY:Park Board Meeting
DESCRIPTION:  \nCity of Fort Mitchell\nPark Board Meeting\nTuesday\, March 11\, 2025\n6:00pm\nGeneral Ormsby Mitchel Park (Pavilion)\n261 Grandview Drive\nFort Mitchell\, KY 41017
URL:https://fortmitchell.com/event/park-board-meeting-43/
LOCATION:General Ormsby Mitchel Park\, 261 Grandview Drive\, Fort Mitchell\, KY\, 41017\, United States
ORGANIZER;CN="Joe Christofield":MAILTO:jchristofield@fortmitchell.com
END:VEVENT
BEGIN:VEVENT
DTSTART;VALUE=DATE:20241027
DTEND;VALUE=DATE:20241028
DTSTAMP:20260421T033920
CREATED:20241009T130148Z
LAST-MODIFIED:20241009T130148Z
UID:10000737-1729987200-1730073599@fortmitchell.com
SUMMARY:General Ormsby Mitchel Park Pavilion Reserved
DESCRIPTION:
URL:https://fortmitchell.com/event/general-ormsby-mitchel-park-pavilion-reserved-99/
LOCATION:General Ormsby Mitchel Park\, 261 Grandview Drive\, Fort Mitchell\, KY\, 41017\, United States
ATTACH;FMTTYPE=image/png:https://fortmitchell.com/wp-content/uploads/2023/04/City-of-Fort-Mitchell-General-Ormsby-Mitchel-Park-Pavilion-Reserved.png
ORGANIZER;CN="Joe Christofield":MAILTO:jchristofield@fortmitchell.com
END:VEVENT
BEGIN:VEVENT
DTSTART;VALUE=DATE:20241026
DTEND;VALUE=DATE:20241027
DTSTAMP:20260421T033920
CREATED:20241017T201351Z
LAST-MODIFIED:20241017T201351Z
UID:10000739-1729900800-1729987199@fortmitchell.com
SUMMARY:General Ormsby Mitchel Park Pavilion Reserved
DESCRIPTION:
URL:https://fortmitchell.com/event/general-ormsby-mitchel-park-pavilion-reserved-100/
LOCATION:General Ormsby Mitchel Park\, 261 Grandview Drive\, Fort Mitchell\, KY\, 41017\, United States
ATTACH;FMTTYPE=image/png:https://fortmitchell.com/wp-content/uploads/2023/04/City-of-Fort-Mitchell-General-Ormsby-Mitchel-Park-Pavilion-Reserved.png
ORGANIZER;CN="Joe Christofield":MAILTO:jchristofield@fortmitchell.com
END:VEVENT
BEGIN:VEVENT
DTSTART;VALUE=DATE:20241025
DTEND;VALUE=DATE:20241026
DTSTAMP:20260421T033920
CREATED:20240318T121915Z
LAST-MODIFIED:20240318T121915Z
UID:10000640-1729814400-1729900799@fortmitchell.com
SUMMARY:General Ormsby Mitchel Park Pavilion Reserved
DESCRIPTION:
URL:https://fortmitchell.com/event/general-ormsby-mitchel-park-pavilion-reserved-65/
LOCATION:General Ormsby Mitchel Park\, 261 Grandview Drive\, Fort Mitchell\, KY\, 41017\, United States
ATTACH;FMTTYPE=image/png:https://fortmitchell.com/wp-content/uploads/2023/04/City-of-Fort-Mitchell-General-Ormsby-Mitchel-Park-Pavilion-Reserved.png
ORGANIZER;CN="Joe Christofield":MAILTO:jchristofield@fortmitchell.com
END:VEVENT
BEGIN:VEVENT
DTSTART;TZID=America/New_York:20241019T180000
DTEND;TZID=America/New_York:20241019T213000
DTSTAMP:20260421T033920
CREATED:20240910T120705Z
LAST-MODIFIED:20240919T165430Z
UID:10000731-1729360800-1729373400@fortmitchell.com
SUMMARY:Halloween Fun & Flick
DESCRIPTION:Halloween Fun & FlickSaturday\, October 19\, 20246:00pm – 9:30pmActivities 6:00pm – 7:30pm followed by the movie Hocus PocusGeneral Ormsby Mitchel Park261 Grandview DriveFort Mitchell\, KY 41017 \nParking:– Drees Company (211 Grandview Drive)– Paul Hemmer Company (226 Grandview Drive) \nCostume Contest\, Spooky Selfie Station\, Hocus Pocus\, and more! \nTravelin’ Tom’s Coffee Truck \nDress for the costume contest and bring chairs and blankets for the movie \nFor more information\, email City of Fort Mitchell Programs and Communications Coordinator Joe Christofield at jchristofield@fortmitchell.com or call 859.331.1212.
URL:https://fortmitchell.com/event/halloween-fun-flick/
LOCATION:General Ormsby Mitchel Park\, 261 Grandview Drive\, Fort Mitchell\, KY\, 41017\, United States
ATTACH;FMTTYPE=image/png:https://fortmitchell.com/wp-content/uploads/2024/09/City-of-Fort-Mitchell-Halloween-Fun-Flick-10-19-24-Facebook-Cover.png
ORGANIZER;CN="Joe Christofield":MAILTO:jchristofield@fortmitchell.com
END:VEVENT
BEGIN:VEVENT
DTSTART;TZID=America/New_York:20241019T180000
DTEND;TZID=America/New_York:20241019T213000
DTSTAMP:20260421T033920
CREATED:20240830T134650Z
LAST-MODIFIED:20240830T134650Z
UID:10000729-1729360800-1729373400@fortmitchell.com
SUMMARY:Halloween Fun & Flick (Hocus Pocus)
DESCRIPTION:Halloween Fun & Flick (Hocus Pocus)\nSaturday\, October 19\, 2024\n6:00pm – 9:30pm (Activities 6:00pm – 7:30pm followed by the movie Hocus Pocus)\nGeneral Ormsby Mitchel Park\n261 Grandview Drive\nFort Mitchell\, KY 41017
URL:https://fortmitchell.com/event/halloween-fun-flick-hocus-pocus/
LOCATION:General Ormsby Mitchel Park\, 261 Grandview Drive\, Fort Mitchell\, KY\, 41017\, United States
ORGANIZER;CN="Joe Christofield":MAILTO:jchristofield@fortmitchell.com
END:VEVENT
BEGIN:VEVENT
DTSTART;VALUE=DATE:20241019
DTEND;VALUE=DATE:20241020
DTSTAMP:20260421T033920
CREATED:20240829T181232Z
LAST-MODIFIED:20241017T201242Z
UID:10000728-1729296000-1729382399@fortmitchell.com
SUMMARY:General Ormsby Mitchel Park Pavilion Reserved
DESCRIPTION:
URL:https://fortmitchell.com/event/general-ormsby-mitchel-park-pavilion-reserved-94/
LOCATION:General Ormsby Mitchel Park\, 261 Grandview Drive\, Fort Mitchell\, KY\, 41017\, United States
ATTACH;FMTTYPE=image/png:https://fortmitchell.com/wp-content/uploads/2023/04/City-of-Fort-Mitchell-General-Ormsby-Mitchel-Park-Pavilion-Reserved.png
ORGANIZER;CN="Joe Christofield":MAILTO:jchristofield@fortmitchell.com
END:VEVENT
BEGIN:VEVENT
DTSTART;TZID=America/New_York:20241008T180000
DTEND;TZID=America/New_York:20241008T190000
DTSTAMP:20260421T033920
CREATED:20231229T183920Z
LAST-MODIFIED:20241003T131235Z
UID:10000545-1728410400-1728414000@fortmitchell.com
SUMMARY:Park Board Meeting
DESCRIPTION:City of Fort Mitchell Park Board Meeting Agenda 10-8-24 \nCity of Fort MitchellPark Board MeetingTuesday\, October 1\, 20246:00pmGeneral Ormsby Mitchel Park (Pavilion)261 Grandview DriveFort Mitchell\, KY 41017
URL:https://fortmitchell.com/event/park-board-meeting-38/
LOCATION:General Ormsby Mitchel Park\, 261 Grandview Drive\, Fort Mitchell\, KY\, 41017\, United States
ATTACH;FMTTYPE=image/jpeg:https://fortmitchell.com/wp-content/uploads/2023/12/City-of-Fort-Mitchell-Park-Board-Meeting-Agenda-10-8-24.jpeg
ORGANIZER;CN="Joe Christofield":MAILTO:jchristofield@fortmitchell.com
END:VEVENT
BEGIN:VEVENT
DTSTART;TZID=America/New_York:20241005T190000
DTEND;TZID=America/New_York:20241005T203000
DTSTAMP:20260421T033920
CREATED:20240326T131805Z
LAST-MODIFIED:20241007T121554Z
UID:10000655-1728154800-1728160200@fortmitchell.com
SUMMARY:Cincinnati Observatory at the Park
DESCRIPTION:Cincinnati Observatory at the Park\nSaturday\, October 5\, 2024\n7:00pm – 8:30pm\nGeneral Ormsby Mitchel Park\n261 Grandview Drive\nFort Mitchell\, KY 41017 \nStargazing event with the Cincinnati Observatory. Includes viewing through two or more telescopes with seasonal views of the night sky (clear only). \nContact:\nCity of Fort Mitchell Programs & Communications Coordinator\nJoe Christofield\njchristofield@fortmitchell.com\n859.331.1212
URL:https://fortmitchell.com/event/cincinnati-observatory-at-the-park-2/
LOCATION:General Ormsby Mitchel Park\, 261 Grandview Drive\, Fort Mitchell\, KY\, 41017\, United States
ATTACH;FMTTYPE=image/png:https://fortmitchell.com/wp-content/uploads/2024/03/City-of-Fort-Mitchell-Cincinnati-Observatory-at-the-Park-10-5-24-Website.png
ORGANIZER;CN="Joe Christofield":MAILTO:jchristofield@fortmitchell.com
END:VEVENT
BEGIN:VEVENT
DTSTART;VALUE=DATE:20241005
DTEND;VALUE=DATE:20241006
DTSTAMP:20260421T033920
CREATED:20240318T121832Z
LAST-MODIFIED:20240318T121846Z
UID:10000639-1728086400-1728172799@fortmitchell.com
SUMMARY:General Ormsby Mitchel Park Pavilion Reserved
DESCRIPTION:
URL:https://fortmitchell.com/event/general-ormsby-mitchel-park-pavilion-reserved-64/
LOCATION:General Ormsby Mitchel Park\, 261 Grandview Drive\, Fort Mitchell\, KY\, 41017\, United States
ATTACH;FMTTYPE=image/png:https://fortmitchell.com/wp-content/uploads/2023/04/City-of-Fort-Mitchell-General-Ormsby-Mitchel-Park-Pavilion-Reserved.png
ORGANIZER;CN="Joe Christofield":MAILTO:jchristofield@fortmitchell.com
END:VEVENT
BEGIN:VEVENT
DTSTART;VALUE=DATE:20240929
DTEND;VALUE=DATE:20240930
DTSTAMP:20260421T033920
CREATED:20240927T144609Z
LAST-MODIFIED:20240927T144609Z
UID:10000735-1727568000-1727654399@fortmitchell.com
SUMMARY:General Ormsby Mitchel Park Pavilion Reserved
DESCRIPTION:
URL:https://fortmitchell.com/event/general-ormsby-mitchel-park-pavilion-reserved-98/
LOCATION:General Ormsby Mitchel Park\, 261 Grandview Drive\, Fort Mitchell\, KY\, 41017\, United States
ATTACH;FMTTYPE=image/png:https://fortmitchell.com/wp-content/uploads/2023/04/City-of-Fort-Mitchell-General-Ormsby-Mitchel-Park-Pavilion-Reserved.png
ORGANIZER;CN="Joe Christofield":MAILTO:jchristofield@fortmitchell.com
END:VEVENT
BEGIN:VEVENT
DTSTART;VALUE=DATE:20240928
DTEND;VALUE=DATE:20240929
DTSTAMP:20260421T033920
CREATED:20240924T172743Z
LAST-MODIFIED:20240924T172743Z
UID:10000734-1727481600-1727567999@fortmitchell.com
SUMMARY:General Ormsby Mitchel Park Pavilion Reserved
DESCRIPTION:
URL:https://fortmitchell.com/event/general-ormsby-mitchel-park-pavilion-reserved-97/
LOCATION:General Ormsby Mitchel Park\, 261 Grandview Drive\, Fort Mitchell\, KY\, 41017\, United States
ATTACH;FMTTYPE=image/png:https://fortmitchell.com/wp-content/uploads/2023/04/City-of-Fort-Mitchell-General-Ormsby-Mitchel-Park-Pavilion-Reserved.png
ORGANIZER;CN="Joe Christofield":MAILTO:jchristofield@fortmitchell.com
END:VEVENT
BEGIN:VEVENT
DTSTART;VALUE=DATE:20240924
DTEND;VALUE=DATE:20240925
DTSTAMP:20260421T033920
CREATED:20240808T191509Z
LAST-MODIFIED:20240808T191509Z
UID:10000722-1727136000-1727222399@fortmitchell.com
SUMMARY:General Ormsby Mitchel Park Pavilion Reserved
DESCRIPTION:
URL:https://fortmitchell.com/event/general-ormsby-mitchel-park-pavilion-reserved-89/
LOCATION:General Ormsby Mitchel Park\, 261 Grandview Drive\, Fort Mitchell\, KY\, 41017\, United States
ATTACH;FMTTYPE=image/png:https://fortmitchell.com/wp-content/uploads/2023/04/City-of-Fort-Mitchell-General-Ormsby-Mitchel-Park-Pavilion-Reserved.png
ORGANIZER;CN="Joe Christofield":MAILTO:jchristofield@fortmitchell.com
END:VEVENT
BEGIN:VEVENT
DTSTART;VALUE=DATE:20240922
DTEND;VALUE=DATE:20240923
DTSTAMP:20260421T033920
CREATED:20240918T120427Z
LAST-MODIFIED:20240918T120427Z
UID:10000733-1726963200-1727049599@fortmitchell.com
SUMMARY:General Ormsby Mitchel Park Pavilion Reserved
DESCRIPTION:
URL:https://fortmitchell.com/event/general-ormsby-mitchel-park-pavilion-reserved-96/
LOCATION:General Ormsby Mitchel Park\, 261 Grandview Drive\, Fort Mitchell\, KY\, 41017\, United States
ATTACH;FMTTYPE=image/png:https://fortmitchell.com/wp-content/uploads/2023/04/City-of-Fort-Mitchell-General-Ormsby-Mitchel-Park-Pavilion-Reserved.png
ORGANIZER;CN="Joe Christofield":MAILTO:jchristofield@fortmitchell.com
END:VEVENT
BEGIN:VEVENT
DTSTART;VALUE=DATE:20240919
DTEND;VALUE=DATE:20240920
DTSTAMP:20260421T033920
CREATED:20240709T140023Z
LAST-MODIFIED:20240709T140023Z
UID:10000716-1726704000-1726790399@fortmitchell.com
SUMMARY:General Ormsby Mitchel Park Pavilion Reserved
DESCRIPTION:
URL:https://fortmitchell.com/event/general-ormsby-mitchel-park-pavilion-reserved-63/
LOCATION:General Ormsby Mitchel Park\, 261 Grandview Drive\, Fort Mitchell\, KY\, 41017\, United States
ATTACH;FMTTYPE=image/png:https://fortmitchell.com/wp-content/uploads/2023/04/City-of-Fort-Mitchell-General-Ormsby-Mitchel-Park-Pavilion-Reserved.png
ORGANIZER;CN="Joe Christofield":MAILTO:jchristofield@fortmitchell.com
END:VEVENT
BEGIN:VEVENT
DTSTART;VALUE=DATE:20240911
DTEND;VALUE=DATE:20240912
DTSTAMP:20260421T033920
CREATED:20240909T174333Z
LAST-MODIFIED:20240909T174333Z
UID:10000730-1726012800-1726099199@fortmitchell.com
SUMMARY:General Ormsby Mitchel Park Pavilion Reserved
DESCRIPTION:
URL:https://fortmitchell.com/event/general-ormsby-mitchel-park-pavilion-reserved-95/
LOCATION:General Ormsby Mitchel Park\, 261 Grandview Drive\, Fort Mitchell\, KY\, 41017\, United States
ATTACH;FMTTYPE=image/png:https://fortmitchell.com/wp-content/uploads/2023/04/City-of-Fort-Mitchell-General-Ormsby-Mitchel-Park-Pavilion-Reserved.png
ORGANIZER;CN="Joe Christofield":MAILTO:jchristofield@fortmitchell.com
END:VEVENT
END:VCALENDAR