BEGIN:VCALENDAR
VERSION:2.0
PRODID:-//City of Fort Mitchell KY - ECPv6.15.20//NONSGML v1.0//EN
CALSCALE:GREGORIAN
METHOD:PUBLISH
X-ORIGINAL-URL:https://fortmitchell.com
X-WR-CALDESC:Events for City of Fort Mitchell KY
REFRESH-INTERVAL;VALUE=DURATION:PT1H
X-Robots-Tag:noindex
X-PUBLISHED-TTL:PT1H
BEGIN:VTIMEZONE
TZID:America/New_York
BEGIN:DAYLIGHT
TZOFFSETFROM:-0500
TZOFFSETTO:-0400
TZNAME:EDT
DTSTART:20210314T070000
END:DAYLIGHT
BEGIN:STANDARD
TZOFFSETFROM:-0400
TZOFFSETTO:-0500
TZNAME:EST
DTSTART:20211107T060000
END:STANDARD
BEGIN:DAYLIGHT
TZOFFSETFROM:-0500
TZOFFSETTO:-0400
TZNAME:EDT
DTSTART:20220313T070000
END:DAYLIGHT
BEGIN:STANDARD
TZOFFSETFROM:-0400
TZOFFSETTO:-0500
TZNAME:EST
DTSTART:20221106T060000
END:STANDARD
BEGIN:DAYLIGHT
TZOFFSETFROM:-0500
TZOFFSETTO:-0400
TZNAME:EDT
DTSTART:20230312T070000
END:DAYLIGHT
BEGIN:STANDARD
TZOFFSETFROM:-0400
TZOFFSETTO:-0500
TZNAME:EST
DTSTART:20231105T060000
END:STANDARD
BEGIN:DAYLIGHT
TZOFFSETFROM:-0500
TZOFFSETTO:-0400
TZNAME:EDT
DTSTART:20240310T070000
END:DAYLIGHT
BEGIN:STANDARD
TZOFFSETFROM:-0400
TZOFFSETTO:-0500
TZNAME:EST
DTSTART:20241103T060000
END:STANDARD
BEGIN:DAYLIGHT
TZOFFSETFROM:-0500
TZOFFSETTO:-0400
TZNAME:EDT
DTSTART:20250309T070000
END:DAYLIGHT
BEGIN:STANDARD
TZOFFSETFROM:-0400
TZOFFSETTO:-0500
TZNAME:EST
DTSTART:20251102T060000
END:STANDARD
BEGIN:DAYLIGHT
TZOFFSETFROM:-0500
TZOFFSETTO:-0400
TZNAME:EDT
DTSTART:20260308T070000
END:DAYLIGHT
BEGIN:STANDARD
TZOFFSETFROM:-0400
TZOFFSETTO:-0500
TZNAME:EST
DTSTART:20261101T060000
END:STANDARD
BEGIN:DAYLIGHT
TZOFFSETFROM:-0500
TZOFFSETTO:-0400
TZNAME:EDT
DTSTART:20270314T070000
END:DAYLIGHT
BEGIN:STANDARD
TZOFFSETFROM:-0400
TZOFFSETTO:-0500
TZNAME:EST
DTSTART:20271107T060000
END:STANDARD
END:VTIMEZONE
BEGIN:VEVENT
DTSTART;TZID=America/New_York:20260319T190000
DTEND;TZID=America/New_York:20260319T200000
DTSTAMP:20260422T041613
CREATED:20260312T192259Z
LAST-MODIFIED:20260312T194130Z
UID:10000988-1773946800-1773950400@fortmitchell.com
SUMMARY:Garden Club Meeting
DESCRIPTION:Garden Club Meeting\nMeet Steve Foltz\, Cincinnati Zoo & Botanical Garden Director of Horticulture\nTopic – Landscaping for Homeowners (flowers\, plants\, shrubs\, trees and more)\nThursday\, March 19\, 2026\n7:00pm\nLakeside Park City Building (Council Chamber)\n9 Buttermilk Pike\nLakeside Park\, KY 41017
URL:https://fortmitchell.com/event/garden-club-meeting-25/
LOCATION:Lakeside Park City Building\, 9 Buttermilk Pike\, Lakeside Park\, KY\, 41017\, United States
ATTACH;FMTTYPE=image/jpeg:https://fortmitchell.com/wp-content/uploads/2026/03/Flowers-plants-shrubs-trees-1.jpg
ORGANIZER;CN="Joe Christofield":MAILTO:jchristofield@fortmitchell.com
END:VEVENT
BEGIN:VEVENT
DTSTART;TZID=America/New_York:20260219T190000
DTEND;TZID=America/New_York:20260219T200000
DTSTAMP:20260422T041613
CREATED:20260217T200228Z
LAST-MODIFIED:20260219T181444Z
UID:10000977-1771527600-1771531200@fortmitchell.com
SUMMARY:CANCELED Fort Mitchell Garden Club Meeting
DESCRIPTION:Due to predicted severe weather for this evening the Garden Club meeting has been CANCELED.\n\nFort Mitchell Garden Club Meeting\nTopic – Growing\, the Uses for Herbs & Preserving Them\nThursday\, February 19\, 2026\n7:00pm\nLakeside Park City Building\n9 Buttermilk Pike\nLakeside Park\, KY 41017
URL:https://fortmitchell.com/event/fort-mitchell-garden-club-meeting-5/
LOCATION:Lakeside Park City Building\, 9 Buttermilk Pike\, Lakeside Park\, KY\, 41017\, United States
ATTACH;FMTTYPE=image/jpeg:https://fortmitchell.com/wp-content/uploads/2026/02/Garden-club-Feb-mtg-CANCELED.jpg
ORGANIZER;CN="Joe Christofield":MAILTO:jchristofield@fortmitchell.com
END:VEVENT
BEGIN:VEVENT
DTSTART;TZID=America/New_York:20260115T190000
DTEND;TZID=America/New_York:20260115T200000
DTSTAMP:20260422T041613
CREATED:20260112T142925Z
LAST-MODIFIED:20260112T142925Z
UID:10000927-1768503600-1768507200@fortmitchell.com
SUMMARY:Fort Mitchell Garden Club Meeting
DESCRIPTION:Fort Mitchell Garden Club Meeting\nTopic – Milk Jug Sowing\nThursday\, January 15\, 2026\n7:00pm\nLakeside Park City Building (Council Chamber)\n9 Buttermilk Pike\nLakeside Park\, KY 41017
URL:https://fortmitchell.com/event/fort-mitchell-garden-club-meeting-4/
LOCATION:Lakeside Park City Building\, 9 Buttermilk Pike\, Lakeside Park\, KY\, 41017\, United States
ATTACH;FMTTYPE=image/png:https://fortmitchell.com/wp-content/uploads/2026/01/Garden-club-meeting-2026.png
ORGANIZER;CN="Joe Christofield":MAILTO:jchristofield@fortmitchell.com
END:VEVENT
BEGIN:VEVENT
DTSTART;TZID=America/New_York:20250610T140000
DTEND;TZID=America/New_York:20250610T153000
DTSTAMP:20260422T041613
CREATED:20250218T144222Z
LAST-MODIFIED:20250220T155657Z
UID:10000787-1749564000-1749569400@fortmitchell.com
SUMMARY:Bingo 4 Seniors 55+ Luau
DESCRIPTION:Bingo 4 Seniors LuauTuesday\, June 102:00pm – 3:30pmLakeside Park City Building (Council Chamber)9 Buttermilk Pike\, Lakeside Park\, KY 41017 \nSnacks\, refreshments\, prizes for the winners! \n\nEvent is for Fort Mitchell & Lakeside Park residents. \nContact:City of Fort Mitchell Programs & Communications Coordinator Joe Christofieldjchristofield@fortmitchell.com 859.331.1212
URL:https://fortmitchell.com/event/bingo-4-seniors-55-luau-2/
LOCATION:Lakeside Park City Building\, 9 Buttermilk Pike\, Lakeside Park\, KY\, 41017\, United States
ATTACH;FMTTYPE=image/png:https://fortmitchell.com/wp-content/uploads/2025/02/City-of-Fort-Mitchell-Bingo-4-Seniors-55-6-10-25-Facebook-Cover.png
ORGANIZER;CN="Joe Christofield":MAILTO:jchristofield@fortmitchell.com
END:VEVENT
BEGIN:VEVENT
DTSTART;TZID=America/New_York:20241210T140000
DTEND;TZID=America/New_York:20241210T153000
DTSTAMP:20260422T041613
CREATED:20240221T172748Z
LAST-MODIFIED:20241101T201618Z
UID:10000611-1733839200-1733844600@fortmitchell.com
SUMMARY:St. Nick's Bingo 4 Seniors 55+ (Fort Mitchell & Lakeside Park Residents)
DESCRIPTION:St. Nick’s Bingo 4 Seniors 55+\n(Fort Mitchell & Lakeside Park Residents)\nTuesday\, December 10. 2024\n2:00pm – 3:30pm\nLakeside Park City Building\n9 Buttermilk Pike\, Lakeside Park\, KY 41017\n\nSnacks and refreshments will be served\, plus prizes for the winners!\n\nThis is a free event for residents of Fort Mitchell and Lakeside Park.
URL:https://fortmitchell.com/event/st-nicks-bingo-4-seniors-55/
LOCATION:Lakeside Park City Building\, 9 Buttermilk Pike\, Lakeside Park\, KY\, 41017\, United States
ATTACH;FMTTYPE=image/png:https://fortmitchell.com/wp-content/uploads/2024/11/City-of-Fort-Mitchell-Seniors-Bingo-12-10-24-Facebook-Cover.png
ORGANIZER;CN="Joe Christofield":MAILTO:jchristofield@fortmitchell.com
END:VEVENT
BEGIN:VEVENT
DTSTART;TZID=America/New_York:20240821T090000
DTEND;TZID=America/New_York:20240821T110000
DTSTAMP:20260422T041613
CREATED:20240418T131251Z
LAST-MODIFIED:20240515T190337Z
UID:10000664-1724230800-1724238000@fortmitchell.com
SUMMARY:Senior Resource Seminar (Meeting Your Healthcare Needs – Hospice vs Palliative Care)
DESCRIPTION:Senior Resource Seminar\nMeeting Your Healthcare Needs\n\n(Hospice vs Palliative Care)\nWednesday\, August 21\n9:00am – 11:00am\nLakeside Park City Building\n9 Buttermilk Pike\nLakeside Park\, KY 41017\n\n\n\n\n\nSpace is limited. Register for each seminar by emailing City of Fort Mitchell Programs & Communications Coordinator Joe Christofield at jchristofield@fortmitchell.com or by calling 859-331-1212.
URL:https://fortmitchell.com/event/senior-resource-seminar-meeting-your-healthcare-needs-hospice-vs-palliative-care/
LOCATION:Lakeside Park City Building\, 9 Buttermilk Pike\, Lakeside Park\, KY\, 41017\, United States
ATTACH;FMTTYPE=image/png:https://fortmitchell.com/wp-content/uploads/2024/04/Senior-Resource-Seminar-Schedule-2024.png
ORGANIZER;CN="Joe Christofield":MAILTO:jchristofield@fortmitchell.com
END:VEVENT
BEGIN:VEVENT
DTSTART;TZID=America/New_York:20240619T090000
DTEND;TZID=America/New_York:20240619T110000
DTSTAMP:20260422T041613
CREATED:20240418T130703Z
LAST-MODIFIED:20240418T130842Z
UID:10000662-1718787600-1718794800@fortmitchell.com
SUMMARY:Senior Resource Seminar (Caring For Yourself While Aging – Dementia\, Diabetes\, COPD\, Epilepsy)
DESCRIPTION:Senior Resource Seminar\nCaring For Yourself While Aging\n\n(Dementia\, Diabetes\, COPD\, Epilepsy)\nWednesday\, June 19\n9:00am – 11:00am\nLakeside Park City Building\n9 Buttermilk Pike\nLakeside Park\, KY 41017\n\n\n\n\nSpace is limited. Register for each seminar by emailing City of Fort Mitchell Programs & Communications Coordinator Joe Christofield at jchristofield@fortmitchell.com or by calling 859-331-1212.
URL:https://fortmitchell.com/event/senior-resource-seminar-caring-for-yourself-while-aging-dementia-diabetes-copd-epilepsy/
LOCATION:Lakeside Park City Building\, 9 Buttermilk Pike\, Lakeside Park\, KY\, 41017\, United States
ATTACH;FMTTYPE=image/png:https://fortmitchell.com/wp-content/uploads/2024/04/Senior-Resource-Seminar-Schedule-2024.png
ORGANIZER;CN="Joe Christofield":MAILTO:jchristofield@fortmitchell.com
END:VEVENT
BEGIN:VEVENT
DTSTART;TZID=America/New_York:20240611T140000
DTEND;TZID=America/New_York:20240611T153000
DTSTAMP:20260422T041613
CREATED:20240126T205157Z
LAST-MODIFIED:20240524T190722Z
UID:10000582-1718114400-1718119800@fortmitchell.com
SUMMARY:Bingo 4 Seniors 55+ Luau
DESCRIPTION:Bingo 4 Seniors 55+ Luau\nTuesday\, June 11\, 2024\n2:00pm – 3:30pm\nLakeside Park City Building (Council Chamber)\n9 Buttermilk Pike\nLakeside Park\, KY 41017\nFort Mitchell & Lakeside Park Residents
URL:https://fortmitchell.com/event/bingo-4-seniors-55-luau/
LOCATION:Lakeside Park City Building\, 9 Buttermilk Pike\, Lakeside Park\, KY\, 41017\, United States
ATTACH;FMTTYPE=image/png:https://fortmitchell.com/wp-content/uploads/2024/01/City-of-Fort-Mitchell-Bingo-4-Seniors-55-6-11-24-Website.png
ORGANIZER;CN="Joe Christofield":MAILTO:jchristofield@fortmitchell.com
END:VEVENT
BEGIN:VEVENT
DTSTART;TZID=America/New_York:20240516T190000
DTEND;TZID=America/New_York:20240516T210000
DTSTAMP:20260422T041613
CREATED:20240119T122625Z
LAST-MODIFIED:20240509T143450Z
UID:10000571-1715886000-1715893200@fortmitchell.com
SUMMARY:Garden Club Meeting
DESCRIPTION:Fort Mitchell Garden Club Meeting\nThursday\, May 16\, 2024\n7:00pm\nLakeside Park City Building\n9 Buttermilk Pike\nLakeside Park\, KY 41017
URL:https://fortmitchell.com/event/garden-club-meeting-18/
LOCATION:Lakeside Park City Building\, 9 Buttermilk Pike\, Lakeside Park\, KY\, 41017\, United States
ATTACH;FMTTYPE=image/png:https://fortmitchell.com/wp-content/uploads/2024/01/City-of-Fort-Mitchell-Garden-Club-Invitation-5-16-24.png
ORGANIZER;CN="Joe Christofield":MAILTO:jchristofield@fortmitchell.com
END:VEVENT
BEGIN:VEVENT
DTSTART;TZID=America/New_York:20231205T140000
DTEND;TZID=America/New_York:20231205T153000
DTSTAMP:20260422T041613
CREATED:20230302T200015Z
LAST-MODIFIED:20231102T150321Z
UID:10000366-1701784800-1701790200@fortmitchell.com
SUMMARY:St. Nick's Bingo 4 Seniors (Fort Mitchell & Lakeside Park Residents)
DESCRIPTION:St. Nick’s Bingo 4 Seniors (Fort Mitchell & Lakeside Park Residents)\nTuesday\, December 5. 2023\n2:00pm – 3:30pm\nLakeside Park City Building\n9 Buttermilk Pike\, Lakeside Park\, KY 41017 \nSnacks and refreshments will be served\, plus prizes for the winners! \nThis is a free event for residents of Fort Mitchell and Lakeside Park. \nFor more information\, email City of Fort Mitchell Programs and Communications Coordinator Joe Christofield at jchristofield@fortmitchell.com or call 859.331.1212.
URL:https://fortmitchell.com/event/st-nicks-bingo-4-seniors-fort-mitchell-lakeside-park-residents/
LOCATION:Lakeside Park City Building\, 9 Buttermilk Pike\, Lakeside Park\, KY\, 41017\, United States
ATTACH;FMTTYPE=image/png:https://fortmitchell.com/wp-content/uploads/2023/03/City-of-Fort-Mitchell-Seniors-Bingo-12-5-23-Facebook-Cover.png
ORGANIZER;CN="Joe Christofield":MAILTO:jchristofield@fortmitchell.com
END:VEVENT
BEGIN:VEVENT
DTSTART;TZID=America/New_York:20231116T190000
DTEND;TZID=America/New_York:20231116T210000
DTSTAMP:20260422T041613
CREATED:20230106T152801Z
LAST-MODIFIED:20231102T122914Z
UID:10000337-1700161200-1700168400@fortmitchell.com
SUMMARY:Garden Club Meeting
DESCRIPTION:
URL:https://fortmitchell.com/event/garden-club-meeting-13/
LOCATION:Lakeside Park City Building\, 9 Buttermilk Pike\, Lakeside Park\, KY\, 41017\, United States
ATTACH;FMTTYPE=image/png:https://fortmitchell.com/wp-content/uploads/2023/01/City-of-Fort-Mitchell-Garden-Club-Invitation-11-16-23.png
ORGANIZER;CN="Joe Christofield":MAILTO:jchristofield@fortmitchell.com
END:VEVENT
BEGIN:VEVENT
DTSTART;TZID=America/New_York:20230606T140000
DTEND;TZID=America/New_York:20230606T153000
DTSTAMP:20260422T041613
CREATED:20230302T195904Z
LAST-MODIFIED:20230517T204644Z
UID:10000365-1686060000-1686065400@fortmitchell.com
SUMMARY:Bingo 4 Seniors Luau (Fort Mitchell & Lakeside Park Residents)
DESCRIPTION:
URL:https://fortmitchell.com/event/bingo-4-seniors-fort-mitchell-lakeside-park-residents-2/
LOCATION:Lakeside Park City Building\, 9 Buttermilk Pike\, Lakeside Park\, KY\, 41017\, United States
ATTACH;FMTTYPE=image/png:https://fortmitchell.com/wp-content/uploads/2023/03/City-of-Fort-Mitchell-Seniors-Bingo-6-6-23-Facebook-Cover-1.png
ORGANIZER;CN="Joe Christofield":MAILTO:jchristofield@fortmitchell.com
END:VEVENT
BEGIN:VEVENT
DTSTART;TZID=America/New_York:20230420T180000
DTEND;TZID=America/New_York:20230420T200000
DTSTAMP:20260422T041613
CREATED:20230106T152303Z
LAST-MODIFIED:20230331T141525Z
UID:10000330-1682013600-1682020800@fortmitchell.com
SUMMARY:Garden Club Meeting
DESCRIPTION:You’re invited to the Fort Mitchell Garden Club Meeting on Thursday\, April 20 at 6:00pm at the Lakeside Park City Building (9 Buttermilk Pike\, Lakeside Park\, KY 41017).\n\n\n \n\n\nTechniques of Tool Sharpening\n\n\n \n\n\nNext Fort Mitchell Garden Club Meeting: \n\n\nThursday\, May 18\, 2023\n\n\n7:00pm\n\n\nFort Mitchell City Building (Council Chamber)\n\n\n2355 Dixie Highway\, Fort Mitchell\, KY 41017
URL:https://fortmitchell.com/event/garden-club-meeting-6/
LOCATION:Lakeside Park City Building\, 9 Buttermilk Pike\, Lakeside Park\, KY\, 41017\, United States
ATTACH;FMTTYPE=image/png:https://fortmitchell.com/wp-content/uploads/2023/01/City-of-Fort-Mitchell-Garden-Club-Invitation-2023.png
ORGANIZER;CN="Joe Christofield":MAILTO:jchristofield@fortmitchell.com
END:VEVENT
BEGIN:VEVENT
DTSTART;TZID=America/New_York:20221208T140000
DTEND;TZID=America/New_York:20221208T153000
DTSTAMP:20260422T041613
CREATED:20221104T202438Z
LAST-MODIFIED:20221123T151018Z
UID:10000284-1670508000-1670513400@fortmitchell.com
SUMMARY:St. Nick's Senior Bingo
DESCRIPTION:St. Nick’s Senior Bingo\nThursday\, December 8\n2:00pm – 3:30pm\nLakeside Park City Building\nFort Mitchell & Lakeside Park Senior Residents
URL:https://fortmitchell.com/event/st-nicks-senior-bingo/
LOCATION:Lakeside Park City Building\, 9 Buttermilk Pike\, Lakeside Park\, KY\, 41017\, United States
ATTACH;FMTTYPE=image/png:https://fortmitchell.com/wp-content/uploads/2022/11/City-of-Fort-Mitchell-St.-Nicks-Senior-Bingo-12-8-22-Facebook-Cover.png
ORGANIZER;CN="Joe Christofield":MAILTO:jchristofield@fortmitchell.com
END:VEVENT
BEGIN:VEVENT
DTSTART;TZID=America/New_York:20220615T140000
DTEND;TZID=America/New_York:20220615T153000
DTSTAMP:20260422T041613
CREATED:20220324T195351Z
LAST-MODIFIED:20220418T195510Z
UID:10000160-1655301600-1655307000@fortmitchell.com
SUMMARY:Bingo 4 Seniors 55+
DESCRIPTION:The cities of Fort Mitchell and Lakeside Park will co-host Bingo 4 Seniors 55+ on Wednesday\, June 15 at 2:00pm at the Lakeside Park City Building\, 9 Buttermilk Pike\, Lakeside Park\, KY 41017. Snacks and refreshments will be served\, plus prizes for the winners! This is a free event for residents of Fort Mitchell and Lakeside Park.
URL:https://fortmitchell.com/event/bingo-4-seniors-55-2/
LOCATION:Lakeside Park City Building\, 9 Buttermilk Pike\, Lakeside Park\, KY\, 41017\, United States
ATTACH;FMTTYPE=image/png:https://fortmitchell.com/wp-content/uploads/2022/03/City-of-Fort-Mitchell-Seniors-Bingo-6-15-22-Facebook.png
ORGANIZER;CN="Joe Christofield":MAILTO:jchristofield@fortmitchell.com
END:VEVENT
END:VCALENDAR