BEGIN:VCALENDAR
VERSION:2.0
PRODID:-//City of Fort Mitchell KY - ECPv6.15.20//NONSGML v1.0//EN
CALSCALE:GREGORIAN
METHOD:PUBLISH
X-WR-CALNAME:City of Fort Mitchell KY
X-ORIGINAL-URL:https://fortmitchell.com
X-WR-CALDESC:Events for City of Fort Mitchell KY
REFRESH-INTERVAL;VALUE=DURATION:PT1H
X-Robots-Tag:noindex
X-PUBLISHED-TTL:PT1H
BEGIN:VTIMEZONE
TZID:America/New_York
BEGIN:DAYLIGHT
TZOFFSETFROM:-0500
TZOFFSETTO:-0400
TZNAME:EDT
DTSTART:20230312T070000
END:DAYLIGHT
BEGIN:STANDARD
TZOFFSETFROM:-0400
TZOFFSETTO:-0500
TZNAME:EST
DTSTART:20231105T060000
END:STANDARD
BEGIN:DAYLIGHT
TZOFFSETFROM:-0500
TZOFFSETTO:-0400
TZNAME:EDT
DTSTART:20240310T070000
END:DAYLIGHT
BEGIN:STANDARD
TZOFFSETFROM:-0400
TZOFFSETTO:-0500
TZNAME:EST
DTSTART:20241103T060000
END:STANDARD
BEGIN:DAYLIGHT
TZOFFSETFROM:-0500
TZOFFSETTO:-0400
TZNAME:EDT
DTSTART:20250309T070000
END:DAYLIGHT
BEGIN:STANDARD
TZOFFSETFROM:-0400
TZOFFSETTO:-0500
TZNAME:EST
DTSTART:20251102T060000
END:STANDARD
END:VTIMEZONE
BEGIN:VEVENT
DTSTART;VALUE=DATE:20240503
DTEND;VALUE=DATE:20240504
DTSTAMP:20260423T112006
CREATED:20240108T171013Z
LAST-MODIFIED:20240314T191332Z
UID:10000558-1714694400-1714780799@fortmitchell.com
SUMMARY:City of Fort Mitchell Golf Outing
DESCRIPTION:City of Fort Mitchell Golf OutingFriday\, May 3\, 20249:00am (Shotgun Start)Kenton County Pioneer Golf Course3908 Richardson RoadIndependence\, KY 41051 \nCity of Fort Mitchell Golf Outing Flyer 5-3-24 \nRegistration Fee:Team (4): $400Individual: $100 \nRegister:https://docs.google.com/…/1FAIpQLSf1QJQ0U2E…/viewform… \nDeadline:Friday\, April 19\, 2024 \nSponsorship:Main Entry Sponsor: $300(Company Name & Logo @ Main Entry) \nHole Sponsor: $150(Company Name @ Hole) \nProceeds:DCCH Center For Children & Families to help purchase new shelter roofs \nContact:City of Fort Mitchell Programs & Communications Coordinator Joe Christofield at jchristofield@fortmitchell.com or at 859-331-1212
URL:https://fortmitchell.com/event/raise-the-roof-fore-dcch-golf-outing/
LOCATION:Pioneer Golf Course\, 3908 Richardson Road\, Independence\, KY\, 41051\, United States
ATTACH;FMTTYPE=image/png:https://fortmitchell.com/wp-content/uploads/2024/01/City-of-Fort-Mitchell-Golf-Outing-Flyer-5-3-24-1.png
ORGANIZER;CN="Joe Christofield":MAILTO:jchristofield@fortmitchell.com
END:VEVENT
END:VCALENDAR